BEGIN:VCALENDAR
VERSION:2.0
PRODID:-//Christ Congregational Church, UCC - ECPv6.15.20//NONSGML v1.0//EN
CALSCALE:GREGORIAN
METHOD:PUBLISH
X-ORIGINAL-URL:https://brocktonucc.org
X-WR-CALDESC:Events for Christ Congregational Church, UCC
REFRESH-INTERVAL;VALUE=DURATION:PT1H
X-Robots-Tag:noindex
X-PUBLISHED-TTL:PT1H
BEGIN:VTIMEZONE
TZID:America/New_York
BEGIN:DAYLIGHT
TZOFFSETFROM:-0500
TZOFFSETTO:-0400
TZNAME:EDT
DTSTART:20240310T070000
END:DAYLIGHT
BEGIN:STANDARD
TZOFFSETFROM:-0400
TZOFFSETTO:-0500
TZNAME:EST
DTSTART:20241103T060000
END:STANDARD
BEGIN:DAYLIGHT
TZOFFSETFROM:-0500
TZOFFSETTO:-0400
TZNAME:EDT
DTSTART:20250309T070000
END:DAYLIGHT
BEGIN:STANDARD
TZOFFSETFROM:-0400
TZOFFSETTO:-0500
TZNAME:EST
DTSTART:20251102T060000
END:STANDARD
BEGIN:DAYLIGHT
TZOFFSETFROM:-0500
TZOFFSETTO:-0400
TZNAME:EDT
DTSTART:20260308T070000
END:DAYLIGHT
BEGIN:STANDARD
TZOFFSETFROM:-0400
TZOFFSETTO:-0500
TZNAME:EST
DTSTART:20261101T060000
END:STANDARD
END:VTIMEZONE
BEGIN:VEVENT
DTSTART;TZID=America/New_York:20251228T100000
DTEND;TZID=America/New_York:20251228T110000
DTSTAMP:20260423T193407
CREATED:20250818T145624Z
LAST-MODIFIED:20250923T161351Z
UID:15301-1766916000-1766919600@brocktonucc.org
SUMMARY:Worship
DESCRIPTION:
URL:https://brocktonucc.org/event/worship-2/2025-12-28/
LOCATION:Sanctuary\, 1350 PLEASANT ST\, BROCKTON\, MA\, 02301-2897\, United States
END:VEVENT
BEGIN:VEVENT
DTSTART;TZID=America/New_York:20251221T100000
DTEND;TZID=America/New_York:20251221T110000
DTSTAMP:20260423T193407
CREATED:20250818T145624Z
LAST-MODIFIED:20251007T175726Z
UID:15300-1766311200-1766314800@brocktonucc.org
SUMMARY:Worship w/Christmas Pageant
DESCRIPTION:
URL:https://brocktonucc.org/event/worship-2-2025-12-21/
LOCATION:Sanctuary\, 1350 PLEASANT ST\, BROCKTON\, MA\, 02301-2897\, United States
END:VEVENT
BEGIN:VEVENT
DTSTART;TZID=America/New_York:20251214T100000
DTEND;TZID=America/New_York:20251214T110000
DTSTAMP:20260423T193407
CREATED:20250818T145624Z
LAST-MODIFIED:20250923T161350Z
UID:15299-1765706400-1765710000@brocktonucc.org
SUMMARY:Worship
DESCRIPTION:
URL:https://brocktonucc.org/event/worship-2/2025-12-14/
LOCATION:Sanctuary\, 1350 PLEASANT ST\, BROCKTON\, MA\, 02301-2897\, United States
END:VEVENT
BEGIN:VEVENT
DTSTART;TZID=America/New_York:20251207T100000
DTEND;TZID=America/New_York:20251207T110000
DTSTAMP:20260423T193407
CREATED:20250818T145624Z
LAST-MODIFIED:20250923T161349Z
UID:15298-1765101600-1765105200@brocktonucc.org
SUMMARY:Worship
DESCRIPTION:
URL:https://brocktonucc.org/event/worship-2/2025-12-07/
LOCATION:Sanctuary\, 1350 PLEASANT ST\, BROCKTON\, MA\, 02301-2897\, United States
END:VEVENT
BEGIN:VEVENT
DTSTART;TZID=America/New_York:20251130T100000
DTEND;TZID=America/New_York:20251130T110000
DTSTAMP:20260423T193407
CREATED:20250818T145624Z
LAST-MODIFIED:20250923T161349Z
UID:15297-1764496800-1764500400@brocktonucc.org
SUMMARY:Worship
DESCRIPTION:
URL:https://brocktonucc.org/event/worship-2/2025-11-30/
LOCATION:Sanctuary\, 1350 PLEASANT ST\, BROCKTON\, MA\, 02301-2897\, United States
END:VEVENT
BEGIN:VEVENT
DTSTART;TZID=America/New_York:20251123T100000
DTEND;TZID=America/New_York:20251123T110000
DTSTAMP:20260423T193407
CREATED:20250818T145624Z
LAST-MODIFIED:20250923T161349Z
UID:15296-1763892000-1763895600@brocktonucc.org
SUMMARY:Worship
DESCRIPTION:
URL:https://brocktonucc.org/event/worship-2/2025-11-23/
LOCATION:Sanctuary\, 1350 PLEASANT ST\, BROCKTON\, MA\, 02301-2897\, United States
END:VEVENT
BEGIN:VEVENT
DTSTART;TZID=America/New_York:20251116T100000
DTEND;TZID=America/New_York:20251116T110000
DTSTAMP:20260423T193407
CREATED:20250818T145624Z
LAST-MODIFIED:20250923T161348Z
UID:15295-1763287200-1763290800@brocktonucc.org
SUMMARY:Worship
DESCRIPTION:
URL:https://brocktonucc.org/event/worship-2/2025-11-16/
LOCATION:Sanctuary\, 1350 PLEASANT ST\, BROCKTON\, MA\, 02301-2897\, United States
END:VEVENT
BEGIN:VEVENT
DTSTART;TZID=America/New_York:20251109T100000
DTEND;TZID=America/New_York:20251109T110000
DTSTAMP:20260423T193407
CREATED:20250818T145624Z
LAST-MODIFIED:20250923T161348Z
UID:15294-1762682400-1762686000@brocktonucc.org
SUMMARY:Worship
DESCRIPTION:
URL:https://brocktonucc.org/event/worship-2/2025-11-09/
LOCATION:Sanctuary\, 1350 PLEASANT ST\, BROCKTON\, MA\, 02301-2897\, United States
END:VEVENT
BEGIN:VEVENT
DTSTART;TZID=America/New_York:20251102T100000
DTEND;TZID=America/New_York:20251102T110000
DTSTAMP:20260423T193407
CREATED:20250818T145624Z
LAST-MODIFIED:20250923T161344Z
UID:15292-1762077600-1762081200@brocktonucc.org
SUMMARY:Worship
DESCRIPTION:
URL:https://brocktonucc.org/event/worship-2/2025-11-02/
LOCATION:Sanctuary\, 1350 PLEASANT ST\, BROCKTON\, MA\, 02301-2897\, United States
END:VEVENT
BEGIN:VEVENT
DTSTART;TZID=America/New_York:20251026T100000
DTEND;TZID=America/New_York:20251026T110000
DTSTAMP:20260423T193407
CREATED:20250818T145624Z
LAST-MODIFIED:20250923T161344Z
UID:15291-1761472800-1761476400@brocktonucc.org
SUMMARY:Worship
DESCRIPTION:
URL:https://brocktonucc.org/event/worship-2/2025-10-26/
LOCATION:Sanctuary\, 1350 PLEASANT ST\, BROCKTON\, MA\, 02301-2897\, United States
END:VEVENT
BEGIN:VEVENT
DTSTART;TZID=America/New_York:20251019T100000
DTEND;TZID=America/New_York:20251019T110000
DTSTAMP:20260423T193407
CREATED:20250818T145624Z
LAST-MODIFIED:20250923T161343Z
UID:15290-1760868000-1760871600@brocktonucc.org
SUMMARY:Worship
DESCRIPTION:
URL:https://brocktonucc.org/event/worship-2/2025-10-19/
LOCATION:Sanctuary\, 1350 PLEASANT ST\, BROCKTON\, MA\, 02301-2897\, United States
END:VEVENT
BEGIN:VEVENT
DTSTART;TZID=America/New_York:20251012T100000
DTEND;TZID=America/New_York:20251012T110000
DTSTAMP:20260423T193407
CREATED:20250818T145624Z
LAST-MODIFIED:20250923T161343Z
UID:15289-1760263200-1760266800@brocktonucc.org
SUMMARY:Worship
DESCRIPTION:
URL:https://brocktonucc.org/event/worship-2/2025-10-12/
LOCATION:Sanctuary\, 1350 PLEASANT ST\, BROCKTON\, MA\, 02301-2897\, United States
END:VEVENT
BEGIN:VEVENT
DTSTART;TZID=America/New_York:20251005T100000
DTEND;TZID=America/New_York:20251005T110000
DTSTAMP:20260423T193407
CREATED:20250818T145624Z
LAST-MODIFIED:20250923T161342Z
UID:15288-1759658400-1759662000@brocktonucc.org
SUMMARY:Worship
DESCRIPTION:
URL:https://brocktonucc.org/event/worship-2/2025-10-05/
LOCATION:Sanctuary\, 1350 PLEASANT ST\, BROCKTON\, MA\, 02301-2897\, United States
END:VEVENT
BEGIN:VEVENT
DTSTART;TZID=America/New_York:20250928T100000
DTEND;TZID=America/New_York:20250928T110000
DTSTAMP:20260423T193407
CREATED:20250818T145624Z
LAST-MODIFIED:20250923T161342Z
UID:15287-1759053600-1759057200@brocktonucc.org
SUMMARY:Worship
DESCRIPTION:
URL:https://brocktonucc.org/event/worship-2/2025-09-28/
LOCATION:Sanctuary\, 1350 PLEASANT ST\, BROCKTON\, MA\, 02301-2897\, United States
END:VEVENT
BEGIN:VEVENT
DTSTART;TZID=America/New_York:20250921T100000
DTEND;TZID=America/New_York:20250921T110000
DTSTAMP:20260423T193407
CREATED:20250818T145624Z
LAST-MODIFIED:20250923T161341Z
UID:15286-1758448800-1758452400@brocktonucc.org
SUMMARY:Worship
DESCRIPTION:
URL:https://brocktonucc.org/event/worship-2/2025-09-21/
LOCATION:Sanctuary\, 1350 PLEASANT ST\, BROCKTON\, MA\, 02301-2897\, United States
END:VEVENT
BEGIN:VEVENT
DTSTART;TZID=America/New_York:20250914T100000
DTEND;TZID=America/New_York:20250914T110000
DTSTAMP:20260423T193407
CREATED:20250818T145624Z
LAST-MODIFIED:20250923T161341Z
UID:15285-1757844000-1757847600@brocktonucc.org
SUMMARY:Worship
DESCRIPTION:
URL:https://brocktonucc.org/event/worship-2/2025-09-14/
LOCATION:Sanctuary\, 1350 PLEASANT ST\, BROCKTON\, MA\, 02301-2897\, United States
END:VEVENT
BEGIN:VEVENT
DTSTART;TZID=America/New_York:20250907T100000
DTEND;TZID=America/New_York:20250907T110000
DTSTAMP:20260423T193407
CREATED:20250818T145624Z
LAST-MODIFIED:20250923T161341Z
UID:15284-1757239200-1757242800@brocktonucc.org
SUMMARY:Worship
DESCRIPTION:
URL:https://brocktonucc.org/event/worship-2/2025-09-07/
LOCATION:Sanctuary\, 1350 PLEASANT ST\, BROCKTON\, MA\, 02301-2897\, United States
END:VEVENT
BEGIN:VEVENT
DTSTART;TZID=America/New_York:20250831T100000
DTEND;TZID=America/New_York:20250831T110000
DTSTAMP:20260423T193407
CREATED:20250818T145624Z
LAST-MODIFIED:20250923T161340Z
UID:15283-1756634400-1756638000@brocktonucc.org
SUMMARY:Worship
DESCRIPTION:
URL:https://brocktonucc.org/event/worship-2/2025-08-31/
LOCATION:Sanctuary\, 1350 PLEASANT ST\, BROCKTON\, MA\, 02301-2897\, United States
END:VEVENT
BEGIN:VEVENT
DTSTART;TZID=America/New_York:20250824T100000
DTEND;TZID=America/New_York:20250824T110000
DTSTAMP:20260423T193407
CREATED:20250818T145624Z
LAST-MODIFIED:20250923T161340Z
UID:15281-1756029600-1756033200@brocktonucc.org
SUMMARY:Worship
DESCRIPTION:
URL:https://brocktonucc.org/event/worship-2/2025-08-24/
LOCATION:Sanctuary\, 1350 PLEASANT ST\, BROCKTON\, MA\, 02301-2897\, United States
END:VEVENT
END:VCALENDAR