BEGIN:VCALENDAR
VERSION:2.0
PRODID:-//Christ Congregational Church, UCC - ECPv6.15.20//NONSGML v1.0//EN
CALSCALE:GREGORIAN
METHOD:PUBLISH
X-ORIGINAL-URL:https://brocktonucc.org
X-WR-CALDESC:Events for Christ Congregational Church, UCC
REFRESH-INTERVAL;VALUE=DURATION:PT1H
X-Robots-Tag:noindex
X-PUBLISHED-TTL:PT1H
BEGIN:VTIMEZONE
TZID:UTC
BEGIN:STANDARD
TZOFFSETFROM:+0000
TZOFFSETTO:+0000
TZNAME:UTC
DTSTART:20190101T000000
END:STANDARD
END:VTIMEZONE
BEGIN:VEVENT
DTSTART;TZID=UTC:20260409T190000
DTEND;TZID=UTC:20260409T203000
DTSTAMP:20260423T161851
CREATED:20170923T002759Z
LAST-MODIFIED:20260326T170115Z
UID:15806-1775761200-1775766600@brocktonucc.org
SUMMARY:Deacons Committee Meeting (Zoom)
DESCRIPTION:
URL:https://brocktonucc.org/event/deacons-2025-09-04-2026-04-02/
LOCATION:Christ Congregational Church\, 1350 PLEASANT STREET\, Brockton\, MA\, 02301\, United States
END:VEVENT
BEGIN:VEVENT
DTSTART;TZID=UTC:20260305T190000
DTEND;TZID=UTC:20260305T203000
DTSTAMP:20260423T161851
CREATED:20170923T002759Z
LAST-MODIFIED:20251120T172719Z
UID:15805-1772737200-1772742600@brocktonucc.org
SUMMARY:Deacons Committee Meeting (Zoom)
DESCRIPTION:
URL:https://brocktonucc.org/event/deacons-2025-09-04/2026-03-05/
LOCATION:Christ Congregational Church\, 1350 PLEASANT STREET\, Brockton\, MA\, 02301\, United States
END:VEVENT
BEGIN:VEVENT
DTSTART;TZID=UTC:20260205T190000
DTEND;TZID=UTC:20260205T203000
DTSTAMP:20260423T161851
CREATED:20170923T002759Z
LAST-MODIFIED:20251120T172718Z
UID:15804-1770318000-1770323400@brocktonucc.org
SUMMARY:Deacons Committee Meeting (Zoom)
DESCRIPTION:
URL:https://brocktonucc.org/event/deacons-2025-09-04/2026-02-05/
LOCATION:Christ Congregational Church\, 1350 PLEASANT STREET\, Brockton\, MA\, 02301\, United States
END:VEVENT
BEGIN:VEVENT
DTSTART;TZID=UTC:20260108T190000
DTEND;TZID=UTC:20260108T203000
DTSTAMP:20260423T161851
CREATED:20170923T002759Z
LAST-MODIFIED:20251202T150530Z
UID:15803-1767898800-1767904200@brocktonucc.org
SUMMARY:Deacons Committee Meeting (Zoom)
DESCRIPTION:
URL:https://brocktonucc.org/event/deacons-2025-09-04-2026-01-01/
LOCATION:Christ Congregational Church\, 1350 PLEASANT STREET\, Brockton\, MA\, 02301\, United States
END:VEVENT
BEGIN:VEVENT
DTSTART;TZID=UTC:20251106T190000
DTEND;TZID=UTC:20251106T203000
DTSTAMP:20260423T161851
CREATED:20170923T002759Z
LAST-MODIFIED:20251120T172716Z
UID:15802-1762455600-1762461000@brocktonucc.org
SUMMARY:Deacons Committee Meeting (Zoom)
DESCRIPTION:
URL:https://brocktonucc.org/event/deacons-2025-09-04/2025-11-06/
LOCATION:Christ Congregational Church\, 1350 PLEASANT STREET\, Brockton\, MA\, 02301\, United States
END:VEVENT
BEGIN:VEVENT
DTSTART;TZID=UTC:20251002T190000
DTEND;TZID=UTC:20251002T203000
DTSTAMP:20260423T161851
CREATED:20170923T002759Z
LAST-MODIFIED:20251120T172716Z
UID:15801-1759431600-1759437000@brocktonucc.org
SUMMARY:Deacons Committee Meeting (Zoom)
DESCRIPTION:
URL:https://brocktonucc.org/event/deacons-2025-09-04/2025-10-02/
LOCATION:Christ Congregational Church\, 1350 PLEASANT STREET\, Brockton\, MA\, 02301\, United States
END:VEVENT
BEGIN:VEVENT
DTSTART;TZID=UTC:20250904T190000
DTEND;TZID=UTC:20250904T203000
DTSTAMP:20260423T161851
CREATED:20170923T002759Z
LAST-MODIFIED:20251120T172716Z
UID:15254-1757012400-1757017800@brocktonucc.org
SUMMARY:Deacons Committee Meeting (Zoom)
DESCRIPTION:
URL:https://brocktonucc.org/event/deacons-2025-09-04/2025-09-04/
LOCATION:Christ Congregational Church\, 1350 PLEASANT STREET\, Brockton\, MA\, 02301\, United States
END:VEVENT
BEGIN:VEVENT
DTSTART;TZID=UTC:20250807T190000
DTEND;TZID=UTC:20250807T203000
DTSTAMP:20260423T161851
CREATED:20170923T002759Z
LAST-MODIFIED:20170923T002759Z
UID:15253-1754593200-1754598600@brocktonucc.org
SUMMARY:Deacons
DESCRIPTION:
URL:https://brocktonucc.org/event/deacons/2025-08-07/
LOCATION:Christ Congregational Church\, 1350 PLEASANT STREET\, Brockton\, MA\, 02301\, United States
END:VEVENT
BEGIN:VEVENT
DTSTART;TZID=UTC:20250703T190000
DTEND;TZID=UTC:20250703T203000
DTSTAMP:20260423T161851
CREATED:20170923T002759Z
LAST-MODIFIED:20170923T002759Z
UID:15252-1751569200-1751574600@brocktonucc.org
SUMMARY:Deacons
DESCRIPTION:
URL:https://brocktonucc.org/event/deacons/2025-07-03/
LOCATION:Christ Congregational Church\, 1350 PLEASANT STREET\, Brockton\, MA\, 02301\, United States
END:VEVENT
BEGIN:VEVENT
DTSTART;TZID=UTC:20250605T190000
DTEND;TZID=UTC:20250605T203000
DTSTAMP:20260423T161851
CREATED:20170923T002759Z
LAST-MODIFIED:20170923T002759Z
UID:15251-1749150000-1749155400@brocktonucc.org
SUMMARY:Deacons
DESCRIPTION:
URL:https://brocktonucc.org/event/deacons/2025-06-05/
LOCATION:Christ Congregational Church\, 1350 PLEASANT STREET\, Brockton\, MA\, 02301\, United States
END:VEVENT
BEGIN:VEVENT
DTSTART;TZID=UTC:20250501T190000
DTEND;TZID=UTC:20250501T203000
DTSTAMP:20260423T161851
CREATED:20170923T002759Z
LAST-MODIFIED:20170923T002759Z
UID:15250-1746126000-1746131400@brocktonucc.org
SUMMARY:Deacons
DESCRIPTION:
URL:https://brocktonucc.org/event/deacons/2025-05-01/
LOCATION:Christ Congregational Church\, 1350 PLEASANT STREET\, Brockton\, MA\, 02301\, United States
END:VEVENT
BEGIN:VEVENT
DTSTART;TZID=UTC:20250403T190000
DTEND;TZID=UTC:20250403T203000
DTSTAMP:20260423T161851
CREATED:20170923T002759Z
LAST-MODIFIED:20170923T002759Z
UID:15249-1743706800-1743712200@brocktonucc.org
SUMMARY:Deacons
DESCRIPTION:
URL:https://brocktonucc.org/event/deacons/2025-04-03/
LOCATION:Christ Congregational Church\, 1350 PLEASANT STREET\, Brockton\, MA\, 02301\, United States
END:VEVENT
BEGIN:VEVENT
DTSTART;TZID=UTC:20250306T190000
DTEND;TZID=UTC:20250306T203000
DTSTAMP:20260423T161851
CREATED:20170923T002759Z
LAST-MODIFIED:20170923T002759Z
UID:15248-1741287600-1741293000@brocktonucc.org
SUMMARY:Deacons
DESCRIPTION:
URL:https://brocktonucc.org/event/deacons/2025-03-06/
LOCATION:Christ Congregational Church\, 1350 PLEASANT STREET\, Brockton\, MA\, 02301\, United States
END:VEVENT
BEGIN:VEVENT
DTSTART;TZID=UTC:20250206T190000
DTEND;TZID=UTC:20250206T203000
DTSTAMP:20260423T161851
CREATED:20170923T002759Z
LAST-MODIFIED:20170923T002759Z
UID:15247-1738868400-1738873800@brocktonucc.org
SUMMARY:Deacons
DESCRIPTION:
URL:https://brocktonucc.org/event/deacons/2025-02-06/
LOCATION:Christ Congregational Church\, 1350 PLEASANT STREET\, Brockton\, MA\, 02301\, United States
END:VEVENT
BEGIN:VEVENT
DTSTART;TZID=UTC:20250102T190000
DTEND;TZID=UTC:20250102T203000
DTSTAMP:20260423T161851
CREATED:20170923T002759Z
LAST-MODIFIED:20170923T002759Z
UID:15246-1735844400-1735849800@brocktonucc.org
SUMMARY:Deacons
DESCRIPTION:
URL:https://brocktonucc.org/event/deacons/2025-01-02/
LOCATION:Christ Congregational Church\, 1350 PLEASANT STREET\, Brockton\, MA\, 02301\, United States
END:VEVENT
BEGIN:VEVENT
DTSTART;TZID=UTC:20241205T190000
DTEND;TZID=UTC:20241205T203000
DTSTAMP:20260423T161851
CREATED:20170923T002759Z
LAST-MODIFIED:20170923T002759Z
UID:15245-1733425200-1733430600@brocktonucc.org
SUMMARY:Deacons
DESCRIPTION:
URL:https://brocktonucc.org/event/deacons/2024-12-05/
LOCATION:Christ Congregational Church\, 1350 PLEASANT STREET\, Brockton\, MA\, 02301\, United States
END:VEVENT
BEGIN:VEVENT
DTSTART;TZID=UTC:20241107T190000
DTEND;TZID=UTC:20241107T203000
DTSTAMP:20260423T161851
CREATED:20170923T002759Z
LAST-MODIFIED:20170923T002759Z
UID:12169-1731006000-1731011400@brocktonucc.org
SUMMARY:Deacons
DESCRIPTION:
URL:https://brocktonucc.org/event/deacons/2024-11-07/
LOCATION:Christ Congregational Church\, 1350 PLEASANT STREET\, Brockton\, MA\, 02301\, United States
END:VEVENT
BEGIN:VEVENT
DTSTART;TZID=UTC:20241003T190000
DTEND;TZID=UTC:20241003T203000
DTSTAMP:20260423T161851
CREATED:20170923T002759Z
LAST-MODIFIED:20170923T002759Z
UID:11892-1727982000-1727987400@brocktonucc.org
SUMMARY:Deacons
DESCRIPTION:
URL:https://brocktonucc.org/event/deacons/2024-10-03/
LOCATION:Christ Congregational Church\, 1350 PLEASANT STREET\, Brockton\, MA\, 02301\, United States
END:VEVENT
BEGIN:VEVENT
DTSTART;TZID=UTC:20240905T190000
DTEND;TZID=UTC:20240905T203000
DTSTAMP:20260423T161851
CREATED:20170923T002759Z
LAST-MODIFIED:20170923T002759Z
UID:11687-1725562800-1725568200@brocktonucc.org
SUMMARY:Deacons
DESCRIPTION:
URL:https://brocktonucc.org/event/deacons/2024-09-05/
LOCATION:Christ Congregational Church\, 1350 PLEASANT STREET\, Brockton\, MA\, 02301\, United States
END:VEVENT
BEGIN:VEVENT
DTSTART;TZID=UTC:20240801T190000
DTEND;TZID=UTC:20240801T203000
DTSTAMP:20260423T161851
CREATED:20170923T002759Z
LAST-MODIFIED:20170923T002759Z
UID:11512-1722538800-1722544200@brocktonucc.org
SUMMARY:Deacons
DESCRIPTION:
URL:https://brocktonucc.org/event/deacons/2024-08-01/
LOCATION:Christ Congregational Church\, 1350 PLEASANT STREET\, Brockton\, MA\, 02301\, United States
END:VEVENT
BEGIN:VEVENT
DTSTART;TZID=UTC:20240704T190000
DTEND;TZID=UTC:20240704T203000
DTSTAMP:20260423T161851
CREATED:20170923T002759Z
LAST-MODIFIED:20170923T002759Z
UID:11405-1720119600-1720125000@brocktonucc.org
SUMMARY:Deacons
DESCRIPTION:
URL:https://brocktonucc.org/event/deacons/2024-07-04/
LOCATION:Christ Congregational Church\, 1350 PLEASANT STREET\, Brockton\, MA\, 02301\, United States
END:VEVENT
BEGIN:VEVENT
DTSTART;TZID=UTC:20230601T190000
DTEND;TZID=UTC:20230601T203000
DTSTAMP:20260423T161851
CREATED:20170923T002759Z
LAST-MODIFIED:20230523T174909Z
UID:9185-1685646000-1685651400@brocktonucc.org
SUMMARY:Deacons Committee Meeting (On-Site)
DESCRIPTION:
URL:https://brocktonucc.org/event/deacons-2022-09-01-2023-06-01/
LOCATION:Christ Congregational Church\, 1350 PLEASANT STREET\, Brockton\, MA\, 02301\, United States
END:VEVENT
BEGIN:VEVENT
DTSTART;TZID=UTC:20230105T190000
DTEND;TZID=UTC:20230105T203000
DTSTAMP:20260423T161851
CREATED:20170923T002759Z
LAST-MODIFIED:20230103T212438Z
UID:8646-1672945200-1672950600@brocktonucc.org
SUMMARY:Deacons Committee Meeting (On-Site & Zoom)
DESCRIPTION:
URL:https://brocktonucc.org/event/deacons-2022-09-01-2023-01-05/
LOCATION:Christ Congregational Church\, 1350 PLEASANT STREET\, Brockton\, MA\, 02301\, United States
END:VEVENT
BEGIN:VEVENT
DTSTART;TZID=UTC:20221201T190000
DTEND;TZID=UTC:20221201T203000
DTSTAMP:20260423T161851
CREATED:20170923T002759Z
LAST-MODIFIED:20221121T215534Z
UID:8420-1669921200-1669926600@brocktonucc.org
SUMMARY:Deacons Committee Meeting (On-Site)
DESCRIPTION:
URL:https://brocktonucc.org/event/deacons-2022-09-01-2022-12-01/
LOCATION:Christ Congregational Church\, 1350 PLEASANT STREET\, Brockton\, MA\, 02301\, United States
END:VEVENT
BEGIN:VEVENT
DTSTART;TZID=UTC:20220901T190000
DTEND;TZID=UTC:20220901T203000
DTSTAMP:20260423T161851
CREATED:20170923T002759Z
LAST-MODIFIED:20220628T205648Z
UID:7551-1662058800-1662064200@brocktonucc.org
SUMMARY:Deacons Committee Meeting (Zoom)
DESCRIPTION:
URL:https://brocktonucc.org/event/deacons-2022-09-01/2022-09-01/
LOCATION:Christ Congregational Church\, 1350 PLEASANT STREET\, Brockton\, MA\, 02301\, United States
END:VEVENT
BEGIN:VEVENT
DTSTART;TZID=UTC:20200702T190000
DTEND;TZID=UTC:20200702T203000
DTSTAMP:20260423T161851
CREATED:20170923T002759Z
LAST-MODIFIED:20200713T194336Z
UID:2500-1593716400-1593721800@brocktonucc.org
SUMMARY:Deacons (summer break)
DESCRIPTION:
URL:https://brocktonucc.org/event/deacons-2020-07-02/2020-07-02/
LOCATION:Christ Congregational Church\, 1350 PLEASANT STREET\, Brockton\, MA\, 02301\, United States
END:VEVENT
BEGIN:VEVENT
DTSTART;TZID=UTC:20200617T180000
DTEND;TZID=UTC:20200617T200000
DTSTAMP:20260423T161851
CREATED:20200614T175041Z
LAST-MODIFIED:20200614T180313Z
UID:7167-1592416800-1592424000@brocktonucc.org
SUMMARY:Black Lives Matter Prayer Vigil
DESCRIPTION:This coming Wednesday at 6pm\, we’ll be gathering outside in our parking lot for a time of prayer. \nMasks and safe distancing are required. \nWe will be sharing the vigil online for those who would like to attend remotely. \nIf you are interested in participating or helping to plan this time\, please reach out to Ann-Marie (pastor@brocktonucc.org).
URL:https://brocktonucc.org/event/black-lives-matter-prayer-vigil/
LOCATION:Christ Congregational Church\, 1350 PLEASANT STREET\, Brockton\, MA\, 02301\, United States
CATEGORIES:Happenings,Racial Justice
ATTACH;FMTTYPE=image/jpeg:https://brocktonucc.org/wp-content/uploads/2020/06/BLM-Vigil-scaled.jpg
END:VEVENT
BEGIN:VEVENT
DTSTART;TZID=UTC:20200604T190000
DTEND;TZID=UTC:20200604T203000
DTSTAMP:20260423T161851
CREATED:20170923T002759Z
LAST-MODIFIED:20200603T220137Z
UID:2423-1591297200-1591302600@brocktonucc.org
SUMMARY:Deacons (Remotely)
DESCRIPTION:
URL:https://brocktonucc.org/event/deacons-2020-06-04/
LOCATION:Christ Congregational Church\, 1350 PLEASANT STREET\, Brockton\, MA\, 02301\, United States
END:VEVENT
BEGIN:VEVENT
DTSTART;TZID=UTC:20200507T190000
DTEND;TZID=UTC:20200507T203000
DTSTAMP:20260423T161851
CREATED:20170923T002759Z
LAST-MODIFIED:20200507T181414Z
UID:2292-1588878000-1588883400@brocktonucc.org
SUMMARY:Deacons (Remotely)
DESCRIPTION:
URL:https://brocktonucc.org/event/deacons-2020-05-07/
LOCATION:Christ Congregational Church\, 1350 PLEASANT STREET\, Brockton\, MA\, 02301\, United States
END:VEVENT
BEGIN:VEVENT
DTSTART;TZID=UTC:20200402T190000
DTEND;TZID=UTC:20200402T203000
DTSTAMP:20260423T161851
CREATED:20170923T002759Z
LAST-MODIFIED:20200415T204440Z
UID:2174-1585854000-1585859400@brocktonucc.org
SUMMARY:Deacons (Remotely)
DESCRIPTION:
URL:https://brocktonucc.org/event/deacons-2020-04-02/
LOCATION:Christ Congregational Church\, 1350 PLEASANT STREET\, Brockton\, MA\, 02301\, United States
END:VEVENT
END:VCALENDAR