BEGIN:VCALENDAR
VERSION:2.0
PRODID:-//Christ Congregational Church, UCC - ECPv6.15.20//NONSGML v1.0//EN
CALSCALE:GREGORIAN
METHOD:PUBLISH
X-ORIGINAL-URL:https://brocktonucc.org
X-WR-CALDESC:Events for Christ Congregational Church, UCC
REFRESH-INTERVAL;VALUE=DURATION:PT1H
X-Robots-Tag:noindex
X-PUBLISHED-TTL:PT1H
BEGIN:VTIMEZONE
TZID:America/New_York
BEGIN:DAYLIGHT
TZOFFSETFROM:-0500
TZOFFSETTO:-0400
TZNAME:EDT
DTSTART:20250309T070000
END:DAYLIGHT
BEGIN:STANDARD
TZOFFSETFROM:-0400
TZOFFSETTO:-0500
TZNAME:EST
DTSTART:20251102T060000
END:STANDARD
BEGIN:DAYLIGHT
TZOFFSETFROM:-0500
TZOFFSETTO:-0400
TZNAME:EDT
DTSTART:20260308T070000
END:DAYLIGHT
BEGIN:STANDARD
TZOFFSETFROM:-0400
TZOFFSETTO:-0500
TZNAME:EST
DTSTART:20261101T060000
END:STANDARD
BEGIN:DAYLIGHT
TZOFFSETFROM:-0500
TZOFFSETTO:-0400
TZNAME:EDT
DTSTART:20270314T070000
END:DAYLIGHT
BEGIN:STANDARD
TZOFFSETFROM:-0400
TZOFFSETTO:-0500
TZNAME:EST
DTSTART:20271107T060000
END:STANDARD
END:VTIMEZONE
BEGIN:VEVENT
DTSTART;TZID=America/New_York:20260426T090000
DTEND;TZID=America/New_York:20260426T094500
DTSTAMP:20260423T165852
CREATED:20260324T171004Z
LAST-MODIFIED:20260324T171004Z
UID:16331-1777194000-1777196700@brocktonucc.org
SUMMARY:Bible 101: Reading The Bible w/Curiosity\, Context and Courage
DESCRIPTION:
URL:https://brocktonucc.org/event/bible-101-reading-the-bible-w-curiosity-context-and-courage/2026-04-26/
END:VEVENT
BEGIN:VEVENT
DTSTART;TZID=America/New_York:20260426T100000
DTEND;TZID=America/New_York:20260426T230000
DTSTAMP:20260423T165852
CREATED:20250922T050720Z
LAST-MODIFIED:20250922T050720Z
UID:15668-1777197600-1777244400@brocktonucc.org
SUMMARY:Worship
DESCRIPTION:
URL:https://brocktonucc.org/event/worship-3/2026-04-26/
END:VEVENT
BEGIN:VEVENT
DTSTART;TZID=America/New_York:20260426T113000
DTEND;TZID=America/New_York:20260426T150000
DTSTAMP:20260423T165852
CREATED:20251008T162217Z
LAST-MODIFIED:20251008T162217Z
UID:15971-1777203000-1777215600@brocktonucc.org
SUMMARY:Christian Education Committee Planning Retreat
DESCRIPTION:
URL:https://brocktonucc.org/event/christian-education-committee-planning-retreat/2026-04-26/
END:VEVENT
BEGIN:VEVENT
DTSTART;TZID=America/New_York:20260427T191500
DTEND;TZID=America/New_York:20260427T214500
DTSTAMP:20260423T165852
CREATED:20250921T223743Z
LAST-MODIFIED:20250921T223743Z
UID:15567-1777317300-1777326300@brocktonucc.org
SUMMARY:BrSO Rehearsal
DESCRIPTION:
URL:https://brocktonucc.org/event/brso-rehearsal-21/2026-04-27/
END:VEVENT
BEGIN:VEVENT
DTSTART;TZID=America/New_York:20260428T190000
DTEND;TZID=America/New_York:20260428T210000
DTSTAMP:20260423T165852
CREATED:20251008T150512Z
LAST-MODIFIED:20251008T150512Z
UID:15936-1777402800-1777410000@brocktonucc.org
SUMMARY:Jubilate Chorale Rehearsal
DESCRIPTION:
URL:https://brocktonucc.org/event/jubilate-chorale-rehearsal-25/
END:VEVENT
BEGIN:VEVENT
DTSTART;TZID=America/New_York:20260429T100000
DTEND;TZID=America/New_York:20260429T120000
DTSTAMP:20260423T165852
CREATED:20250922T155650Z
LAST-MODIFIED:20250922T155650Z
UID:15741-1777456800-1777464000@brocktonucc.org
SUMMARY:Prayer Shawl Ministry (Library)
DESCRIPTION:
URL:https://brocktonucc.org/event/prayer-shawl-ministry-library-2/2026-04-29/
END:VEVENT
BEGIN:VEVENT
DTSTART;TZID=America/New_York:20260429T170000
DTEND;TZID=America/New_York:20260429T190000
DTSTAMP:20260423T165852
CREATED:20260407T135112Z
LAST-MODIFIED:20260407T135112Z
UID:16347-1777482000-1777489200@brocktonucc.org
SUMMARY:BIC - Garden Steering Committee Meeting
DESCRIPTION:
URL:https://brocktonucc.org/event/bic-garden-steering-committee-meeting/
END:VEVENT
BEGIN:VEVENT
DTSTART;TZID=America/New_York:20260429T180000
DTEND;TZID=America/New_York:20260429T184500
DTSTAMP:20260423T165852
CREATED:20250910T173216Z
LAST-MODIFIED:20250910T173216Z
UID:15484-1777485600-1777488300@brocktonucc.org
SUMMARY:Adult Handbells
DESCRIPTION:
URL:https://brocktonucc.org/event/adult-handbells-2/2026-04-29/
END:VEVENT
BEGIN:VEVENT
DTSTART;TZID=America/New_York:20260429T184500
DTEND;TZID=America/New_York:20260429T201500
DTSTAMP:20260423T165852
CREATED:20250910T171404Z
LAST-MODIFIED:20250910T171404Z
UID:15444-1777488300-1777493700@brocktonucc.org
SUMMARY:Adult Choir
DESCRIPTION:
URL:https://brocktonucc.org/event/adult-choir-6/2026-04-29/
END:VEVENT
BEGIN:VEVENT
DTSTART;TZID=America/New_York:20260502T100000
DTEND;TZID=America/New_York:20260502T130000
DTSTAMP:20260423T165852
CREATED:20251008T150618Z
LAST-MODIFIED:20251008T150618Z
UID:15938-1777716000-1777726800@brocktonucc.org
SUMMARY:Jubilate Chorale Dress Rehearsal
DESCRIPTION:
URL:https://brocktonucc.org/event/jubilate-chorale-dress-rehearsal-7/
END:VEVENT
END:VCALENDAR