BEGIN:VCALENDAR
VERSION:2.0
PRODID:-//Christ Congregational Church, UCC - ECPv6.15.20//NONSGML v1.0//EN
CALSCALE:GREGORIAN
METHOD:PUBLISH
X-ORIGINAL-URL:https://brocktonucc.org
X-WR-CALDESC:Events for Christ Congregational Church, UCC
REFRESH-INTERVAL;VALUE=DURATION:PT1H
X-Robots-Tag:noindex
X-PUBLISHED-TTL:PT1H
BEGIN:VTIMEZONE
TZID:America/New_York
BEGIN:DAYLIGHT
TZOFFSETFROM:-0500
TZOFFSETTO:-0400
TZNAME:EDT
DTSTART:20250309T070000
END:DAYLIGHT
BEGIN:STANDARD
TZOFFSETFROM:-0400
TZOFFSETTO:-0500
TZNAME:EST
DTSTART:20251102T060000
END:STANDARD
BEGIN:DAYLIGHT
TZOFFSETFROM:-0500
TZOFFSETTO:-0400
TZNAME:EDT
DTSTART:20260308T070000
END:DAYLIGHT
BEGIN:STANDARD
TZOFFSETFROM:-0400
TZOFFSETTO:-0500
TZNAME:EST
DTSTART:20261101T060000
END:STANDARD
BEGIN:DAYLIGHT
TZOFFSETFROM:-0500
TZOFFSETTO:-0400
TZNAME:EDT
DTSTART:20270314T070000
END:DAYLIGHT
BEGIN:STANDARD
TZOFFSETFROM:-0400
TZOFFSETTO:-0500
TZNAME:EST
DTSTART:20271107T060000
END:STANDARD
END:VTIMEZONE
BEGIN:VTIMEZONE
TZID:UTC
BEGIN:STANDARD
TZOFFSETFROM:+0000
TZOFFSETTO:+0000
TZNAME:UTC
DTSTART:20250101T000000
END:STANDARD
END:VTIMEZONE
BEGIN:VEVENT
DTSTART;TZID=America/New_York:20260412T090000
DTEND;TZID=America/New_York:20260412T094500
DTSTAMP:20260423T161646
CREATED:20251008T152146Z
LAST-MODIFIED:20251008T152146Z
UID:15948-1775984400-1775987100@brocktonucc.org
SUMMARY:Missions Committee Meeting (Library)
DESCRIPTION:
URL:https://brocktonucc.org/event/missions-committee-meeting-library/2026-04-12/
END:VEVENT
BEGIN:VEVENT
DTSTART;TZID=America/New_York:20260412T100000
DTEND;TZID=America/New_York:20260412T230000
DTSTAMP:20260423T161646
CREATED:20250922T050720Z
LAST-MODIFIED:20250922T050720Z
UID:15666-1775988000-1776034800@brocktonucc.org
SUMMARY:Worship
DESCRIPTION:
URL:https://brocktonucc.org/event/worship-3/2026-04-12/
END:VEVENT
BEGIN:VEVENT
DTSTART;TZID=America/New_York:20260412T113000
DTEND;TZID=America/New_York:20260412T123000
DTSTAMP:20260423T161646
CREATED:20251008T175250Z
LAST-MODIFIED:20251008T175250Z
UID:15991-1775993400-1775997000@brocktonucc.org
SUMMARY:Deacons Check In w/Confirmands
DESCRIPTION:
URL:https://brocktonucc.org/event/deacons-check-in-w-confirmands/2026-04-12/
END:VEVENT
BEGIN:VEVENT
DTSTART;TZID=America/New_York:20260412T130000
DTEND;TZID=America/New_York:20260412T153000
DTSTAMP:20260423T161646
CREATED:20251230T180137Z
LAST-MODIFIED:20251230T180137Z
UID:16166-1775998800-1776007800@brocktonucc.org
SUMMARY:BrSO Rental
DESCRIPTION:
URL:https://brocktonucc.org/event/brso-rental-2/
END:VEVENT
BEGIN:VEVENT
DTSTART;TZID=America/New_York:20260413T130000
DTEND;TZID=America/New_York:20260413T140000
DTSTAMP:20260423T161646
CREATED:20251006T163543Z
LAST-MODIFIED:20260309T142356Z
UID:15929-1776085200-1776088800@brocktonucc.org
SUMMARY:Staff Meeting (Quilt Room)
DESCRIPTION:
URL:https://brocktonucc.org/event/staff-meeting-quilt-room-2026-04-06/
END:VEVENT
BEGIN:VEVENT
DTSTART;TZID=America/New_York:20260413T191500
DTEND;TZID=America/New_York:20260413T214500
DTSTAMP:20260423T161646
CREATED:20250921T223743Z
LAST-MODIFIED:20250921T223743Z
UID:15565-1776107700-1776116700@brocktonucc.org
SUMMARY:BrSO Rehearsal
DESCRIPTION:
URL:https://brocktonucc.org/event/brso-rehearsal-21/2026-04-13/
END:VEVENT
BEGIN:VEVENT
DTSTART;TZID=America/New_York:20260414T190000
DTEND;TZID=America/New_York:20260414T210000
DTSTAMP:20260423T161646
CREATED:20260414T132637Z
LAST-MODIFIED:20260414T132637Z
UID:16359-1776193200-1776200400@brocktonucc.org
SUMMARY:DBIE Meeting (Zoom)
DESCRIPTION:
URL:https://brocktonucc.org/event/dbie-meeting-zoom/
END:VEVENT
BEGIN:VEVENT
DTSTART;TZID=America/New_York:20260415T100000
DTEND;TZID=America/New_York:20260415T120000
DTSTAMP:20260423T161646
CREATED:20250922T155650Z
LAST-MODIFIED:20250922T155650Z
UID:15739-1776247200-1776254400@brocktonucc.org
SUMMARY:Prayer Shawl Ministry (Library)
DESCRIPTION:
URL:https://brocktonucc.org/event/prayer-shawl-ministry-library-2/2026-04-15/
END:VEVENT
BEGIN:VEVENT
DTSTART;TZID=America/New_York:20260415T121500
DTEND;TZID=America/New_York:20260415T131500
DTSTAMP:20260423T161646
CREATED:20251230T151712Z
LAST-MODIFIED:20251230T151712Z
UID:16146-1776255300-1776258900@brocktonucc.org
SUMMARY:Midday Music Concert w/Peter Krasinski
DESCRIPTION:
URL:https://brocktonucc.org/event/midday-music-concert-w-peter-krasinski/
END:VEVENT
BEGIN:VEVENT
DTSTART;TZID=America/New_York:20260415T180000
DTEND;TZID=America/New_York:20260415T184500
DTSTAMP:20260423T161646
CREATED:20250910T173216Z
LAST-MODIFIED:20250910T173216Z
UID:15482-1776276000-1776278700@brocktonucc.org
SUMMARY:Adult Handbells
DESCRIPTION:
URL:https://brocktonucc.org/event/adult-handbells-2/2026-04-15/
END:VEVENT
BEGIN:VEVENT
DTSTART;TZID=America/New_York:20260415T184500
DTEND;TZID=America/New_York:20260415T201500
DTSTAMP:20260423T161646
CREATED:20250910T171404Z
LAST-MODIFIED:20250910T171404Z
UID:15442-1776278700-1776284100@brocktonucc.org
SUMMARY:Adult Choir
DESCRIPTION:
URL:https://brocktonucc.org/event/adult-choir-6/2026-04-15/
END:VEVENT
BEGIN:VEVENT
DTSTART;TZID=America/New_York:20260416T120000
DTEND;TZID=America/New_York:20260416T190000
DTSTAMP:20260423T161646
CREATED:20250922T033317Z
LAST-MODIFIED:20250922T033317Z
UID:15626-1776340800-1776366000@brocktonucc.org
SUMMARY:Rose Conservatory Early Start
DESCRIPTION:
URL:https://brocktonucc.org/event/rose-conservatory-early-start-2/2026-04-16/
END:VEVENT
BEGIN:VEVENT
DTSTART;TZID=UTC:20260416T190000
DTEND;TZID=UTC:20260416T203000
DTSTAMP:20260423T161646
CREATED:20170922T164813Z
LAST-MODIFIED:20250922T173548Z
UID:15229-1776366000-1776371400@brocktonucc.org
SUMMARY:Council Meeting (Zoom)
DESCRIPTION:
URL:https://brocktonucc.org/event/council-meeting/2026-04-16/
END:VEVENT
BEGIN:VEVENT
DTSTART;TZID=America/New_York:20260417T120000
DTEND;TZID=America/New_York:20260417T190000
DTSTAMP:20260423T161646
CREATED:20250922T033317Z
LAST-MODIFIED:20250922T033317Z
UID:15627-1776427200-1776452400@brocktonucc.org
SUMMARY:Rose Conservatory Early Start
DESCRIPTION:
URL:https://brocktonucc.org/event/rose-conservatory-early-start-2/2026-04-17/
END:VEVENT
BEGIN:VEVENT
DTSTART;TZID=America/New_York:20260417T183000
DTEND;TZID=America/New_York:20260417T200000
DTSTAMP:20260423T161646
CREATED:20251230T172531Z
LAST-MODIFIED:20251230T172531Z
UID:16151-1776450600-1776456000@brocktonucc.org
SUMMARY:Youth Group Gathering (Faith Formation Wing)
DESCRIPTION:
URL:https://brocktonucc.org/event/youth-group-gathering-faith-formation-wing/2026-04-17/
END:VEVENT
END:VCALENDAR