BEGIN:VCALENDAR
VERSION:2.0
PRODID:-//Christ Congregational Church, UCC - ECPv6.15.20//NONSGML v1.0//EN
CALSCALE:GREGORIAN
METHOD:PUBLISH
X-WR-CALNAME:Christ Congregational Church, UCC
X-ORIGINAL-URL:https://brocktonucc.org
X-WR-CALDESC:Events for Christ Congregational Church, UCC
REFRESH-INTERVAL;VALUE=DURATION:PT1H
X-Robots-Tag:noindex
X-PUBLISHED-TTL:PT1H
BEGIN:VTIMEZONE
TZID:America/New_York
BEGIN:DAYLIGHT
TZOFFSETFROM:-0500
TZOFFSETTO:-0400
TZNAME:EDT
DTSTART:20250309T070000
END:DAYLIGHT
BEGIN:STANDARD
TZOFFSETFROM:-0400
TZOFFSETTO:-0500
TZNAME:EST
DTSTART:20251102T060000
END:STANDARD
BEGIN:DAYLIGHT
TZOFFSETFROM:-0500
TZOFFSETTO:-0400
TZNAME:EDT
DTSTART:20260308T070000
END:DAYLIGHT
BEGIN:STANDARD
TZOFFSETFROM:-0400
TZOFFSETTO:-0500
TZNAME:EST
DTSTART:20261101T060000
END:STANDARD
BEGIN:DAYLIGHT
TZOFFSETFROM:-0500
TZOFFSETTO:-0400
TZNAME:EDT
DTSTART:20270314T070000
END:DAYLIGHT
BEGIN:STANDARD
TZOFFSETFROM:-0400
TZOFFSETTO:-0500
TZNAME:EST
DTSTART:20271107T060000
END:STANDARD
END:VTIMEZONE
BEGIN:VEVENT
DTSTART;VALUE=DATE:20260329
DTEND;VALUE=DATE:20260330
DTSTAMP:20260423T143608
CREATED:20250922T005130Z
LAST-MODIFIED:20250922T005130Z
UID:15618-1774742400-1774828799@brocktonucc.org
SUMMARY:PALM SUNDAY
DESCRIPTION:
URL:https://brocktonucc.org/event/palm-sunday-8/
END:VEVENT
BEGIN:VEVENT
DTSTART;TZID=America/New_York:20260329T100000
DTEND;TZID=America/New_York:20260329T230000
DTSTAMP:20260423T143608
CREATED:20250922T050720Z
LAST-MODIFIED:20250922T050720Z
UID:15664-1774778400-1774825200@brocktonucc.org
SUMMARY:Worship
DESCRIPTION:
URL:https://brocktonucc.org/event/worship-3/2026-03-29/
END:VEVENT
BEGIN:VEVENT
DTSTART;TZID=America/New_York:20260329T111500
DTEND;TZID=America/New_York:20260329T123000
DTSTAMP:20260423T143608
CREATED:20260302T164055Z
LAST-MODIFIED:20260302T164055Z
UID:16273-1774782900-1774787400@brocktonucc.org
SUMMARY:ByLaw Committee Fellowship Brunch
DESCRIPTION:
URL:https://brocktonucc.org/event/bylaw-committee-fellowship-brunch/
END:VEVENT
BEGIN:VEVENT
DTSTART;TZID=America/New_York:20260401T100000
DTEND;TZID=America/New_York:20260401T120000
DTSTAMP:20260423T143608
CREATED:20250922T155650Z
LAST-MODIFIED:20250922T155650Z
UID:15737-1775037600-1775044800@brocktonucc.org
SUMMARY:Prayer Shawl Ministry (Library)
DESCRIPTION:
URL:https://brocktonucc.org/event/prayer-shawl-ministry-library-2/2026-04-01/
END:VEVENT
BEGIN:VEVENT
DTSTART;TZID=America/New_York:20260401T180000
DTEND;TZID=America/New_York:20260401T184500
DTSTAMP:20260423T143608
CREATED:20250910T173216Z
LAST-MODIFIED:20250910T173216Z
UID:15480-1775066400-1775069100@brocktonucc.org
SUMMARY:Adult Handbells
DESCRIPTION:
URL:https://brocktonucc.org/event/adult-handbells-2/2026-04-01/
END:VEVENT
BEGIN:VEVENT
DTSTART;TZID=America/New_York:20260401T184500
DTEND;TZID=America/New_York:20260401T201500
DTSTAMP:20260423T143608
CREATED:20250910T171404Z
LAST-MODIFIED:20250910T171404Z
UID:15440-1775069100-1775074500@brocktonucc.org
SUMMARY:Adult Choir
DESCRIPTION:
URL:https://brocktonucc.org/event/adult-choir-6/2026-04-01/
END:VEVENT
BEGIN:VEVENT
DTSTART;VALUE=DATE:20260402
DTEND;VALUE=DATE:20260403
DTSTAMP:20260423T143608
CREATED:20250922T004738Z
LAST-MODIFIED:20250922T004738Z
UID:15610-1775088000-1775174399@brocktonucc.org
SUMMARY:MAUNDY THURSDAY
DESCRIPTION:
URL:https://brocktonucc.org/event/maundy-thursday-6/
END:VEVENT
BEGIN:VEVENT
DTSTART;TZID=America/New_York:20260402T180000
DTEND;TZID=America/New_York:20260402T190000
DTSTAMP:20260423T143608
CREATED:20260128T185250Z
LAST-MODIFIED:20260128T185250Z
UID:16227-1775152800-1775156400@brocktonucc.org
SUMMARY:Maundy Thursday Spaghetti Dinner
DESCRIPTION:
URL:https://brocktonucc.org/event/maundy-thursday-spaghetti-dinner/
END:VEVENT
BEGIN:VEVENT
DTSTART;TZID=America/New_York:20260402T190000
DTEND;TZID=America/New_York:20260402T200000
DTSTAMP:20260423T143608
CREATED:20260128T185441Z
LAST-MODIFIED:20260128T185441Z
UID:16229-1775156400-1775160000@brocktonucc.org
SUMMARY:Maundy Thursday Service
DESCRIPTION:Adults in Sanctuary \nKids in Faith Formation Wing
URL:https://brocktonucc.org/event/maundy-thursday-service-2/
END:VEVENT
BEGIN:VEVENT
DTSTART;VALUE=DATE:20260403
DTEND;VALUE=DATE:20260404
DTSTAMP:20260423T143608
CREATED:20250922T004820Z
LAST-MODIFIED:20250922T004820Z
UID:15612-1775174400-1775260799@brocktonucc.org
SUMMARY:GOOD FRIDAY
DESCRIPTION:
URL:https://brocktonucc.org/event/good-friday-6/
END:VEVENT
BEGIN:VEVENT
DTSTART;VALUE=DATE:20260404
DTEND;VALUE=DATE:20260405
DTSTAMP:20260423T143608
CREATED:20250922T004931Z
LAST-MODIFIED:20250922T004931Z
UID:15614-1775260800-1775347199@brocktonucc.org
SUMMARY:HOLY SATURDAY
DESCRIPTION:
URL:https://brocktonucc.org/event/holy-saturday/
END:VEVENT
END:VCALENDAR