BEGIN:VCALENDAR
VERSION:2.0
PRODID:-//Christ Congregational Church, UCC - ECPv6.15.20//NONSGML v1.0//EN
CALSCALE:GREGORIAN
METHOD:PUBLISH
X-WR-CALNAME:Christ Congregational Church, UCC
X-ORIGINAL-URL:https://brocktonucc.org
X-WR-CALDESC:Events for Christ Congregational Church, UCC
REFRESH-INTERVAL;VALUE=DURATION:PT1H
X-Robots-Tag:noindex
X-PUBLISHED-TTL:PT1H
BEGIN:VTIMEZONE
TZID:America/New_York
BEGIN:DAYLIGHT
TZOFFSETFROM:-0500
TZOFFSETTO:-0400
TZNAME:EDT
DTSTART:20250309T070000
END:DAYLIGHT
BEGIN:STANDARD
TZOFFSETFROM:-0400
TZOFFSETTO:-0500
TZNAME:EST
DTSTART:20251102T060000
END:STANDARD
BEGIN:DAYLIGHT
TZOFFSETFROM:-0500
TZOFFSETTO:-0400
TZNAME:EDT
DTSTART:20260308T070000
END:DAYLIGHT
BEGIN:STANDARD
TZOFFSETFROM:-0400
TZOFFSETTO:-0500
TZNAME:EST
DTSTART:20261101T060000
END:STANDARD
BEGIN:DAYLIGHT
TZOFFSETFROM:-0500
TZOFFSETTO:-0400
TZNAME:EDT
DTSTART:20270314T070000
END:DAYLIGHT
BEGIN:STANDARD
TZOFFSETFROM:-0400
TZOFFSETTO:-0500
TZNAME:EST
DTSTART:20271107T060000
END:STANDARD
END:VTIMEZONE
BEGIN:VEVENT
DTSTART;TZID=America/New_York:20260322T090000
DTEND;TZID=America/New_York:20260322T094500
DTSTAMP:20260423T192553
CREATED:20251008T152146Z
LAST-MODIFIED:20260317T144118Z
UID:15947-1774170000-1774172700@brocktonucc.org
SUMMARY:Missions Committee Meeting (Library)
DESCRIPTION:
URL:https://brocktonucc.org/event/missions-committee-meeting-library-2026-03-15/
END:VEVENT
BEGIN:VEVENT
DTSTART;TZID=America/New_York:20260322T100000
DTEND;TZID=America/New_York:20260322T230000
DTSTAMP:20260423T192553
CREATED:20250922T050720Z
LAST-MODIFIED:20250922T050720Z
UID:15663-1774173600-1774220400@brocktonucc.org
SUMMARY:Worship
DESCRIPTION:
URL:https://brocktonucc.org/event/worship-3/2026-03-22/
END:VEVENT
BEGIN:VEVENT
DTSTART;TZID=America/New_York:20260322T113000
DTEND;TZID=America/New_York:20260322T133000
DTSTAMP:20260423T192553
CREATED:20251230T173440Z
LAST-MODIFIED:20251230T173440Z
UID:16164-1774179000-1774186200@brocktonucc.org
SUMMARY:School Of Prophetic Action (Upper Wing)
DESCRIPTION:
URL:https://brocktonucc.org/event/school-of-prophetic-action-upper-wing/2026-03-22/
END:VEVENT
BEGIN:VEVENT
DTSTART;TZID=America/New_York:20260323T110000
DTEND;TZID=America/New_York:20260323T140000
DTSTAMP:20260423T192553
CREATED:20260323T151916Z
LAST-MODIFIED:20260323T151916Z
UID:16319-1774263600-1774274400@brocktonucc.org
SUMMARY:Sanctuary Rental (Hustedde)
DESCRIPTION:
URL:https://brocktonucc.org/event/sanctuary-rental-hustedde/
END:VEVENT
BEGIN:VEVENT
DTSTART;TZID=America/New_York:20260325T100000
DTEND;TZID=America/New_York:20260325T120000
DTSTAMP:20260423T192553
CREATED:20250922T155650Z
LAST-MODIFIED:20250922T155650Z
UID:15736-1774432800-1774440000@brocktonucc.org
SUMMARY:Prayer Shawl Ministry (Library)
DESCRIPTION:
URL:https://brocktonucc.org/event/prayer-shawl-ministry-library-2/2026-03-25/
END:VEVENT
BEGIN:VEVENT
DTSTART;TZID=America/New_York:20260325T180000
DTEND;TZID=America/New_York:20260325T184500
DTSTAMP:20260423T192553
CREATED:20250910T173216Z
LAST-MODIFIED:20250910T173216Z
UID:15479-1774461600-1774464300@brocktonucc.org
SUMMARY:Adult Handbells
DESCRIPTION:
URL:https://brocktonucc.org/event/adult-handbells-2/2026-03-25/
END:VEVENT
BEGIN:VEVENT
DTSTART;TZID=America/New_York:20260325T184500
DTEND;TZID=America/New_York:20260325T201500
DTSTAMP:20260423T192553
CREATED:20250910T171404Z
LAST-MODIFIED:20250910T171404Z
UID:15439-1774464300-1774469700@brocktonucc.org
SUMMARY:Adult Choir
DESCRIPTION:
URL:https://brocktonucc.org/event/adult-choir-6/2026-03-25/
END:VEVENT
BEGIN:VEVENT
DTSTART;TZID=America/New_York:20260326T183000
DTEND;TZID=America/New_York:20260326T193000
DTSTAMP:20260423T192553
CREATED:20260106T153052Z
LAST-MODIFIED:20260106T153052Z
UID:16174-1774549800-1774553400@brocktonucc.org
SUMMARY:Music Committee Meeting (Zoom)
DESCRIPTION:
URL:https://brocktonucc.org/event/music-committee-meeting-zoom-16/2026-03-26/
END:VEVENT
BEGIN:VEVENT
DTSTART;TZID=America/New_York:20260328T160000
DTEND;TZID=America/New_York:20260328T200000
DTSTAMP:20260423T192553
CREATED:20260303T154320Z
LAST-MODIFIED:20260303T154320Z
UID:16279-1774713600-1774728000@brocktonucc.org
SUMMARY:Parent's Night Out
DESCRIPTION:
URL:https://brocktonucc.org/event/parents-night-out-4/
END:VEVENT
END:VCALENDAR