BEGIN:VCALENDAR
VERSION:2.0
PRODID:-//Christ Congregational Church, UCC - ECPv6.15.20//NONSGML v1.0//EN
CALSCALE:GREGORIAN
METHOD:PUBLISH
X-WR-CALNAME:Christ Congregational Church, UCC
X-ORIGINAL-URL:https://brocktonucc.org
X-WR-CALDESC:Events for Christ Congregational Church, UCC
REFRESH-INTERVAL;VALUE=DURATION:PT1H
X-Robots-Tag:noindex
X-PUBLISHED-TTL:PT1H
BEGIN:VTIMEZONE
TZID:America/New_York
BEGIN:DAYLIGHT
TZOFFSETFROM:-0500
TZOFFSETTO:-0400
TZNAME:EDT
DTSTART:20250309T070000
END:DAYLIGHT
BEGIN:STANDARD
TZOFFSETFROM:-0400
TZOFFSETTO:-0500
TZNAME:EST
DTSTART:20251102T060000
END:STANDARD
BEGIN:DAYLIGHT
TZOFFSETFROM:-0500
TZOFFSETTO:-0400
TZNAME:EDT
DTSTART:20260308T070000
END:DAYLIGHT
BEGIN:STANDARD
TZOFFSETFROM:-0400
TZOFFSETTO:-0500
TZNAME:EST
DTSTART:20261101T060000
END:STANDARD
BEGIN:DAYLIGHT
TZOFFSETFROM:-0500
TZOFFSETTO:-0400
TZNAME:EDT
DTSTART:20270314T070000
END:DAYLIGHT
BEGIN:STANDARD
TZOFFSETFROM:-0400
TZOFFSETTO:-0500
TZNAME:EST
DTSTART:20271107T060000
END:STANDARD
END:VTIMEZONE
BEGIN:VTIMEZONE
TZID:UTC
BEGIN:STANDARD
TZOFFSETFROM:+0000
TZOFFSETTO:+0000
TZNAME:UTC
DTSTART:20250101T000000
END:STANDARD
END:VTIMEZONE
BEGIN:VEVENT
DTSTART;TZID=America/New_York:20260315T100000
DTEND;TZID=America/New_York:20260315T230000
DTSTAMP:20260423T183640
CREATED:20250922T050720Z
LAST-MODIFIED:20250922T050720Z
UID:15661-1773568800-1773615600@brocktonucc.org
SUMMARY:Worship
DESCRIPTION:
URL:https://brocktonucc.org/event/worship-3/2026-03-15/
END:VEVENT
BEGIN:VEVENT
DTSTART;TZID=America/New_York:20260315T113000
DTEND;TZID=America/New_York:20260315T133000
DTSTAMP:20260423T183640
CREATED:20251230T173440Z
LAST-MODIFIED:20251230T173440Z
UID:16163-1773574200-1773581400@brocktonucc.org
SUMMARY:School Of Prophetic Action (Upper Wing)
DESCRIPTION:
URL:https://brocktonucc.org/event/school-of-prophetic-action-upper-wing/2026-03-15/
END:VEVENT
BEGIN:VEVENT
DTSTART;TZID=America/New_York:20260315T130000
DTEND;TZID=America/New_York:20260315T170000
DTSTAMP:20260423T183640
CREATED:20250921T223228Z
LAST-MODIFIED:20250921T223228Z
UID:15562-1773579600-1773594000@brocktonucc.org
SUMMARY:BrSO Spring Concert
DESCRIPTION:Concert @ 3:00pm
URL:https://brocktonucc.org/event/brso-spring-concert-3/
END:VEVENT
BEGIN:VEVENT
DTSTART;TZID=America/New_York:20260317T123000
DTEND;TZID=America/New_York:20260317T133000
DTSTAMP:20260423T183640
CREATED:20260311T134214Z
LAST-MODIFIED:20260311T134214Z
UID:16303-1773750600-1773754200@brocktonucc.org
SUMMARY:DBIE Team Meeting (Zoom)
DESCRIPTION:
URL:https://brocktonucc.org/event/dbie-team-meeting-zoom/
END:VEVENT
BEGIN:VEVENT
DTSTART;TZID=America/New_York:20260317T130000
DTEND;TZID=America/New_York:20260317T150000
DTSTAMP:20260423T183640
CREATED:20250910T170108Z
LAST-MODIFIED:20250910T170108Z
UID:15405-1773752400-1773759600@brocktonucc.org
SUMMARY:Common Threads Quilt Guild
DESCRIPTION:
URL:https://brocktonucc.org/event/common-threads-quilt-guild/2026-03-17/
END:VEVENT
BEGIN:VEVENT
DTSTART;TZID=America/New_York:20260318T100000
DTEND;TZID=America/New_York:20260318T120000
DTSTAMP:20260423T183640
CREATED:20250922T155650Z
LAST-MODIFIED:20250922T155650Z
UID:15735-1773828000-1773835200@brocktonucc.org
SUMMARY:Prayer Shawl Ministry (Library)
DESCRIPTION:
URL:https://brocktonucc.org/event/prayer-shawl-ministry-library-2/2026-03-18/
END:VEVENT
BEGIN:VEVENT
DTSTART;TZID=America/New_York:20260318T120000
DTEND;TZID=America/New_York:20260318T190000
DTSTAMP:20260423T183640
CREATED:20250922T033317Z
LAST-MODIFIED:20250922T033317Z
UID:15625-1773835200-1773860400@brocktonucc.org
SUMMARY:Rose Conservatory Early Start
DESCRIPTION:
URL:https://brocktonucc.org/event/rose-conservatory-early-start-2/2026-03-18/
END:VEVENT
BEGIN:VEVENT
DTSTART;TZID=America/New_York:20260318T180000
DTEND;TZID=America/New_York:20260318T184500
DTSTAMP:20260423T183640
CREATED:20250910T173216Z
LAST-MODIFIED:20250910T173216Z
UID:15478-1773856800-1773859500@brocktonucc.org
SUMMARY:Adult Handbells
DESCRIPTION:
URL:https://brocktonucc.org/event/adult-handbells-2/2026-03-18/
END:VEVENT
BEGIN:VEVENT
DTSTART;TZID=America/New_York:20260318T184500
DTEND;TZID=America/New_York:20260318T201500
DTSTAMP:20260423T183640
CREATED:20250910T171404Z
LAST-MODIFIED:20250910T171404Z
UID:15438-1773859500-1773864900@brocktonucc.org
SUMMARY:Adult Choir
DESCRIPTION:
URL:https://brocktonucc.org/event/adult-choir-6/2026-03-18/
END:VEVENT
BEGIN:VEVENT
DTSTART;TZID=America/New_York:20260319T170000
DTEND;TZID=America/New_York:20260319T180000
DTSTAMP:20260423T183640
CREATED:20260303T154023Z
LAST-MODIFIED:20260303T154023Z
UID:16277-1773939600-1773943200@brocktonucc.org
SUMMARY:Pilgrim Association Meeting (Zoom)
DESCRIPTION:
URL:https://brocktonucc.org/event/pilgrim-association-meeting-zoom/
END:VEVENT
BEGIN:VEVENT
DTSTART;TZID=UTC:20260319T190000
DTEND;TZID=UTC:20260319T203000
DTSTAMP:20260423T183640
CREATED:20170922T164813Z
LAST-MODIFIED:20250922T173548Z
UID:15228-1773946800-1773952200@brocktonucc.org
SUMMARY:Council Meeting (Zoom)
DESCRIPTION:
URL:https://brocktonucc.org/event/council-meeting/2026-03-19/
END:VEVENT
BEGIN:VEVENT
DTSTART;VALUE=DATE:20260320
DTEND;VALUE=DATE:20260321
DTSTAMP:20260423T183640
CREATED:20251009T173453Z
LAST-MODIFIED:20251009T173453Z
UID:16009-1773964800-1774051199@brocktonucc.org
SUMMARY:Spring Confirmation Overnight Retreat
DESCRIPTION:Craigville Retreat Center in Centerville\, MA
URL:https://brocktonucc.org/event/spring-confirmation-overnight-retreat/2026-03-20/
END:VEVENT
BEGIN:VEVENT
DTSTART;VALUE=DATE:20260321
DTEND;VALUE=DATE:20260322
DTSTAMP:20260423T183640
CREATED:20251009T173453Z
LAST-MODIFIED:20251009T173453Z
UID:16010-1774051200-1774137599@brocktonucc.org
SUMMARY:Spring Confirmation Overnight Retreat
DESCRIPTION:Craigville Retreat Center in Centerville\, MA
URL:https://brocktonucc.org/event/spring-confirmation-overnight-retreat/2026-03-21/
END:VEVENT
END:VCALENDAR