BEGIN:VCALENDAR
VERSION:2.0
PRODID:-//Christ Congregational Church, UCC - ECPv6.15.20//NONSGML v1.0//EN
CALSCALE:GREGORIAN
METHOD:PUBLISH
X-WR-CALNAME:Christ Congregational Church, UCC
X-ORIGINAL-URL:https://brocktonucc.org
X-WR-CALDESC:Events for Christ Congregational Church, UCC
REFRESH-INTERVAL;VALUE=DURATION:PT1H
X-Robots-Tag:noindex
X-PUBLISHED-TTL:PT1H
BEGIN:VTIMEZONE
TZID:America/New_York
BEGIN:DAYLIGHT
TZOFFSETFROM:-0500
TZOFFSETTO:-0400
TZNAME:EDT
DTSTART:20250309T070000
END:DAYLIGHT
BEGIN:STANDARD
TZOFFSETFROM:-0400
TZOFFSETTO:-0500
TZNAME:EST
DTSTART:20251102T060000
END:STANDARD
BEGIN:DAYLIGHT
TZOFFSETFROM:-0500
TZOFFSETTO:-0400
TZNAME:EDT
DTSTART:20260308T070000
END:DAYLIGHT
BEGIN:STANDARD
TZOFFSETFROM:-0400
TZOFFSETTO:-0500
TZNAME:EST
DTSTART:20261101T060000
END:STANDARD
BEGIN:DAYLIGHT
TZOFFSETFROM:-0500
TZOFFSETTO:-0400
TZNAME:EDT
DTSTART:20270314T070000
END:DAYLIGHT
BEGIN:STANDARD
TZOFFSETFROM:-0400
TZOFFSETTO:-0500
TZNAME:EST
DTSTART:20271107T060000
END:STANDARD
END:VTIMEZONE
BEGIN:VEVENT
DTSTART;TZID=America/New_York:20260308T100000
DTEND;TZID=America/New_York:20260308T230000
DTSTAMP:20260423T180151
CREATED:20250922T050720Z
LAST-MODIFIED:20250922T050720Z
UID:15660-1772964000-1773010800@brocktonucc.org
SUMMARY:Worship
DESCRIPTION:
URL:https://brocktonucc.org/event/worship-3/2026-03-08/
END:VEVENT
BEGIN:VEVENT
DTSTART;TZID=America/New_York:20260308T113000
DTEND;TZID=America/New_York:20260308T133000
DTSTAMP:20260423T180151
CREATED:20251230T173440Z
LAST-MODIFIED:20251230T173440Z
UID:16162-1772969400-1772976600@brocktonucc.org
SUMMARY:School Of Prophetic Action (Upper Wing)
DESCRIPTION:
URL:https://brocktonucc.org/event/school-of-prophetic-action-upper-wing/2026-03-08/
END:VEVENT
BEGIN:VEVENT
DTSTART;TZID=America/New_York:20260309T123000
DTEND;TZID=America/New_York:20260309T143000
DTSTAMP:20260423T180151
CREATED:20260218T143338Z
LAST-MODIFIED:20260226T143545Z
UID:16262-1773059400-1773066600@brocktonucc.org
SUMMARY:BrSO Piano Tuning
DESCRIPTION:
URL:https://brocktonucc.org/event/brso-piano-tuning/
END:VEVENT
BEGIN:VEVENT
DTSTART;TZID=America/New_York:20260309T191500
DTEND;TZID=America/New_York:20260309T214500
DTSTAMP:20260423T180151
CREATED:20250921T222250Z
LAST-MODIFIED:20250921T222250Z
UID:15553-1773083700-1773092700@brocktonucc.org
SUMMARY:BrSO Rehearsal
DESCRIPTION:
URL:https://brocktonucc.org/event/brso-rehearsal-20/2026-03-09/
END:VEVENT
BEGIN:VEVENT
DTSTART;TZID=America/New_York:20260311T100000
DTEND;TZID=America/New_York:20260311T120000
DTSTAMP:20260423T180151
CREATED:20250922T155650Z
LAST-MODIFIED:20250922T155650Z
UID:15734-1773223200-1773230400@brocktonucc.org
SUMMARY:Prayer Shawl Ministry (Library)
DESCRIPTION:
URL:https://brocktonucc.org/event/prayer-shawl-ministry-library-2/2026-03-11/
END:VEVENT
BEGIN:VEVENT
DTSTART;TZID=America/New_York:20260311T180000
DTEND;TZID=America/New_York:20260311T184500
DTSTAMP:20260423T180151
CREATED:20250910T173216Z
LAST-MODIFIED:20260311T164108Z
UID:15477-1773252000-1773254700@brocktonucc.org
SUMMARY:Adult Handbells - Cancelled
DESCRIPTION:
URL:https://brocktonucc.org/event/adult-handbells-2-2026-03-11/
END:VEVENT
BEGIN:VEVENT
DTSTART;TZID=America/New_York:20260311T184500
DTEND;TZID=America/New_York:20260311T201500
DTSTAMP:20260423T180151
CREATED:20250910T171404Z
LAST-MODIFIED:20260311T164014Z
UID:15437-1773254700-1773260100@brocktonucc.org
SUMMARY:Adult Choir - Cancelled
DESCRIPTION:
URL:https://brocktonucc.org/event/adult-choir-6-2026-03-11/
END:VEVENT
BEGIN:VEVENT
DTSTART;TZID=America/New_York:20260312T190000
DTEND;TZID=America/New_York:20260312T200000
DTSTAMP:20260423T180151
CREATED:20250908T165254Z
LAST-MODIFIED:20250922T173023Z
UID:15369-1773342000-1773345600@brocktonucc.org
SUMMARY:Finance & Property Committee Meeting (Zoom)
DESCRIPTION:
URL:https://brocktonucc.org/event/finance-property-committee-meeting-8/2026-03-12/
END:VEVENT
BEGIN:VEVENT
DTSTART;TZID=America/New_York:20260313T183000
DTEND;TZID=America/New_York:20260313T200000
DTSTAMP:20260423T180151
CREATED:20251230T172531Z
LAST-MODIFIED:20251230T172531Z
UID:16150-1773426600-1773432000@brocktonucc.org
SUMMARY:Youth Group Gathering (Faith Formation Wing)
DESCRIPTION:
URL:https://brocktonucc.org/event/youth-group-gathering-faith-formation-wing/2026-03-13/
END:VEVENT
BEGIN:VEVENT
DTSTART;TZID=America/New_York:20260314T090000
DTEND;TZID=America/New_York:20260314T110000
DTSTAMP:20260423T180151
CREATED:20260311T162629Z
LAST-MODIFIED:20260311T162629Z
UID:16309-1773478800-1773486000@brocktonucc.org
SUMMARY:ByLaw Committee Meeting (On-Site)
DESCRIPTION:
URL:https://brocktonucc.org/event/bylaw-committee-meeting-on-site/2026-03-14/
END:VEVENT
BEGIN:VEVENT
DTSTART;TZID=America/New_York:20260314T090000
DTEND;TZID=America/New_York:20260314T130000
DTSTAMP:20260423T180151
CREATED:20250921T223024Z
LAST-MODIFIED:20250921T223024Z
UID:15560-1773478800-1773493200@brocktonucc.org
SUMMARY:BrSO Dress Rehearsal
DESCRIPTION:
URL:https://brocktonucc.org/event/brso-dress-rehearsal-19/
END:VEVENT
BEGIN:VEVENT
DTSTART;TZID=America/New_York:20260314T110000
DTEND;TZID=America/New_York:20260314T143000
DTSTAMP:20260423T180151
CREATED:20260205T212623Z
LAST-MODIFIED:20260205T212623Z
UID:16249-1773486000-1773498600@brocktonucc.org
SUMMARY:BrSO & Rose Show & Lunch
DESCRIPTION:
URL:https://brocktonucc.org/event/brso-rose-show-lunch/
END:VEVENT
BEGIN:VEVENT
DTSTART;TZID=America/New_York:20260314T133000
DTEND;TZID=America/New_York:20260314T143000
DTSTAMP:20260423T180151
CREATED:20260218T143439Z
LAST-MODIFIED:20260218T143439Z
UID:16264-1773495000-1773498600@brocktonucc.org
SUMMARY:BrSO Piano Tuning
DESCRIPTION:
URL:https://brocktonucc.org/event/brso-piano-tuning-2/
END:VEVENT
END:VCALENDAR