BEGIN:VCALENDAR
VERSION:2.0
PRODID:-//Christ Congregational Church, UCC - ECPv6.15.20//NONSGML v1.0//EN
CALSCALE:GREGORIAN
METHOD:PUBLISH
X-WR-CALNAME:Christ Congregational Church, UCC
X-ORIGINAL-URL:https://brocktonucc.org
X-WR-CALDESC:Events for Christ Congregational Church, UCC
REFRESH-INTERVAL;VALUE=DURATION:PT1H
X-Robots-Tag:noindex
X-PUBLISHED-TTL:PT1H
BEGIN:VTIMEZONE
TZID:America/New_York
BEGIN:DAYLIGHT
TZOFFSETFROM:-0500
TZOFFSETTO:-0400
TZNAME:EDT
DTSTART:20250309T070000
END:DAYLIGHT
BEGIN:STANDARD
TZOFFSETFROM:-0400
TZOFFSETTO:-0500
TZNAME:EST
DTSTART:20251102T060000
END:STANDARD
BEGIN:DAYLIGHT
TZOFFSETFROM:-0500
TZOFFSETTO:-0400
TZNAME:EDT
DTSTART:20260308T070000
END:DAYLIGHT
BEGIN:STANDARD
TZOFFSETFROM:-0400
TZOFFSETTO:-0500
TZNAME:EST
DTSTART:20261101T060000
END:STANDARD
BEGIN:DAYLIGHT
TZOFFSETFROM:-0500
TZOFFSETTO:-0400
TZNAME:EDT
DTSTART:20270314T070000
END:DAYLIGHT
BEGIN:STANDARD
TZOFFSETFROM:-0400
TZOFFSETTO:-0500
TZNAME:EST
DTSTART:20271107T060000
END:STANDARD
END:VTIMEZONE
BEGIN:VEVENT
DTSTART;TZID=America/New_York:20260125T100000
DTEND;TZID=America/New_York:20260125T230000
DTSTAMP:20260423T174913
CREATED:20250922T050720Z
LAST-MODIFIED:20250922T050720Z
UID:15654-1769335200-1769382000@brocktonucc.org
SUMMARY:Worship
DESCRIPTION:
URL:https://brocktonucc.org/event/worship-3/2026-01-25/
END:VEVENT
BEGIN:VEVENT
DTSTART;TZID=America/New_York:20260125T113000
DTEND;TZID=America/New_York:20260125T150000
DTSTAMP:20260423T174913
CREATED:20251008T162217Z
LAST-MODIFIED:20251008T162217Z
UID:15970-1769340600-1769353200@brocktonucc.org
SUMMARY:Christian Education Committee Planning Retreat
DESCRIPTION:
URL:https://brocktonucc.org/event/christian-education-committee-planning-retreat/2026-01-25/
END:VEVENT
BEGIN:VEVENT
DTSTART;TZID=America/New_York:20260128T100000
DTEND;TZID=America/New_York:20260128T120000
DTSTAMP:20260423T174913
CREATED:20250922T155650Z
LAST-MODIFIED:20250922T155650Z
UID:15728-1769594400-1769601600@brocktonucc.org
SUMMARY:Prayer Shawl Ministry (Library)
DESCRIPTION:
URL:https://brocktonucc.org/event/prayer-shawl-ministry-library-2/2026-01-28/
END:VEVENT
BEGIN:VEVENT
DTSTART;TZID=America/New_York:20260128T180000
DTEND;TZID=America/New_York:20260128T184500
DTSTAMP:20260423T174913
CREATED:20250910T173216Z
LAST-MODIFIED:20250910T173216Z
UID:15471-1769623200-1769625900@brocktonucc.org
SUMMARY:Adult Handbells
DESCRIPTION:
URL:https://brocktonucc.org/event/adult-handbells-2/2026-01-28/
END:VEVENT
BEGIN:VEVENT
DTSTART;TZID=America/New_York:20260128T184500
DTEND;TZID=America/New_York:20260128T201500
DTSTAMP:20260423T174913
CREATED:20250910T171404Z
LAST-MODIFIED:20250910T171404Z
UID:15431-1769625900-1769631300@brocktonucc.org
SUMMARY:Adult Choir
DESCRIPTION:
URL:https://brocktonucc.org/event/adult-choir-6/2026-01-28/
END:VEVENT
BEGIN:VEVENT
DTSTART;TZID=America/New_York:20260129T120000
DTEND;TZID=America/New_York:20260129T190000
DTSTAMP:20260423T174913
CREATED:20250922T033317Z
LAST-MODIFIED:20250922T033317Z
UID:15624-1769688000-1769713200@brocktonucc.org
SUMMARY:Rose Conservatory Early Start
DESCRIPTION:
URL:https://brocktonucc.org/event/rose-conservatory-early-start-2/2026-01-29/
END:VEVENT
BEGIN:VEVENT
DTSTART;VALUE=DATE:20260130
DTEND;VALUE=DATE:20260131
DTSTAMP:20260423T174913
CREATED:20251009T173154Z
LAST-MODIFIED:20251009T173154Z
UID:16006-1769731200-1769817599@brocktonucc.org
SUMMARY:Winter Confirmation Sleep At Home Retreat
DESCRIPTION:At Christ Congregational Church \nStart @ 6:00pm on 1/30 \nPick Up 4:00pm on 1/31
URL:https://brocktonucc.org/event/winter-confirmation-sleep-at-home-retreat/2026-01-30/
END:VEVENT
BEGIN:VEVENT
DTSTART;VALUE=DATE:20260131
DTEND;VALUE=DATE:20260201
DTSTAMP:20260423T174913
CREATED:20251009T173154Z
LAST-MODIFIED:20251009T173154Z
UID:16007-1769817600-1769903999@brocktonucc.org
SUMMARY:Winter Confirmation Sleep At Home Retreat
DESCRIPTION:At Christ Congregational Church \nStart @ 6:00pm on 1/30 \nPick Up 4:00pm on 1/31
URL:https://brocktonucc.org/event/winter-confirmation-sleep-at-home-retreat/2026-01-31/
END:VEVENT
END:VCALENDAR