BEGIN:VCALENDAR
VERSION:2.0
PRODID:-//Christ Congregational Church, UCC - ECPv6.15.20//NONSGML v1.0//EN
CALSCALE:GREGORIAN
METHOD:PUBLISH
X-WR-CALNAME:Christ Congregational Church, UCC
X-ORIGINAL-URL:https://brocktonucc.org
X-WR-CALDESC:Events for Christ Congregational Church, UCC
REFRESH-INTERVAL;VALUE=DURATION:PT1H
X-Robots-Tag:noindex
X-PUBLISHED-TTL:PT1H
BEGIN:VTIMEZONE
TZID:America/New_York
BEGIN:DAYLIGHT
TZOFFSETFROM:-0500
TZOFFSETTO:-0400
TZNAME:EDT
DTSTART:20250309T070000
END:DAYLIGHT
BEGIN:STANDARD
TZOFFSETFROM:-0400
TZOFFSETTO:-0500
TZNAME:EST
DTSTART:20251102T060000
END:STANDARD
BEGIN:DAYLIGHT
TZOFFSETFROM:-0500
TZOFFSETTO:-0400
TZNAME:EDT
DTSTART:20260308T070000
END:DAYLIGHT
BEGIN:STANDARD
TZOFFSETFROM:-0400
TZOFFSETTO:-0500
TZNAME:EST
DTSTART:20261101T060000
END:STANDARD
BEGIN:DAYLIGHT
TZOFFSETFROM:-0500
TZOFFSETTO:-0400
TZNAME:EDT
DTSTART:20270314T070000
END:DAYLIGHT
BEGIN:STANDARD
TZOFFSETFROM:-0400
TZOFFSETTO:-0500
TZNAME:EST
DTSTART:20271107T060000
END:STANDARD
END:VTIMEZONE
BEGIN:VTIMEZONE
TZID:UTC
BEGIN:STANDARD
TZOFFSETFROM:+0000
TZOFFSETTO:+0000
TZNAME:UTC
DTSTART:20250101T000000
END:STANDARD
END:VTIMEZONE
BEGIN:VEVENT
DTSTART;TZID=America/New_York:20260104T100000
DTEND;TZID=America/New_York:20260104T230000
DTSTAMP:20260423T192507
CREATED:20250922T050720Z
LAST-MODIFIED:20250922T050720Z
UID:15651-1767520800-1767567600@brocktonucc.org
SUMMARY:Worship
DESCRIPTION:
URL:https://brocktonucc.org/event/worship-3/2026-01-04/
END:VEVENT
BEGIN:VEVENT
DTSTART;TZID=America/New_York:20260105T130000
DTEND;TZID=America/New_York:20260105T140000
DTSTAMP:20260423T192507
CREATED:20251006T163543Z
LAST-MODIFIED:20251006T163543Z
UID:15926-1767618000-1767621600@brocktonucc.org
SUMMARY:Staff Meeting (Quilt Room)
DESCRIPTION:
URL:https://brocktonucc.org/event/staff-meeting-quilt-room/2026-01-05/
END:VEVENT
BEGIN:VEVENT
DTSTART;TZID=America/New_York:20260106T190000
DTEND;TZID=America/New_York:20260106T200000
DTSTAMP:20260423T192507
CREATED:20251204T150142Z
LAST-MODIFIED:20251204T150142Z
UID:16113-1767726000-1767729600@brocktonucc.org
SUMMARY:Arts & Music Meeting(Zoom)
DESCRIPTION:
URL:https://brocktonucc.org/event/arts-music-meetingzoom/
END:VEVENT
BEGIN:VEVENT
DTSTART;TZID=America/New_York:20260107T100000
DTEND;TZID=America/New_York:20260107T120000
DTSTAMP:20260423T192507
CREATED:20250922T155650Z
LAST-MODIFIED:20250922T155650Z
UID:15725-1767780000-1767787200@brocktonucc.org
SUMMARY:Prayer Shawl Ministry (Library)
DESCRIPTION:
URL:https://brocktonucc.org/event/prayer-shawl-ministry-library-2/2026-01-07/
END:VEVENT
BEGIN:VEVENT
DTSTART;TZID=America/New_York:20260107T184500
DTEND;TZID=America/New_York:20260107T201500
DTSTAMP:20260423T192507
CREATED:20250910T171404Z
LAST-MODIFIED:20250910T171404Z
UID:15428-1767811500-1767816900@brocktonucc.org
SUMMARY:Adult Choir
DESCRIPTION:
URL:https://brocktonucc.org/event/adult-choir-6/2026-01-07/
END:VEVENT
BEGIN:VEVENT
DTSTART;TZID=America/New_York:20260108T180000
DTEND;TZID=America/New_York:20260108T200000
DTSTAMP:20260423T192507
CREATED:20251204T191549Z
LAST-MODIFIED:20251209T152335Z
UID:16115-1767895200-1767902400@brocktonucc.org
SUMMARY:BrSO Board Meeting (Upper Wing)
DESCRIPTION:
URL:https://brocktonucc.org/event/brso-board-meeting-quilt-room/
END:VEVENT
BEGIN:VEVENT
DTSTART;TZID=America/New_York:20260108T190000
DTEND;TZID=America/New_York:20260108T200000
DTSTAMP:20260423T192507
CREATED:20250908T165254Z
LAST-MODIFIED:20250922T173022Z
UID:15367-1767898800-1767902400@brocktonucc.org
SUMMARY:Finance & Property Committee Meeting (Zoom)
DESCRIPTION:
URL:https://brocktonucc.org/event/finance-property-committee-meeting-8/2026-01-08/
END:VEVENT
BEGIN:VEVENT
DTSTART;TZID=UTC:20260108T190000
DTEND;TZID=UTC:20260108T203000
DTSTAMP:20260423T192507
CREATED:20170923T002759Z
LAST-MODIFIED:20251202T150530Z
UID:15803-1767898800-1767904200@brocktonucc.org
SUMMARY:Deacons Committee Meeting (Zoom)
DESCRIPTION:
URL:https://brocktonucc.org/event/deacons-2025-09-04-2026-01-01/
LOCATION:Christ Congregational Church\, 1350 PLEASANT STREET\, Brockton\, MA\, 02301\, United States
END:VEVENT
END:VCALENDAR