BEGIN:VCALENDAR
VERSION:2.0
PRODID:-//Christ Congregational Church, UCC - ECPv6.15.20//NONSGML v1.0//EN
CALSCALE:GREGORIAN
METHOD:PUBLISH
X-WR-CALNAME:Christ Congregational Church, UCC
X-ORIGINAL-URL:https://brocktonucc.org
X-WR-CALDESC:Events for Christ Congregational Church, UCC
REFRESH-INTERVAL;VALUE=DURATION:PT1H
X-Robots-Tag:noindex
X-PUBLISHED-TTL:PT1H
BEGIN:VTIMEZONE
TZID:America/New_York
BEGIN:DAYLIGHT
TZOFFSETFROM:-0500
TZOFFSETTO:-0400
TZNAME:EDT
DTSTART:20240310T070000
END:DAYLIGHT
BEGIN:STANDARD
TZOFFSETFROM:-0400
TZOFFSETTO:-0500
TZNAME:EST
DTSTART:20241103T060000
END:STANDARD
BEGIN:DAYLIGHT
TZOFFSETFROM:-0500
TZOFFSETTO:-0400
TZNAME:EDT
DTSTART:20250309T070000
END:DAYLIGHT
BEGIN:STANDARD
TZOFFSETFROM:-0400
TZOFFSETTO:-0500
TZNAME:EST
DTSTART:20251102T060000
END:STANDARD
BEGIN:DAYLIGHT
TZOFFSETFROM:-0500
TZOFFSETTO:-0400
TZNAME:EDT
DTSTART:20260308T070000
END:DAYLIGHT
BEGIN:STANDARD
TZOFFSETFROM:-0400
TZOFFSETTO:-0500
TZNAME:EST
DTSTART:20261101T060000
END:STANDARD
END:VTIMEZONE
BEGIN:VEVENT
DTSTART;TZID=America/New_York:20251207T090000
DTEND;TZID=America/New_York:20251207T094500
DTSTAMP:20260424T015702
CREATED:20250923T172317Z
LAST-MODIFIED:20250923T172317Z
UID:15885-1765098000-1765100700@brocktonucc.org
SUMMARY:Advent Devotional Study
DESCRIPTION:Led by Donna Costa
URL:https://brocktonucc.org/event/advent-devotional-study/2025-12-07/
END:VEVENT
BEGIN:VEVENT
DTSTART;TZID=America/New_York:20251207T100000
DTEND;TZID=America/New_York:20251207T110000
DTSTAMP:20260424T015702
CREATED:20250818T145624Z
LAST-MODIFIED:20250923T161349Z
UID:15298-1765101600-1765105200@brocktonucc.org
SUMMARY:Worship
DESCRIPTION:
URL:https://brocktonucc.org/event/worship-2/2025-12-07/
LOCATION:Sanctuary\, 1350 PLEASANT ST\, BROCKTON\, MA\, 02301-2897\, United States
END:VEVENT
BEGIN:VEVENT
DTSTART;TZID=America/New_York:20251207T113000
DTEND;TZID=America/New_York:20251207T123000
DTSTAMP:20260424T015702
CREATED:20251008T161855Z
LAST-MODIFIED:20251008T161855Z
UID:15964-1765107000-1765110600@brocktonucc.org
SUMMARY:Christian Education Committee Meeting
DESCRIPTION:
URL:https://brocktonucc.org/event/christian-education-committee-meeting-13/2025-12-07/
END:VEVENT
BEGIN:VEVENT
DTSTART;TZID=America/New_York:20251207T130000
DTEND;TZID=America/New_York:20251207T170000
DTSTAMP:20260424T015702
CREATED:20251007T174757Z
LAST-MODIFIED:20251008T145934Z
UID:15917-1765112400-1765126800@brocktonucc.org
SUMMARY:Jubilate Chorale Winter Concert
DESCRIPTION:3:00pm Concert
URL:https://brocktonucc.org/event/jubilate-chorale-winter-concert-2/
END:VEVENT
BEGIN:VEVENT
DTSTART;TZID=America/New_York:20251208T191500
DTEND;TZID=America/New_York:20251208T214500
DTSTAMP:20260424T015702
CREATED:20250921T214616Z
LAST-MODIFIED:20250921T214616Z
UID:16024-1765221300-1765230300@brocktonucc.org
SUMMARY:BrSO Rehearsal
DESCRIPTION:
URL:https://brocktonucc.org/event/brso-rehearsal-18-2025-11-10/2025-12-08/
END:VEVENT
BEGIN:VEVENT
DTSTART;TZID=America/New_York:20251210T100000
DTEND;TZID=America/New_York:20251210T120000
DTSTAMP:20260424T015702
CREATED:20250922T155650Z
LAST-MODIFIED:20250922T155650Z
UID:15721-1765360800-1765368000@brocktonucc.org
SUMMARY:Prayer Shawl Ministry (Library)
DESCRIPTION:
URL:https://brocktonucc.org/event/prayer-shawl-ministry-library-2/2025-12-10/
END:VEVENT
BEGIN:VEVENT
DTSTART;TZID=America/New_York:20251210T180000
DTEND;TZID=America/New_York:20251210T184500
DTSTAMP:20260424T015702
CREATED:20250910T173216Z
LAST-MODIFIED:20250910T173216Z
UID:15464-1765389600-1765392300@brocktonucc.org
SUMMARY:Adult Handbells
DESCRIPTION:
URL:https://brocktonucc.org/event/adult-handbells-2/2025-12-10/
END:VEVENT
BEGIN:VEVENT
DTSTART;TZID=America/New_York:20251210T184500
DTEND;TZID=America/New_York:20251210T201500
DTSTAMP:20260424T015702
CREATED:20250910T171404Z
LAST-MODIFIED:20250910T171404Z
UID:15424-1765392300-1765397700@brocktonucc.org
SUMMARY:Adult Choir
DESCRIPTION:
URL:https://brocktonucc.org/event/adult-choir-6/2025-12-10/
END:VEVENT
BEGIN:VEVENT
DTSTART;TZID=America/New_York:20251211T190000
DTEND;TZID=America/New_York:20251211T200000
DTSTAMP:20260424T015702
CREATED:20250908T165254Z
LAST-MODIFIED:20250922T173022Z
UID:15366-1765479600-1765483200@brocktonucc.org
SUMMARY:Finance & Property Committee Meeting (Zoom)
DESCRIPTION:
URL:https://brocktonucc.org/event/finance-property-committee-meeting-8/2025-12-11/
END:VEVENT
BEGIN:VEVENT
DTSTART;TZID=America/New_York:20251212T093000
DTEND;TZID=America/New_York:20251212T224000
DTSTAMP:20260424T015702
CREATED:20250921T215923Z
LAST-MODIFIED:20250921T224721Z
UID:15538-1765531800-1765579200@brocktonucc.org
SUMMARY:BrSO Percussion Pick-Up
DESCRIPTION:
URL:https://brocktonucc.org/event/brso-percussion/
END:VEVENT
BEGIN:VEVENT
DTSTART;TZID=America/New_York:20251212T183000
DTEND;TZID=America/New_York:20251212T200000
DTSTAMP:20260424T015702
CREATED:20251008T153243Z
LAST-MODIFIED:20251118T171632Z
UID:15952-1765564200-1765569600@brocktonucc.org
SUMMARY:Youth Group Christmas Party (Faith Formation Wing)
DESCRIPTION:
URL:https://brocktonucc.org/event/youth-group-gathering-off-site/
END:VEVENT
END:VCALENDAR