BEGIN:VCALENDAR
VERSION:2.0
PRODID:-//Christ Congregational Church, UCC - ECPv6.15.20//NONSGML v1.0//EN
CALSCALE:GREGORIAN
METHOD:PUBLISH
X-WR-CALNAME:Christ Congregational Church, UCC
X-ORIGINAL-URL:https://brocktonucc.org
X-WR-CALDESC:Events for Christ Congregational Church, UCC
REFRESH-INTERVAL;VALUE=DURATION:PT1H
X-Robots-Tag:noindex
X-PUBLISHED-TTL:PT1H
BEGIN:VTIMEZONE
TZID:America/New_York
BEGIN:DAYLIGHT
TZOFFSETFROM:-0500
TZOFFSETTO:-0400
TZNAME:EDT
DTSTART:20240310T070000
END:DAYLIGHT
BEGIN:STANDARD
TZOFFSETFROM:-0400
TZOFFSETTO:-0500
TZNAME:EST
DTSTART:20241103T060000
END:STANDARD
BEGIN:DAYLIGHT
TZOFFSETFROM:-0500
TZOFFSETTO:-0400
TZNAME:EDT
DTSTART:20250309T070000
END:DAYLIGHT
BEGIN:STANDARD
TZOFFSETFROM:-0400
TZOFFSETTO:-0500
TZNAME:EST
DTSTART:20251102T060000
END:STANDARD
BEGIN:DAYLIGHT
TZOFFSETFROM:-0500
TZOFFSETTO:-0400
TZNAME:EDT
DTSTART:20260308T070000
END:DAYLIGHT
BEGIN:STANDARD
TZOFFSETFROM:-0400
TZOFFSETTO:-0500
TZNAME:EST
DTSTART:20261101T060000
END:STANDARD
END:VTIMEZONE
BEGIN:VEVENT
DTSTART;TZID=America/New_York:20251109T090000
DTEND;TZID=America/New_York:20251109T094500
DTSTAMP:20260424T005350
CREATED:20250923T160318Z
LAST-MODIFIED:20250923T160318Z
UID:15861-1762678800-1762681500@brocktonucc.org
SUMMARY:Fall Adult Bible Study
DESCRIPTION:
URL:https://brocktonucc.org/event/fall-adult-bible-study/2025-11-09/
END:VEVENT
BEGIN:VEVENT
DTSTART;TZID=America/New_York:20251109T100000
DTEND;TZID=America/New_York:20251109T110000
DTSTAMP:20260424T005350
CREATED:20250818T145624Z
LAST-MODIFIED:20250923T161348Z
UID:15294-1762682400-1762686000@brocktonucc.org
SUMMARY:Worship
DESCRIPTION:
URL:https://brocktonucc.org/event/worship-2/2025-11-09/
LOCATION:Sanctuary\, 1350 PLEASANT ST\, BROCKTON\, MA\, 02301-2897\, United States
END:VEVENT
BEGIN:VEVENT
DTSTART;TZID=America/New_York:20251109T111500
DTEND;TZID=America/New_York:20251109T121500
DTSTAMP:20260424T005350
CREATED:20251021T144250Z
LAST-MODIFIED:20251021T144250Z
UID:16027-1762686900-1762690500@brocktonucc.org
SUMMARY:Annual Fall Church Meeting
DESCRIPTION:
URL:https://brocktonucc.org/event/annual-fall-church-meeting/
END:VEVENT
BEGIN:VEVENT
DTSTART;TZID=America/New_York:20251109T113000
DTEND;TZID=America/New_York:20251109T123000
DTSTAMP:20260424T005350
CREATED:20251008T175250Z
LAST-MODIFIED:20251008T175250Z
UID:15986-1762687800-1762691400@brocktonucc.org
SUMMARY:Deacons Check In w/Confirmands
DESCRIPTION:
URL:https://brocktonucc.org/event/deacons-check-in-w-confirmands/2025-11-09/
END:VEVENT
BEGIN:VEVENT
DTSTART;TZID=America/New_York:20251110T191500
DTEND;TZID=America/New_York:20251110T214500
DTSTAMP:20260424T005350
CREATED:20250921T214616Z
LAST-MODIFIED:20251016T161958Z
UID:15526-1762802100-1762811100@brocktonucc.org
SUMMARY:BrSO Rehearsal
DESCRIPTION:
URL:https://brocktonucc.org/event/brso-rehearsal-18-2025-11-10/2025-11-10/
END:VEVENT
BEGIN:VEVENT
DTSTART;VALUE=DATE:20251111
DTEND;VALUE=DATE:20251112
DTSTAMP:20260424T005350
CREATED:20250921T234615Z
LAST-MODIFIED:20250921T234650Z
UID:15588-1762819200-1762905599@brocktonucc.org
SUMMARY:VETERANS' DAY (Office Closed)
DESCRIPTION:
URL:https://brocktonucc.org/event/veterans-day-2/
END:VEVENT
BEGIN:VEVENT
DTSTART;TZID=America/New_York:20251112T100000
DTEND;TZID=America/New_York:20251112T120000
DTSTAMP:20260424T005350
CREATED:20250922T155650Z
LAST-MODIFIED:20250922T155650Z
UID:15716-1762941600-1762948800@brocktonucc.org
SUMMARY:Prayer Shawl Ministry (Library)
DESCRIPTION:
URL:https://brocktonucc.org/event/prayer-shawl-ministry-library-2/2025-11-12/
END:VEVENT
BEGIN:VEVENT
DTSTART;TZID=America/New_York:20251112T180000
DTEND;TZID=America/New_York:20251112T184500
DTSTAMP:20260424T005350
CREATED:20250910T173216Z
LAST-MODIFIED:20250910T173216Z
UID:15459-1762970400-1762973100@brocktonucc.org
SUMMARY:Adult Handbells
DESCRIPTION:
URL:https://brocktonucc.org/event/adult-handbells-2/2025-11-12/
END:VEVENT
BEGIN:VEVENT
DTSTART;TZID=America/New_York:20251112T184500
DTEND;TZID=America/New_York:20251112T201500
DTSTAMP:20260424T005350
CREATED:20250910T171404Z
LAST-MODIFIED:20250910T171404Z
UID:15419-1762973100-1762978500@brocktonucc.org
SUMMARY:Adult Choir
DESCRIPTION:
URL:https://brocktonucc.org/event/adult-choir-6/2025-11-12/
END:VEVENT
BEGIN:VEVENT
DTSTART;TZID=America/New_York:20251113T190000
DTEND;TZID=America/New_York:20251113T200000
DTSTAMP:20260424T005350
CREATED:20250908T165254Z
LAST-MODIFIED:20250922T173022Z
UID:15365-1763060400-1763064000@brocktonucc.org
SUMMARY:Finance & Property Committee Meeting (Zoom)
DESCRIPTION:
URL:https://brocktonucc.org/event/finance-property-committee-meeting-8/2025-11-13/
END:VEVENT
BEGIN:VEVENT
DTSTART;TZID=America/New_York:20251113T193000
DTEND;TZID=America/New_York:20251113T203000
DTSTAMP:20260424T005350
CREATED:20251028T140225Z
LAST-MODIFIED:20251028T140225Z
UID:16038-1763062200-1763065800@brocktonucc.org
SUMMARY:Stewardship Committee Meeting
DESCRIPTION:
URL:https://brocktonucc.org/event/stewardship-committee-meeting/
END:VEVENT
BEGIN:VEVENT
DTSTART;TZID=America/New_York:20251115T170000
DTEND;TZID=America/New_York:20251115T193000
DTSTAMP:20260424T005350
CREATED:20250923T163244Z
LAST-MODIFIED:20250923T163244Z
UID:15875-1763226000-1763235000@brocktonucc.org
SUMMARY:Parent's Night Out
DESCRIPTION:
URL:https://brocktonucc.org/event/parents-night-out-3/
END:VEVENT
END:VCALENDAR