BEGIN:VCALENDAR
VERSION:2.0
PRODID:-//Christ Congregational Church, UCC - ECPv6.15.20//NONSGML v1.0//EN
CALSCALE:GREGORIAN
METHOD:PUBLISH
X-WR-CALNAME:Christ Congregational Church, UCC
X-ORIGINAL-URL:https://brocktonucc.org
X-WR-CALDESC:Events for Christ Congregational Church, UCC
REFRESH-INTERVAL;VALUE=DURATION:PT1H
X-Robots-Tag:noindex
X-PUBLISHED-TTL:PT1H
BEGIN:VTIMEZONE
TZID:UTC
BEGIN:STANDARD
TZOFFSETFROM:+0000
TZOFFSETTO:+0000
TZNAME:UTC
DTSTART:20230101T000000
END:STANDARD
END:VTIMEZONE
BEGIN:VEVENT
DTSTART;TZID=UTC:20240709T193000
DTEND;TZID=UTC:20240709T203000
DTSTAMP:20260425T111904
CREATED:20240522T184035Z
LAST-MODIFIED:20240522T184035Z
UID:14325-1720553400-1720557000@brocktonucc.org
SUMMARY:Prayer Group w/Deb Bowman (Zoom)
DESCRIPTION:
URL:https://brocktonucc.org/event/prayer-group-w-deb-bowman-zoom/2024-07-09/
END:VEVENT
END:VCALENDAR