BEGIN:VCALENDAR
VERSION:2.0
PRODID:-//Christ Congregational Church, UCC - ECPv6.15.20//NONSGML v1.0//EN
CALSCALE:GREGORIAN
METHOD:PUBLISH
X-WR-CALNAME:Christ Congregational Church, UCC
X-ORIGINAL-URL:https://brocktonucc.org
X-WR-CALDESC:Events for Christ Congregational Church, UCC
REFRESH-INTERVAL;VALUE=DURATION:PT1H
X-Robots-Tag:noindex
X-PUBLISHED-TTL:PT1H
BEGIN:VTIMEZONE
TZID:UTC
BEGIN:STANDARD
TZOFFSETFROM:+0000
TZOFFSETTO:+0000
TZNAME:UTC
DTSTART:20230101T000000
END:STANDARD
END:VTIMEZONE
BEGIN:VEVENT
DTSTART;TZID=UTC:20240414T120000
DTEND;TZID=UTC:20240414T130000
DTSTAMP:20260425T145707
CREATED:20240207T220234Z
LAST-MODIFIED:20240207T220734Z
UID:14018-1713096000-1713099600@brocktonucc.org
SUMMARY:Intergenerational Spring Hike (After Second Sunday Lunch)
DESCRIPTION:12:00pm – Wetland trail behind the church building
URL:https://brocktonucc.org/event/intergenerational-spring-hike-after-second-sunday-lunch/
END:VEVENT
BEGIN:VEVENT
DTSTART;VALUE=DATE:20240415
DTEND;VALUE=DATE:20240416
DTSTAMP:20260425T145707
CREATED:20240205T094552Z
LAST-MODIFIED:20240205T104043Z
UID:13963-1713139200-1713225599@brocktonucc.org
SUMMARY:Patriot's Day (Office Closed)
DESCRIPTION:
URL:https://brocktonucc.org/event/patriots-day-office-closed-4/
END:VEVENT
BEGIN:VEVENT
DTSTART;TZID=UTC:20240416T080000
DTEND;TZID=UTC:20240416T160000
DTSTAMP:20260425T145707
CREATED:20240229T205635Z
LAST-MODIFIED:20240229T205635Z
UID:14089-1713254400-1713283200@brocktonucc.org
SUMMARY:Rose Conservatory Spring Break Program
DESCRIPTION:
URL:https://brocktonucc.org/event/rose-conservatory-spring-break-program-2/2024-04-16/
END:VEVENT
BEGIN:VEVENT
DTSTART;TZID=UTC:20240419T100000
DTEND;TZID=UTC:20240419T120000
DTSTAMP:20260425T145707
CREATED:20240419T050557Z
LAST-MODIFIED:20240419T050557Z
UID:14226-1713520800-1713528000@brocktonucc.org
SUMMARY:Michael Camara Celebration Of Life Service
DESCRIPTION:10AM – Calling Hours \n11AM – Funeral Service
URL:https://brocktonucc.org/event/michael-camara-celebration-of-life-service/
END:VEVENT
BEGIN:VEVENT
DTSTART;TZID=UTC:20240420T100000
DTEND;TZID=UTC:20240420T130000
DTSTAMP:20260425T145707
CREATED:20230628T185709Z
LAST-MODIFIED:20230628T185709Z
UID:13082-1713607200-1713618000@brocktonucc.org
SUMMARY:BrSO Dress Rehearsal
DESCRIPTION:
URL:https://brocktonucc.org/event/brso-dress-rehearsal-12/
END:VEVENT
END:VCALENDAR