BEGIN:VCALENDAR
VERSION:2.0
PRODID:-//Christ Congregational Church, UCC - ECPv6.15.20//NONSGML v1.0//EN
CALSCALE:GREGORIAN
METHOD:PUBLISH
X-ORIGINAL-URL:https://brocktonucc.org
X-WR-CALDESC:Events for Christ Congregational Church, UCC
REFRESH-INTERVAL;VALUE=DURATION:PT1H
X-Robots-Tag:noindex
X-PUBLISHED-TTL:PT1H
BEGIN:VTIMEZONE
TZID:UTC
BEGIN:STANDARD
TZOFFSETFROM:+0000
TZOFFSETTO:+0000
TZNAME:UTC
DTSTART:20230101T000000
END:STANDARD
END:VTIMEZONE
BEGIN:VEVENT
DTSTART;TZID=UTC:20240407T090000
DTEND;TZID=UTC:20240407T094500
DTSTAMP:20260425T145828
CREATED:20240227T193559Z
LAST-MODIFIED:20240319T192057Z
UID:14078-1712480400-1712483100@brocktonucc.org
SUMMARY:Lenten Bible Study (On-Site Quilt Room)
DESCRIPTION:
URL:https://brocktonucc.org/event/lenten-bible-study-on-site-quilt-room-2024-03-31/
END:VEVENT
BEGIN:VEVENT
DTSTART;TZID=UTC:20240407T160000
DTEND;TZID=UTC:20240407T180000
DTSTAMP:20260425T145828
CREATED:20230808T174130Z
LAST-MODIFIED:20240326T193919Z
UID:13270-1712505600-1712512800@brocktonucc.org
SUMMARY:Arts & Music Spring Concert w/Leonardo Ciampa
DESCRIPTION:Leonardo Practice @ 1:00pm
URL:https://brocktonucc.org/event/arts-music-event/
END:VEVENT
BEGIN:VEVENT
DTSTART;TZID=UTC:20240408T173000
DTEND;TZID=UTC:20240408T191500
DTSTAMP:20260425T145828
CREATED:20240311T231416Z
LAST-MODIFIED:20240311T231416Z
UID:14113-1712597400-1712603700@brocktonucc.org
SUMMARY:BrSO Executive Committee Meeting
DESCRIPTION:
URL:https://brocktonucc.org/event/brso-executive-committee-meeting-10/
END:VEVENT
BEGIN:VEVENT
DTSTART;TZID=UTC:20240411T110000
DTEND;TZID=UTC:20240411T123000
DTSTAMP:20260425T145828
CREATED:20240327T174804Z
LAST-MODIFIED:20240327T175323Z
UID:14146-1712833200-1712838600@brocktonucc.org
SUMMARY:David Stuart's Celebration Of Life Service
DESCRIPTION:
URL:https://brocktonucc.org/event/david-stuarts-celebration-of-life-service/
END:VEVENT
END:VCALENDAR