BEGIN:VCALENDAR
VERSION:2.0
PRODID:-//Christ Congregational Church, UCC - ECPv6.15.20//NONSGML v1.0//EN
CALSCALE:GREGORIAN
METHOD:PUBLISH
X-ORIGINAL-URL:https://brocktonucc.org
X-WR-CALDESC:Events for Christ Congregational Church, UCC
REFRESH-INTERVAL;VALUE=DURATION:PT1H
X-Robots-Tag:noindex
X-PUBLISHED-TTL:PT1H
BEGIN:VTIMEZONE
TZID:UTC
BEGIN:STANDARD
TZOFFSETFROM:+0000
TZOFFSETTO:+0000
TZNAME:UTC
DTSTART:20230101T000000
END:STANDARD
END:VTIMEZONE
BEGIN:VEVENT
DTSTART;VALUE=DATE:20240310
DTEND;VALUE=DATE:20240311
DTSTAMP:20260425T190257
CREATED:20240205T104713Z
LAST-MODIFIED:20240205T104713Z
UID:13990-1710028800-1710115199@brocktonucc.org
SUMMARY:Fourth Sunday In Lent
DESCRIPTION:
URL:https://brocktonucc.org/event/fourth-sunday-in-lent/
END:VEVENT
BEGIN:VEVENT
DTSTART;TZID=UTC:20240310T130000
DTEND;TZID=UTC:20240310T170000
DTSTAMP:20260425T190257
CREATED:20230628T185134Z
LAST-MODIFIED:20230628T185134Z
UID:13076-1710075600-1710090000@brocktonucc.org
SUMMARY:Brockton Symphony Orchestra Winter Concert
DESCRIPTION:Concert @ 3:00pm
URL:https://brocktonucc.org/event/brockton-symphony-orchestra-winter-concert/
END:VEVENT
BEGIN:VEVENT
DTSTART;TZID=UTC:20240311T191500
DTEND;TZID=UTC:20240311T214500
DTSTAMP:20260425T190257
CREATED:20240311T231246Z
LAST-MODIFIED:20240311T231246Z
UID:14106-1710184500-1710193500@brocktonucc.org
SUMMARY:BrSO Rehearsal
DESCRIPTION:
URL:https://brocktonucc.org/event/brso-rehearsal-15/2024-03-11/
END:VEVENT
END:VCALENDAR