BEGIN:VCALENDAR
VERSION:2.0
PRODID:-//Christ Congregational Church, UCC - ECPv6.15.20//NONSGML v1.0//EN
CALSCALE:GREGORIAN
METHOD:PUBLISH
X-WR-CALNAME:Christ Congregational Church, UCC
X-ORIGINAL-URL:https://brocktonucc.org
X-WR-CALDESC:Events for Christ Congregational Church, UCC
REFRESH-INTERVAL;VALUE=DURATION:PT1H
X-Robots-Tag:noindex
X-PUBLISHED-TTL:PT1H
BEGIN:VTIMEZONE
TZID:UTC
BEGIN:STANDARD
TZOFFSETFROM:+0000
TZOFFSETTO:+0000
TZNAME:UTC
DTSTART:20230101T000000
END:STANDARD
END:VTIMEZONE
BEGIN:VEVENT
DTSTART;VALUE=DATE:20240218
DTEND;VALUE=DATE:20240219
DTSTAMP:20260425T174913
CREATED:20240205T104459Z
LAST-MODIFIED:20240205T104459Z
UID:13984-1708214400-1708300799@brocktonucc.org
SUMMARY:First Sunday In Lent
DESCRIPTION:
URL:https://brocktonucc.org/event/first-sunday-in-lent/
END:VEVENT
BEGIN:VEVENT
DTSTART;TZID=UTC:20240218T090000
DTEND;TZID=UTC:20240218T094500
DTSTAMP:20260425T174913
CREATED:20240227T193559Z
LAST-MODIFIED:20240227T193559Z
UID:14072-1708246800-1708249500@brocktonucc.org
SUMMARY:Lenten Bible Study (On-Site Quilt Room)
DESCRIPTION:
URL:https://brocktonucc.org/event/lenten-bible-study-on-site-quilt-room/2024-02-18/
END:VEVENT
BEGIN:VEVENT
DTSTART;VALUE=DATE:20240219
DTEND;VALUE=DATE:20240220
DTSTAMP:20260425T174913
CREATED:20240123T212058Z
LAST-MODIFIED:20240205T104144Z
UID:13920-1708300800-1708387199@brocktonucc.org
SUMMARY:Presidents' Day (Office Closed)
DESCRIPTION:
URL:https://brocktonucc.org/event/presidents-day-office-closed-4/
END:VEVENT
BEGIN:VEVENT
DTSTART;TZID=UTC:20240220T080000
DTEND;TZID=UTC:20240220T160000
DTSTAMP:20260425T174913
CREATED:20240123T211947Z
LAST-MODIFIED:20240123T212344Z
UID:13918-1708416000-1708444800@brocktonucc.org
SUMMARY:Rose Conservatory Winter Break Program
DESCRIPTION:
URL:https://brocktonucc.org/event/rose-conservatory-winter-break-program-3/2024-02-20/
END:VEVENT
END:VCALENDAR