BEGIN:VCALENDAR
VERSION:2.0
PRODID:-//Christ Congregational Church, UCC - ECPv6.15.20//NONSGML v1.0//EN
CALSCALE:GREGORIAN
METHOD:PUBLISH
X-ORIGINAL-URL:https://brocktonucc.org
X-WR-CALDESC:Events for Christ Congregational Church, UCC
REFRESH-INTERVAL;VALUE=DURATION:PT1H
X-Robots-Tag:noindex
X-PUBLISHED-TTL:PT1H
BEGIN:VTIMEZONE
TZID:UTC
BEGIN:STANDARD
TZOFFSETFROM:+0000
TZOFFSETTO:+0000
TZNAME:UTC
DTSTART:20230101T000000
END:STANDARD
END:VTIMEZONE
BEGIN:VEVENT
DTSTART;TZID=UTC:20240108T190000
DTEND;TZID=UTC:20240108T200000
DTSTAMP:20260425T174108
CREATED:20231107T221153Z
LAST-MODIFIED:20231107T221153Z
UID:13700-1704740400-1704744000@brocktonucc.org
SUMMARY:Endowment Trustees Meeting (Zoom)
DESCRIPTION:
URL:https://brocktonucc.org/event/endowment-trustees-meeting-zoom/
END:VEVENT
BEGIN:VEVENT
DTSTART;TZID=UTC:20240108T190000
DTEND;TZID=UTC:20240108T200000
DTSTAMP:20260425T174108
CREATED:20231229T221540Z
LAST-MODIFIED:20231229T221540Z
UID:13874-1704740400-1704744000@brocktonucc.org
SUMMARY:Arts & Music Committee Meeting (Zoom)
DESCRIPTION:
URL:https://brocktonucc.org/event/arts-music-committee-meeting-zoom-2/
END:VEVENT
BEGIN:VEVENT
DTSTART;TZID=UTC:20240109T190000
DTEND;TZID=UTC:20240109T210000
DTSTAMP:20260425T174108
CREATED:20231030T204452Z
LAST-MODIFIED:20240104T022633Z
UID:13678-1704826800-1704834000@brocktonucc.org
SUMMARY:Christian Education Committee Meeting (Zoom)
DESCRIPTION:
URL:https://brocktonucc.org/event/christian-education-committee-meeting-on-site-2-2024-01-07/
END:VEVENT
BEGIN:VEVENT
DTSTART;TZID=UTC:20240110T121500
DTEND;TZID=UTC:20240110T130000
DTSTAMP:20260425T174108
CREATED:20240102T203106Z
LAST-MODIFIED:20240102T203350Z
UID:13880-1704888900-1704891600@brocktonucc.org
SUMMARY:Midday Music Concert w/Anton Faynberg
DESCRIPTION:
URL:https://brocktonucc.org/event/midday-music-concert-w-anton-faynberg-2/
END:VEVENT
END:VCALENDAR