BEGIN:VCALENDAR
VERSION:2.0
PRODID:-//Christ Congregational Church, UCC - ECPv6.15.20//NONSGML v1.0//EN
CALSCALE:GREGORIAN
METHOD:PUBLISH
X-WR-CALNAME:Christ Congregational Church, UCC
X-ORIGINAL-URL:https://brocktonucc.org
X-WR-CALDESC:Events for Christ Congregational Church, UCC
REFRESH-INTERVAL;VALUE=DURATION:PT1H
X-Robots-Tag:noindex
X-PUBLISHED-TTL:PT1H
BEGIN:VTIMEZONE
TZID:UTC
BEGIN:STANDARD
TZOFFSETFROM:+0000
TZOFFSETTO:+0000
TZNAME:UTC
DTSTART:20220101T000000
END:STANDARD
END:VTIMEZONE
BEGIN:VEVENT
DTSTART;VALUE=DATE:20231210
DTEND;VALUE=DATE:20231211
DTSTAMP:20260425T201502
CREATED:20231116T204603Z
LAST-MODIFIED:20231116T204603Z
UID:13801-1702166400-1702252799@brocktonucc.org
SUMMARY:SECOND SUNDAY OF ADVENT
DESCRIPTION:
URL:https://brocktonucc.org/event/second-sunday-of-advent-4/
END:VEVENT
BEGIN:VEVENT
DTSTART;TZID=UTC:20231210T113000
DTEND;TZID=UTC:20231210T123000
DTSTAMP:20260425T201502
CREATED:20231002T194041Z
LAST-MODIFIED:20231207T015856Z
UID:13532-1702207800-1702211400@brocktonucc.org
SUMMARY:Vitality Committee Meeting
DESCRIPTION:
URL:https://brocktonucc.org/event/vitality-committee-meeting-6-2023-12-03/
END:VEVENT
BEGIN:VEVENT
DTSTART;TZID=UTC:20231210T140000
DTEND;TZID=UTC:20231210T170000
DTSTAMP:20260425T201502
CREATED:20231117T215333Z
LAST-MODIFIED:20231117T215457Z
UID:13821-1702216800-1702227600@brocktonucc.org
SUMMARY:BIC Meeting (Fellowship Hall)
DESCRIPTION:
URL:https://brocktonucc.org/event/bic-meeting-28/
END:VEVENT
BEGIN:VEVENT
DTSTART;TZID=UTC:20231212T070000
DTEND;TZID=UTC:20231212T120000
DTSTAMP:20260425T201502
CREATED:20231116T201931Z
LAST-MODIFIED:20231116T201931Z
UID:13788-1702364400-1702382400@brocktonucc.org
SUMMARY:BAMSI Christmas Party
DESCRIPTION:
URL:https://brocktonucc.org/event/bamsi-christmas-party-5/
END:VEVENT
BEGIN:VEVENT
DTSTART;TZID=UTC:20231213T121500
DTEND;TZID=UTC:20231213T130000
DTSTAMP:20260425T201502
CREATED:20231116T202959Z
LAST-MODIFIED:20231116T202959Z
UID:13795-1702469700-1702472400@brocktonucc.org
SUMMARY:Midday Music Concert w/Alex Green
DESCRIPTION:
URL:https://brocktonucc.org/event/midday-music-concert-w-alex-green/
END:VEVENT
BEGIN:VEVENT
DTSTART;TZID=UTC:20231215T105500
DTEND;TZID=UTC:20231215T113000
DTSTAMP:20260425T201502
CREATED:20231114T231557Z
LAST-MODIFIED:20231114T231557Z
UID:13767-1702637700-1702639800@brocktonucc.org
SUMMARY:BrSO Pick-Up Percussion
DESCRIPTION:
URL:https://brocktonucc.org/event/brso-pick-up-percussion/
END:VEVENT
BEGIN:VEVENT
DTSTART;TZID=UTC:20231216T090000
DTEND;TZID=UTC:20231216T100000
DTSTAMP:20260425T201502
CREATED:20231211T232124Z
LAST-MODIFIED:20231211T232124Z
UID:13847-1702717200-1702720800@brocktonucc.org
SUMMARY:Deacons - Poinsettia Set-Up
DESCRIPTION:
URL:https://brocktonucc.org/event/deacons-poinsettia-set-up/
END:VEVENT
END:VCALENDAR