BEGIN:VCALENDAR
VERSION:2.0
PRODID:-//Christ Congregational Church, UCC - ECPv6.15.20//NONSGML v1.0//EN
CALSCALE:GREGORIAN
METHOD:PUBLISH
X-ORIGINAL-URL:https://brocktonucc.org
X-WR-CALDESC:Events for Christ Congregational Church, UCC
REFRESH-INTERVAL;VALUE=DURATION:PT1H
X-Robots-Tag:noindex
X-PUBLISHED-TTL:PT1H
BEGIN:VTIMEZONE
TZID:UTC
BEGIN:STANDARD
TZOFFSETFROM:+0000
TZOFFSETTO:+0000
TZNAME:UTC
DTSTART:20220101T000000
END:STANDARD
END:VTIMEZONE
BEGIN:VEVENT
DTSTART;VALUE=DATE:20231203
DTEND;VALUE=DATE:20231204
DTSTAMP:20260425T191221
CREATED:20231116T204504Z
LAST-MODIFIED:20231116T204504Z
UID:13799-1701561600-1701647999@brocktonucc.org
SUMMARY:FIRST SUNDAY OF ADVENT
DESCRIPTION:
URL:https://brocktonucc.org/event/first-sunday-of-advent-4/
END:VEVENT
BEGIN:VEVENT
DTSTART;TZID=UTC:20231203T130000
DTEND;TZID=UTC:20231203T190000
DTSTAMP:20260425T191221
CREATED:20231028T215533Z
LAST-MODIFIED:20240213T215814Z
UID:13663-1701608400-1701630000@brocktonucc.org
SUMMARY:Jubilate Chorale Winter Concert
DESCRIPTION:3:00pm Concert
URL:https://brocktonucc.org/event/jubilate-chorale-concert-9/
END:VEVENT
BEGIN:VEVENT
DTSTART;TZID=UTC:20231204T173000
DTEND;TZID=UTC:20231204T190000
DTSTAMP:20260425T191221
CREATED:20231103T182134Z
LAST-MODIFIED:20231114T225651Z
UID:13689-1701711000-1701716400@brocktonucc.org
SUMMARY:BrSO Executive Committee Meeting
DESCRIPTION:
URL:https://brocktonucc.org/event/brso-executive-meeting-4-2023-12-04/
END:VEVENT
BEGIN:VEVENT
DTSTART;TZID=UTC:20231204T190000
DTEND;TZID=UTC:20231204T210000
DTSTAMP:20260425T191221
CREATED:20230914T175731Z
LAST-MODIFIED:20231128T200800Z
UID:13461-1701716400-1701723600@brocktonucc.org
SUMMARY:Arts & Music Committee Meeting (Zoom)
DESCRIPTION:
URL:https://brocktonucc.org/event/arts-music-committee-meeting-zoom-2023-11-27/
END:VEVENT
BEGIN:VEVENT
DTSTART;TZID=UTC:20231204T191500
DTEND;TZID=UTC:20231204T214500
DTSTAMP:20260425T191221
CREATED:20231114T230706Z
LAST-MODIFIED:20231114T230706Z
UID:13764-1701717300-1701726300@brocktonucc.org
SUMMARY:BrSO Rehearsal
DESCRIPTION:
URL:https://brocktonucc.org/event/brso-rehearsal-13/2023-12-04/
END:VEVENT
END:VCALENDAR