BEGIN:VCALENDAR
VERSION:2.0
PRODID:-//Christ Congregational Church, UCC - ECPv6.15.20//NONSGML v1.0//EN
CALSCALE:GREGORIAN
METHOD:PUBLISH
X-ORIGINAL-URL:https://brocktonucc.org
X-WR-CALDESC:Events for Christ Congregational Church, UCC
REFRESH-INTERVAL;VALUE=DURATION:PT1H
X-Robots-Tag:noindex
X-PUBLISHED-TTL:PT1H
BEGIN:VTIMEZONE
TZID:America/New_York
BEGIN:DAYLIGHT
TZOFFSETFROM:-0500
TZOFFSETTO:-0400
TZNAME:EDT
DTSTART:20250309T070000
END:DAYLIGHT
BEGIN:STANDARD
TZOFFSETFROM:-0400
TZOFFSETTO:-0500
TZNAME:EST
DTSTART:20251102T060000
END:STANDARD
BEGIN:DAYLIGHT
TZOFFSETFROM:-0500
TZOFFSETTO:-0400
TZNAME:EDT
DTSTART:20260308T070000
END:DAYLIGHT
BEGIN:STANDARD
TZOFFSETFROM:-0400
TZOFFSETTO:-0500
TZNAME:EST
DTSTART:20261101T060000
END:STANDARD
BEGIN:DAYLIGHT
TZOFFSETFROM:-0500
TZOFFSETTO:-0400
TZNAME:EDT
DTSTART:20270314T070000
END:DAYLIGHT
BEGIN:STANDARD
TZOFFSETFROM:-0400
TZOFFSETTO:-0500
TZNAME:EST
DTSTART:20271107T060000
END:STANDARD
END:VTIMEZONE
BEGIN:VTIMEZONE
TZID:UTC
BEGIN:STANDARD
TZOFFSETFROM:+0000
TZOFFSETTO:+0000
TZNAME:UTC
DTSTART:20250101T000000
END:STANDARD
END:VTIMEZONE
BEGIN:VEVENT
DTSTART;TZID=America/New_York:20260601T130000
DTEND;TZID=America/New_York:20260601T140000
DTSTAMP:20260423T161700
CREATED:20251006T163543Z
LAST-MODIFIED:20251006T163543Z
UID:15931-1780318800-1780322400@brocktonucc.org
SUMMARY:Staff Meeting (Quilt Room)
DESCRIPTION:
URL:https://brocktonucc.org/event/staff-meeting-quilt-room/2026-06-01/
END:VEVENT
BEGIN:VEVENT
DTSTART;TZID=America/New_York:20260603T100000
DTEND;TZID=America/New_York:20260603T120000
DTSTAMP:20260423T161700
CREATED:20250922T155650Z
LAST-MODIFIED:20250922T155650Z
UID:15746-1780480800-1780488000@brocktonucc.org
SUMMARY:Prayer Shawl Ministry (Library)
DESCRIPTION:
URL:https://brocktonucc.org/event/prayer-shawl-ministry-library-2/2026-06-03/
END:VEVENT
BEGIN:VEVENT
DTSTART;TZID=America/New_York:20260603T180000
DTEND;TZID=America/New_York:20260603T184500
DTSTAMP:20260423T161700
CREATED:20250910T173216Z
LAST-MODIFIED:20250910T173216Z
UID:15489-1780509600-1780512300@brocktonucc.org
SUMMARY:Adult Handbells
DESCRIPTION:
URL:https://brocktonucc.org/event/adult-handbells-2/2026-06-03/
END:VEVENT
BEGIN:VEVENT
DTSTART;TZID=America/New_York:20260603T184500
DTEND;TZID=America/New_York:20260603T201500
DTSTAMP:20260423T161700
CREATED:20250910T171404Z
LAST-MODIFIED:20250910T171404Z
UID:15449-1780512300-1780517700@brocktonucc.org
SUMMARY:Adult Choir
DESCRIPTION:
URL:https://brocktonucc.org/event/adult-choir-6/2026-06-03/
END:VEVENT
BEGIN:VEVENT
DTSTART;TZID=America/New_York:20260604T120000
DTEND;TZID=America/New_York:20260604T190000
DTSTAMP:20260423T161700
CREATED:20250922T033317Z
LAST-MODIFIED:20250922T033317Z
UID:15628-1780574400-1780599600@brocktonucc.org
SUMMARY:Rose Conservatory Early Start
DESCRIPTION:
URL:https://brocktonucc.org/event/rose-conservatory-early-start-2/2026-06-04/
END:VEVENT
BEGIN:VEVENT
DTSTART;TZID=UTC:20260604T190000
DTEND;TZID=UTC:20260604T203000
DTSTAMP:20260423T161700
CREATED:20170923T002759Z
LAST-MODIFIED:20251120T172720Z
UID:15263-1780599600-1780605000@brocktonucc.org
SUMMARY:Deacons Committee Meeting (Zoom)
DESCRIPTION:
URL:https://brocktonucc.org/event/deacons-2025-09-04/2026-06-04/
LOCATION:Christ Congregational Church\, 1350 PLEASANT STREET\, Brockton\, MA\, 02301\, United States
END:VEVENT
BEGIN:VEVENT
DTSTART;VALUE=DATE:20260607
DTEND;VALUE=DATE:20260608
DTSTAMP:20260423T161700
CREATED:20251230T172836Z
LAST-MODIFIED:20251230T172836Z
UID:16157-1780790400-1780876799@brocktonucc.org
SUMMARY:Faith Formation Sunday
DESCRIPTION:
URL:https://brocktonucc.org/event/faith-formation-sunday/
END:VEVENT
BEGIN:VEVENT
DTSTART;TZID=America/New_York:20260607T100000
DTEND;TZID=America/New_York:20260607T230000
DTSTAMP:20260423T161700
CREATED:20250922T050720Z
LAST-MODIFIED:20250922T050720Z
UID:15674-1780826400-1780873200@brocktonucc.org
SUMMARY:Worship
DESCRIPTION:
URL:https://brocktonucc.org/event/worship-3/2026-06-07/
END:VEVENT
BEGIN:VEVENT
DTSTART;TZID=America/New_York:20260607T113000
DTEND;TZID=America/New_York:20260607T123000
DTSTAMP:20260423T161700
CREATED:20251008T161855Z
LAST-MODIFIED:20251008T161855Z
UID:15967-1780831800-1780835400@brocktonucc.org
SUMMARY:Christian Education Committee Meeting
DESCRIPTION:
URL:https://brocktonucc.org/event/christian-education-committee-meeting-13/2026-06-07/
END:VEVENT
BEGIN:VEVENT
DTSTART;TZID=America/New_York:20260607T130000
DTEND;TZID=America/New_York:20260607T170000
DTSTAMP:20260423T161700
CREATED:20251016T131646Z
LAST-MODIFIED:20251117T165144Z
UID:16016-1780837200-1780851600@brocktonucc.org
SUMMARY:Sandra Evans Concert
DESCRIPTION:
URL:https://brocktonucc.org/event/sandra-evans-concert/
END:VEVENT
BEGIN:VEVENT
DTSTART;TZID=America/New_York:20260610T100000
DTEND;TZID=America/New_York:20260610T120000
DTSTAMP:20260423T161700
CREATED:20250922T155650Z
LAST-MODIFIED:20250922T155650Z
UID:15747-1781085600-1781092800@brocktonucc.org
SUMMARY:Prayer Shawl Ministry (Library)
DESCRIPTION:
URL:https://brocktonucc.org/event/prayer-shawl-ministry-library-2/2026-06-10/
END:VEVENT
BEGIN:VEVENT
DTSTART;TZID=America/New_York:20260610T180000
DTEND;TZID=America/New_York:20260610T184500
DTSTAMP:20260423T161700
CREATED:20250910T173216Z
LAST-MODIFIED:20250910T173216Z
UID:15490-1781114400-1781117100@brocktonucc.org
SUMMARY:Adult Handbells
DESCRIPTION:
URL:https://brocktonucc.org/event/adult-handbells-2/2026-06-10/
END:VEVENT
BEGIN:VEVENT
DTSTART;TZID=America/New_York:20260610T184500
DTEND;TZID=America/New_York:20260610T201500
DTSTAMP:20260423T161700
CREATED:20250910T171404Z
LAST-MODIFIED:20250910T171404Z
UID:15450-1781117100-1781122500@brocktonucc.org
SUMMARY:Adult Choir
DESCRIPTION:
URL:https://brocktonucc.org/event/adult-choir-6/2026-06-10/
END:VEVENT
BEGIN:VEVENT
DTSTART;TZID=America/New_York:20260611T120000
DTEND;TZID=America/New_York:20260611T190000
DTSTAMP:20260423T161700
CREATED:20250922T033317Z
LAST-MODIFIED:20250922T033317Z
UID:15629-1781179200-1781204400@brocktonucc.org
SUMMARY:Rose Conservatory Early Start
DESCRIPTION:
URL:https://brocktonucc.org/event/rose-conservatory-early-start-2/2026-06-11/
END:VEVENT
BEGIN:VEVENT
DTSTART;TZID=America/New_York:20260611T190000
DTEND;TZID=America/New_York:20260611T200000
DTSTAMP:20260423T161700
CREATED:20250908T165254Z
LAST-MODIFIED:20250922T173024Z
UID:15372-1781204400-1781208000@brocktonucc.org
SUMMARY:Finance & Property Committee Meeting (Zoom)
DESCRIPTION:
URL:https://brocktonucc.org/event/finance-property-committee-meeting-8/2026-06-11/
END:VEVENT
BEGIN:VEVENT
DTSTART;TZID=America/New_York:20260613T130000
DTEND;TZID=America/New_York:20260613T143000
DTSTAMP:20260423T161700
CREATED:20250922T044902Z
LAST-MODIFIED:20250922T044902Z
UID:15647-1781355600-1781361000@brocktonucc.org
SUMMARY:Rose Conservatory Spring Fundraiser Concert
DESCRIPTION:
URL:https://brocktonucc.org/event/rose-conservatory-spring-fundraiser-concert/
END:VEVENT
BEGIN:VEVENT
DTSTART;TZID=America/New_York:20260614T090000
DTEND;TZID=America/New_York:20260614T094500
DTSTAMP:20260423T161700
CREATED:20251008T152146Z
LAST-MODIFIED:20251008T152146Z
UID:15950-1781427600-1781430300@brocktonucc.org
SUMMARY:Missions Committee Meeting (Library)
DESCRIPTION:
URL:https://brocktonucc.org/event/missions-committee-meeting-library/2026-06-14/
END:VEVENT
BEGIN:VEVENT
DTSTART;TZID=America/New_York:20260614T100000
DTEND;TZID=America/New_York:20260614T230000
DTSTAMP:20260423T161700
CREATED:20250922T050720Z
LAST-MODIFIED:20250922T050720Z
UID:15675-1781431200-1781478000@brocktonucc.org
SUMMARY:Worship
DESCRIPTION:
URL:https://brocktonucc.org/event/worship-3/2026-06-14/
END:VEVENT
BEGIN:VEVENT
DTSTART;TZID=America/New_York:20260616T130000
DTEND;TZID=America/New_York:20260616T150000
DTSTAMP:20260423T161700
CREATED:20250910T170108Z
LAST-MODIFIED:20250910T170108Z
UID:15408-1781614800-1781622000@brocktonucc.org
SUMMARY:Common Threads Quilt Guild
DESCRIPTION:
URL:https://brocktonucc.org/event/common-threads-quilt-guild/2026-06-16/
END:VEVENT
BEGIN:VEVENT
DTSTART;TZID=America/New_York:20260617T100000
DTEND;TZID=America/New_York:20260617T120000
DTSTAMP:20260423T161700
CREATED:20250922T155650Z
LAST-MODIFIED:20250922T155650Z
UID:15748-1781690400-1781697600@brocktonucc.org
SUMMARY:Prayer Shawl Ministry (Library)
DESCRIPTION:
URL:https://brocktonucc.org/event/prayer-shawl-ministry-library-2/2026-06-17/
END:VEVENT
BEGIN:VEVENT
DTSTART;TZID=America/New_York:20260617T121500
DTEND;TZID=America/New_York:20260617T130000
DTSTAMP:20260423T161700
CREATED:20260309T142220Z
LAST-MODIFIED:20260309T142220Z
UID:16299-1781698500-1781701200@brocktonucc.org
SUMMARY:Midday Music Concert
DESCRIPTION:
URL:https://brocktonucc.org/event/midday-music-concert-5/
END:VEVENT
BEGIN:VEVENT
DTSTART;TZID=UTC:20260618T190000
DTEND;TZID=UTC:20260618T203000
DTSTAMP:20260423T161700
CREATED:20170922T164813Z
LAST-MODIFIED:20250922T173549Z
UID:15231-1781809200-1781814600@brocktonucc.org
SUMMARY:Council Meeting (Zoom)
DESCRIPTION:
URL:https://brocktonucc.org/event/council-meeting/2026-06-18/
END:VEVENT
BEGIN:VEVENT
DTSTART;VALUE=DATE:20260619
DTEND;VALUE=DATE:20260620
DTSTAMP:20260423T161700
CREATED:20250922T002803Z
LAST-MODIFIED:20250922T002803Z
UID:15606-1781827200-1781913599@brocktonucc.org
SUMMARY:JUNETEENTH DAY (Office Closed)
DESCRIPTION:
URL:https://brocktonucc.org/event/juneteenth-day-office-closed-3/
END:VEVENT
BEGIN:VEVENT
DTSTART;VALUE=DATE:20260621
DTEND;VALUE=DATE:20260622
DTSTAMP:20260423T161700
CREATED:20251015T165945Z
LAST-MODIFIED:20251015T165945Z
UID:16012-1782000000-1782086399@brocktonucc.org
SUMMARY:Father's Day
DESCRIPTION:
URL:https://brocktonucc.org/event/fathers-day-6/
END:VEVENT
BEGIN:VEVENT
DTSTART;TZID=America/New_York:20260621T100000
DTEND;TZID=America/New_York:20260621T230000
DTSTAMP:20260423T161700
CREATED:20250922T050720Z
LAST-MODIFIED:20250922T050720Z
UID:15676-1782036000-1782082800@brocktonucc.org
SUMMARY:Worship
DESCRIPTION:
URL:https://brocktonucc.org/event/worship-3/2026-06-21/
END:VEVENT
BEGIN:VEVENT
DTSTART;TZID=America/New_York:20260621T113000
DTEND;TZID=America/New_York:20260621T130000
DTSTAMP:20260423T161700
CREATED:20251230T172740Z
LAST-MODIFIED:20260303T154523Z
UID:16155-1782041400-1782046800@brocktonucc.org
SUMMARY:Mini Youth Group Gathering (Faith Formation Wing)
DESCRIPTION:
URL:https://brocktonucc.org/event/mini-youth-group-gathering-faith-formation-wing-2026-06-21/2026-06-21/
END:VEVENT
BEGIN:VEVENT
DTSTART;TZID=America/New_York:20260624T100000
DTEND;TZID=America/New_York:20260624T120000
DTSTAMP:20260423T161700
CREATED:20250922T155650Z
LAST-MODIFIED:20250922T155650Z
UID:15749-1782295200-1782302400@brocktonucc.org
SUMMARY:Prayer Shawl Ministry (Library)
DESCRIPTION:
URL:https://brocktonucc.org/event/prayer-shawl-ministry-library-2/2026-06-24/
END:VEVENT
BEGIN:VEVENT
DTSTART;TZID=America/New_York:20260628T100000
DTEND;TZID=America/New_York:20260628T230000
DTSTAMP:20260423T161700
CREATED:20250922T050720Z
LAST-MODIFIED:20250922T050720Z
UID:15677-1782640800-1782687600@brocktonucc.org
SUMMARY:Worship
DESCRIPTION:
URL:https://brocktonucc.org/event/worship-3/2026-06-28/
END:VEVENT
END:VCALENDAR