BEGIN:VCALENDAR
VERSION:2.0
PRODID:-//Christ Congregational Church, UCC - ECPv6.15.20//NONSGML v1.0//EN
CALSCALE:GREGORIAN
METHOD:PUBLISH
X-ORIGINAL-URL:https://brocktonucc.org
X-WR-CALDESC:Events for Christ Congregational Church, UCC
REFRESH-INTERVAL;VALUE=DURATION:PT1H
X-Robots-Tag:noindex
X-PUBLISHED-TTL:PT1H
BEGIN:VTIMEZONE
TZID:America/New_York
BEGIN:DAYLIGHT
TZOFFSETFROM:-0500
TZOFFSETTO:-0400
TZNAME:EDT
DTSTART:20250309T070000
END:DAYLIGHT
BEGIN:STANDARD
TZOFFSETFROM:-0400
TZOFFSETTO:-0500
TZNAME:EST
DTSTART:20251102T060000
END:STANDARD
BEGIN:DAYLIGHT
TZOFFSETFROM:-0500
TZOFFSETTO:-0400
TZNAME:EDT
DTSTART:20260308T070000
END:DAYLIGHT
BEGIN:STANDARD
TZOFFSETFROM:-0400
TZOFFSETTO:-0500
TZNAME:EST
DTSTART:20261101T060000
END:STANDARD
BEGIN:DAYLIGHT
TZOFFSETFROM:-0500
TZOFFSETTO:-0400
TZNAME:EDT
DTSTART:20270314T070000
END:DAYLIGHT
BEGIN:STANDARD
TZOFFSETFROM:-0400
TZOFFSETTO:-0500
TZNAME:EST
DTSTART:20271107T060000
END:STANDARD
END:VTIMEZONE
BEGIN:VTIMEZONE
TZID:UTC
BEGIN:STANDARD
TZOFFSETFROM:+0000
TZOFFSETTO:+0000
TZNAME:UTC
DTSTART:20250101T000000
END:STANDARD
END:VTIMEZONE
BEGIN:VEVENT
DTSTART;TZID=America/New_York:20260502T100000
DTEND;TZID=America/New_York:20260502T130000
DTSTAMP:20260423T130245
CREATED:20251008T150618Z
LAST-MODIFIED:20251008T150618Z
UID:15938-1777716000-1777726800@brocktonucc.org
SUMMARY:Jubilate Chorale Dress Rehearsal
DESCRIPTION:
URL:https://brocktonucc.org/event/jubilate-chorale-dress-rehearsal-7/
END:VEVENT
BEGIN:VEVENT
DTSTART;TZID=America/New_York:20260503T090000
DTEND;TZID=America/New_York:20260503T094500
DTSTAMP:20260423T130245
CREATED:20260324T171004Z
LAST-MODIFIED:20260324T171004Z
UID:16332-1777798800-1777801500@brocktonucc.org
SUMMARY:Bible 101: Reading The Bible w/Curiosity\, Context and Courage
DESCRIPTION:
URL:https://brocktonucc.org/event/bible-101-reading-the-bible-w-curiosity-context-and-courage/2026-05-03/
END:VEVENT
BEGIN:VEVENT
DTSTART;TZID=America/New_York:20260503T100000
DTEND;TZID=America/New_York:20260503T230000
DTSTAMP:20260423T130245
CREATED:20250922T050720Z
LAST-MODIFIED:20250922T050720Z
UID:15669-1777802400-1777849200@brocktonucc.org
SUMMARY:Worship
DESCRIPTION:
URL:https://brocktonucc.org/event/worship-3/2026-05-03/
END:VEVENT
BEGIN:VEVENT
DTSTART;TZID=America/New_York:20260503T130000
DTEND;TZID=America/New_York:20260503T170000
DTSTAMP:20260423T130245
CREATED:20251008T150404Z
LAST-MODIFIED:20251008T150404Z
UID:15934-1777813200-1777827600@brocktonucc.org
SUMMARY:Jubilate Chorale Spring Concert
DESCRIPTION:Concert @ 3:00pm
URL:https://brocktonucc.org/event/jubilate-chorale-spring-concert-2/
END:VEVENT
BEGIN:VEVENT
DTSTART;TZID=America/New_York:20260504T130000
DTEND;TZID=America/New_York:20260504T140000
DTSTAMP:20260423T130245
CREATED:20251006T163543Z
LAST-MODIFIED:20251006T163543Z
UID:15930-1777899600-1777903200@brocktonucc.org
SUMMARY:Staff Meeting (Quilt Room)
DESCRIPTION:
URL:https://brocktonucc.org/event/staff-meeting-quilt-room/2026-05-04/
END:VEVENT
BEGIN:VEVENT
DTSTART;TZID=America/New_York:20260504T173000
DTEND;TZID=America/New_York:20260504T190000
DTSTAMP:20260423T130245
CREATED:20250921T223946Z
LAST-MODIFIED:20250921T223946Z
UID:15572-1777915800-1777921200@brocktonucc.org
SUMMARY:BrSO Executive Committee Meeting
DESCRIPTION:
URL:https://brocktonucc.org/event/brso-executive-committee-meeting-15/2026-05-04/
END:VEVENT
BEGIN:VEVENT
DTSTART;TZID=America/New_York:20260504T191500
DTEND;TZID=America/New_York:20260504T214500
DTSTAMP:20260423T130245
CREATED:20250921T223743Z
LAST-MODIFIED:20250921T223743Z
UID:15568-1777922100-1777931100@brocktonucc.org
SUMMARY:BrSO Rehearsal
DESCRIPTION:
URL:https://brocktonucc.org/event/brso-rehearsal-21/2026-05-04/
END:VEVENT
BEGIN:VEVENT
DTSTART;TZID=America/New_York:20260506T100000
DTEND;TZID=America/New_York:20260506T120000
DTSTAMP:20260423T130245
CREATED:20250922T155650Z
LAST-MODIFIED:20250922T155650Z
UID:15742-1778061600-1778068800@brocktonucc.org
SUMMARY:Prayer Shawl Ministry (Library)
DESCRIPTION:
URL:https://brocktonucc.org/event/prayer-shawl-ministry-library-2/2026-05-06/
END:VEVENT
BEGIN:VEVENT
DTSTART;TZID=America/New_York:20260506T100000
DTEND;TZID=America/New_York:20260506T140000
DTSTAMP:20260423T130245
CREATED:20260421T143943Z
LAST-MODIFIED:20260421T143943Z
UID:16367-1778061600-1778076000@brocktonucc.org
SUMMARY:CWS Depot Day
DESCRIPTION:
URL:https://brocktonucc.org/event/cws-depot-day-4/
END:VEVENT
BEGIN:VEVENT
DTSTART;TZID=America/New_York:20260506T180000
DTEND;TZID=America/New_York:20260506T184500
DTSTAMP:20260423T130245
CREATED:20250910T173216Z
LAST-MODIFIED:20250910T173216Z
UID:15485-1778090400-1778093100@brocktonucc.org
SUMMARY:Adult Handbells
DESCRIPTION:
URL:https://brocktonucc.org/event/adult-handbells-2/2026-05-06/
END:VEVENT
BEGIN:VEVENT
DTSTART;TZID=America/New_York:20260506T184500
DTEND;TZID=America/New_York:20260506T201500
DTSTAMP:20260423T130245
CREATED:20250910T171404Z
LAST-MODIFIED:20250910T171404Z
UID:15445-1778093100-1778098500@brocktonucc.org
SUMMARY:Adult Choir
DESCRIPTION:
URL:https://brocktonucc.org/event/adult-choir-6/2026-05-06/
END:VEVENT
BEGIN:VEVENT
DTSTART;TZID=UTC:20260507T190000
DTEND;TZID=UTC:20260507T203000
DTSTAMP:20260423T130245
CREATED:20170923T002759Z
LAST-MODIFIED:20251120T172720Z
UID:15807-1778180400-1778185800@brocktonucc.org
SUMMARY:Deacons Committee Meeting (Zoom)
DESCRIPTION:
URL:https://brocktonucc.org/event/deacons-2025-09-04/2026-05-07/
LOCATION:Christ Congregational Church\, 1350 PLEASANT STREET\, Brockton\, MA\, 02301\, United States
END:VEVENT
BEGIN:VEVENT
DTSTART;TZID=America/New_York:20260509T093000
DTEND;TZID=America/New_York:20260509T120000
DTSTAMP:20260423T130245
CREATED:20250922T050444Z
LAST-MODIFIED:20250922T050444Z
UID:15649-1778319000-1778328000@brocktonucc.org
SUMMARY:Rose Conservatory Pancake Breakfast & Car Wash Fundraiser
DESCRIPTION:
URL:https://brocktonucc.org/event/rose-conservatory-pancake-breakfast-car-wash-fundraiser/
END:VEVENT
BEGIN:VEVENT
DTSTART;VALUE=DATE:20260510
DTEND;VALUE=DATE:20260511
DTSTAMP:20260423T130245
CREATED:20251015T170055Z
LAST-MODIFIED:20251015T170055Z
UID:16014-1778371200-1778457599@brocktonucc.org
SUMMARY:Mother's Day
DESCRIPTION:
URL:https://brocktonucc.org/event/mothers-day-6/
END:VEVENT
BEGIN:VEVENT
DTSTART;TZID=America/New_York:20260510T090000
DTEND;TZID=America/New_York:20260510T094500
DTSTAMP:20260423T130245
CREATED:20260324T171004Z
LAST-MODIFIED:20260324T171004Z
UID:16333-1778403600-1778406300@brocktonucc.org
SUMMARY:Bible 101: Reading The Bible w/Curiosity\, Context and Courage
DESCRIPTION:
URL:https://brocktonucc.org/event/bible-101-reading-the-bible-w-curiosity-context-and-courage/2026-05-10/
END:VEVENT
BEGIN:VEVENT
DTSTART;TZID=America/New_York:20260510T100000
DTEND;TZID=America/New_York:20260510T230000
DTSTAMP:20260423T130245
CREATED:20250922T050720Z
LAST-MODIFIED:20250922T050720Z
UID:15670-1778407200-1778454000@brocktonucc.org
SUMMARY:Worship
DESCRIPTION:
URL:https://brocktonucc.org/event/worship-3/2026-05-10/
END:VEVENT
BEGIN:VEVENT
DTSTART;TZID=America/New_York:20260510T113000
DTEND;TZID=America/New_York:20260510T123000
DTSTAMP:20260423T130245
CREATED:20251008T175250Z
LAST-MODIFIED:20251008T175250Z
UID:15992-1778412600-1778416200@brocktonucc.org
SUMMARY:Deacons Check In w/Confirmands
DESCRIPTION:
URL:https://brocktonucc.org/event/deacons-check-in-w-confirmands/2026-05-10/
END:VEVENT
BEGIN:VEVENT
DTSTART;TZID=America/New_York:20260511T191500
DTEND;TZID=America/New_York:20260511T214500
DTSTAMP:20260423T130245
CREATED:20250921T223743Z
LAST-MODIFIED:20250921T223743Z
UID:15569-1778526900-1778535900@brocktonucc.org
SUMMARY:BrSO Rehearsal
DESCRIPTION:
URL:https://brocktonucc.org/event/brso-rehearsal-21/2026-05-11/
END:VEVENT
BEGIN:VEVENT
DTSTART;TZID=America/New_York:20260513T100000
DTEND;TZID=America/New_York:20260513T120000
DTSTAMP:20260423T130245
CREATED:20250922T155650Z
LAST-MODIFIED:20250922T155650Z
UID:15743-1778666400-1778673600@brocktonucc.org
SUMMARY:Prayer Shawl Ministry (Library)
DESCRIPTION:
URL:https://brocktonucc.org/event/prayer-shawl-ministry-library-2/2026-05-13/
END:VEVENT
BEGIN:VEVENT
DTSTART;TZID=America/New_York:20260513T180000
DTEND;TZID=America/New_York:20260513T184500
DTSTAMP:20260423T130245
CREATED:20250910T173216Z
LAST-MODIFIED:20250910T173216Z
UID:15486-1778695200-1778697900@brocktonucc.org
SUMMARY:Adult Handbells
DESCRIPTION:
URL:https://brocktonucc.org/event/adult-handbells-2/2026-05-13/
END:VEVENT
BEGIN:VEVENT
DTSTART;TZID=America/New_York:20260513T184500
DTEND;TZID=America/New_York:20260513T201500
DTSTAMP:20260423T130245
CREATED:20250910T171404Z
LAST-MODIFIED:20250910T171404Z
UID:15446-1778697900-1778703300@brocktonucc.org
SUMMARY:Adult Choir
DESCRIPTION:
URL:https://brocktonucc.org/event/adult-choir-6/2026-05-13/
END:VEVENT
BEGIN:VEVENT
DTSTART;TZID=America/New_York:20260514T190000
DTEND;TZID=America/New_York:20260514T200000
DTSTAMP:20260423T130245
CREATED:20250908T165254Z
LAST-MODIFIED:20250922T173023Z
UID:15371-1778785200-1778788800@brocktonucc.org
SUMMARY:Finance & Property Committee Meeting (Zoom)
DESCRIPTION:
URL:https://brocktonucc.org/event/finance-property-committee-meeting-8/2026-05-14/
END:VEVENT
BEGIN:VEVENT
DTSTART;TZID=America/New_York:20260515T093000
DTEND;TZID=America/New_York:20260515T104000
DTSTAMP:20260423T130245
CREATED:20250921T224222Z
LAST-MODIFIED:20250921T224631Z
UID:15574-1778837400-1778841600@brocktonucc.org
SUMMARY:BrSO Percussion Pick-Up
DESCRIPTION:
URL:https://brocktonucc.org/event/brso-percussion-pick-up/
END:VEVENT
BEGIN:VEVENT
DTSTART;TZID=America/New_York:20260515T183000
DTEND;TZID=America/New_York:20260515T200000
DTSTAMP:20260423T130245
CREATED:20251230T172531Z
LAST-MODIFIED:20251230T172531Z
UID:16152-1778869800-1778875200@brocktonucc.org
SUMMARY:Youth Group Gathering (Faith Formation Wing)
DESCRIPTION:
URL:https://brocktonucc.org/event/youth-group-gathering-faith-formation-wing/2026-05-15/
END:VEVENT
BEGIN:VEVENT
DTSTART;TZID=America/New_York:20260516T143000
DTEND;TZID=America/New_York:20260516T183000
DTSTAMP:20260423T130245
CREATED:20260324T134756Z
LAST-MODIFIED:20260324T134756Z
UID:16322-1778941800-1778956200@brocktonucc.org
SUMMARY:Fellowship Hall Rental (BrSO)
DESCRIPTION:
URL:https://brocktonucc.org/event/fellowship-hall-rental-brso/
END:VEVENT
BEGIN:VEVENT
DTSTART;TZID=America/New_York:20260517T090000
DTEND;TZID=America/New_York:20260517T094500
DTSTAMP:20260423T130245
CREATED:20251008T152146Z
LAST-MODIFIED:20251008T152146Z
UID:15949-1779008400-1779011100@brocktonucc.org
SUMMARY:Missions Committee Meeting (Library)
DESCRIPTION:
URL:https://brocktonucc.org/event/missions-committee-meeting-library/2026-05-17/
END:VEVENT
BEGIN:VEVENT
DTSTART;TZID=America/New_York:20260517T090000
DTEND;TZID=America/New_York:20260517T094500
DTSTAMP:20260423T130245
CREATED:20260324T171004Z
LAST-MODIFIED:20260324T171004Z
UID:16334-1779008400-1779011100@brocktonucc.org
SUMMARY:Bible 101: Reading The Bible w/Curiosity\, Context and Courage
DESCRIPTION:
URL:https://brocktonucc.org/event/bible-101-reading-the-bible-w-curiosity-context-and-courage/2026-05-17/
END:VEVENT
BEGIN:VEVENT
DTSTART;TZID=America/New_York:20260517T100000
DTEND;TZID=America/New_York:20260517T230000
DTSTAMP:20260423T130245
CREATED:20250922T050720Z
LAST-MODIFIED:20250922T050720Z
UID:15671-1779012000-1779058800@brocktonucc.org
SUMMARY:Worship
DESCRIPTION:
URL:https://brocktonucc.org/event/worship-3/2026-05-17/
END:VEVENT
BEGIN:VEVENT
DTSTART;TZID=America/New_York:20260517T113000
DTEND;TZID=America/New_York:20260517T123000
DTSTAMP:20260423T130245
CREATED:20251008T161855Z
LAST-MODIFIED:20251008T161855Z
UID:15966-1779017400-1779021000@brocktonucc.org
SUMMARY:Christian Education Committee Meeting
DESCRIPTION:
URL:https://brocktonucc.org/event/christian-education-committee-meeting-13/2026-05-17/
END:VEVENT
BEGIN:VEVENT
DTSTART;TZID=America/New_York:20260517T113000
DTEND;TZID=America/New_York:20260517T123000
DTSTAMP:20260423T130245
CREATED:20260414T152126Z
LAST-MODIFIED:20260414T152126Z
UID:16361-1779017400-1779021000@brocktonucc.org
SUMMARY:Annual Spring Meeting
DESCRIPTION:
URL:https://brocktonucc.org/event/annual-spring-meeting/
END:VEVENT
END:VCALENDAR