BEGIN:VCALENDAR
VERSION:2.0
PRODID:-//Christ Congregational Church, UCC - ECPv6.15.20//NONSGML v1.0//EN
CALSCALE:GREGORIAN
METHOD:PUBLISH
X-ORIGINAL-URL:https://brocktonucc.org
X-WR-CALDESC:Events for Christ Congregational Church, UCC
REFRESH-INTERVAL;VALUE=DURATION:PT1H
X-Robots-Tag:noindex
X-PUBLISHED-TTL:PT1H
BEGIN:VTIMEZONE
TZID:America/New_York
BEGIN:DAYLIGHT
TZOFFSETFROM:-0500
TZOFFSETTO:-0400
TZNAME:EDT
DTSTART:20250309T070000
END:DAYLIGHT
BEGIN:STANDARD
TZOFFSETFROM:-0400
TZOFFSETTO:-0500
TZNAME:EST
DTSTART:20251102T060000
END:STANDARD
BEGIN:DAYLIGHT
TZOFFSETFROM:-0500
TZOFFSETTO:-0400
TZNAME:EDT
DTSTART:20260308T070000
END:DAYLIGHT
BEGIN:STANDARD
TZOFFSETFROM:-0400
TZOFFSETTO:-0500
TZNAME:EST
DTSTART:20261101T060000
END:STANDARD
BEGIN:DAYLIGHT
TZOFFSETFROM:-0500
TZOFFSETTO:-0400
TZNAME:EDT
DTSTART:20270314T070000
END:DAYLIGHT
BEGIN:STANDARD
TZOFFSETFROM:-0400
TZOFFSETTO:-0500
TZNAME:EST
DTSTART:20271107T060000
END:STANDARD
END:VTIMEZONE
BEGIN:VTIMEZONE
TZID:UTC
BEGIN:STANDARD
TZOFFSETFROM:+0000
TZOFFSETTO:+0000
TZNAME:UTC
DTSTART:20250101T000000
END:STANDARD
END:VTIMEZONE
BEGIN:VEVENT
DTSTART;TZID=America/New_York:20260201T100000
DTEND;TZID=America/New_York:20260201T230000
DTSTAMP:20260423T143812
CREATED:20250922T050720Z
LAST-MODIFIED:20250922T050720Z
UID:15655-1769940000-1769986800@brocktonucc.org
SUMMARY:Worship
DESCRIPTION:
URL:https://brocktonucc.org/event/worship-3/2026-02-01/
END:VEVENT
BEGIN:VEVENT
DTSTART;TZID=America/New_York:20260201T111500
DTEND;TZID=America/New_York:20260201T121500
DTSTAMP:20260423T143812
CREATED:20260120T144514Z
LAST-MODIFIED:20260120T144514Z
UID:16197-1769944500-1769948100@brocktonucc.org
SUMMARY:Arts & Music Meeting (On-Site)
DESCRIPTION:
URL:https://brocktonucc.org/event/arts-music-meeting-on-site/
END:VEVENT
BEGIN:VEVENT
DTSTART;TZID=America/New_York:20260201T130000
DTEND;TZID=America/New_York:20260201T173000
DTSTAMP:20260423T143812
CREATED:20250921T221705Z
LAST-MODIFIED:20260127T153806Z
UID:15546-1769950800-1769967000@brocktonucc.org
SUMMARY:BrSO Chambers Concert
DESCRIPTION:Concert @ 3:00pm
URL:https://brocktonucc.org/event/brso-chambers-concert/
END:VEVENT
BEGIN:VEVENT
DTSTART;TZID=America/New_York:20260202T130000
DTEND;TZID=America/New_York:20260202T140000
DTSTAMP:20260423T143812
CREATED:20251006T163543Z
LAST-MODIFIED:20251006T163543Z
UID:15927-1770037200-1770040800@brocktonucc.org
SUMMARY:Staff Meeting (Quilt Room)
DESCRIPTION:
URL:https://brocktonucc.org/event/staff-meeting-quilt-room/2026-02-02/
END:VEVENT
BEGIN:VEVENT
DTSTART;TZID=America/New_York:20260202T191500
DTEND;TZID=America/New_York:20260202T214500
DTSTAMP:20260423T143812
CREATED:20250921T222250Z
LAST-MODIFIED:20250921T222250Z
UID:15548-1770059700-1770068700@brocktonucc.org
SUMMARY:BrSO Rehearsal
DESCRIPTION:
URL:https://brocktonucc.org/event/brso-rehearsal-20/2026-02-02/
END:VEVENT
BEGIN:VEVENT
DTSTART;TZID=America/New_York:20260203T140000
DTEND;TZID=America/New_York:20260203T154500
DTSTAMP:20260423T143812
CREATED:20260121T175950Z
LAST-MODIFIED:20260121T175950Z
UID:16202-1770127200-1770133500@brocktonucc.org
SUMMARY:Rose Conservatory Meeting (Quilt Room)
DESCRIPTION:
URL:https://brocktonucc.org/event/rose-conservatory-meeting-quilt-room/
END:VEVENT
BEGIN:VEVENT
DTSTART;TZID=America/New_York:20260204T100000
DTEND;TZID=America/New_York:20260204T120000
DTSTAMP:20260423T143812
CREATED:20250922T155650Z
LAST-MODIFIED:20250922T155650Z
UID:15729-1770199200-1770206400@brocktonucc.org
SUMMARY:Prayer Shawl Ministry (Library)
DESCRIPTION:
URL:https://brocktonucc.org/event/prayer-shawl-ministry-library-2/2026-02-04/
END:VEVENT
BEGIN:VEVENT
DTSTART;TZID=America/New_York:20260204T184500
DTEND;TZID=America/New_York:20260204T201500
DTSTAMP:20260423T143812
CREATED:20250910T171404Z
LAST-MODIFIED:20250910T171404Z
UID:15432-1770230700-1770236100@brocktonucc.org
SUMMARY:Adult Choir
DESCRIPTION:
URL:https://brocktonucc.org/event/adult-choir-6/2026-02-04/
END:VEVENT
BEGIN:VEVENT
DTSTART;TZID=UTC:20260205T190000
DTEND;TZID=UTC:20260205T203000
DTSTAMP:20260423T143812
CREATED:20170923T002759Z
LAST-MODIFIED:20251120T172718Z
UID:15804-1770318000-1770323400@brocktonucc.org
SUMMARY:Deacons Committee Meeting (Zoom)
DESCRIPTION:
URL:https://brocktonucc.org/event/deacons-2025-09-04/2026-02-05/
LOCATION:Christ Congregational Church\, 1350 PLEASANT STREET\, Brockton\, MA\, 02301\, United States
END:VEVENT
BEGIN:VEVENT
DTSTART;TZID=America/New_York:20260208T100000
DTEND;TZID=America/New_York:20260208T230000
DTSTAMP:20260423T143812
CREATED:20250922T050720Z
LAST-MODIFIED:20250922T050720Z
UID:15656-1770544800-1770591600@brocktonucc.org
SUMMARY:Worship
DESCRIPTION:
URL:https://brocktonucc.org/event/worship-3/2026-02-08/
END:VEVENT
BEGIN:VEVENT
DTSTART;TZID=America/New_York:20260208T113000
DTEND;TZID=America/New_York:20260208T123000
DTSTAMP:20260423T143812
CREATED:20251008T175250Z
LAST-MODIFIED:20260303T153628Z
UID:15990-1770550200-1770553800@brocktonucc.org
SUMMARY:Deacons Check In w/Confirmands
DESCRIPTION:
URL:https://brocktonucc.org/event/deacons-check-in-w-confirmands-2026-03-08/
END:VEVENT
BEGIN:VEVENT
DTSTART;TZID=America/New_York:20260209T173000
DTEND;TZID=America/New_York:20260209T190000
DTSTAMP:20260423T143812
CREATED:20250921T222625Z
LAST-MODIFIED:20260205T211838Z
UID:15557-1770658200-1770663600@brocktonucc.org
SUMMARY:BrSO Executive Committee Meeting
DESCRIPTION:
URL:https://brocktonucc.org/event/brso-executive-committee-meeting-14/
END:VEVENT
BEGIN:VEVENT
DTSTART;TZID=America/New_York:20260209T191500
DTEND;TZID=America/New_York:20260209T214500
DTSTAMP:20260423T143812
CREATED:20250921T222250Z
LAST-MODIFIED:20250921T222250Z
UID:15549-1770664500-1770673500@brocktonucc.org
SUMMARY:BrSO Rehearsal
DESCRIPTION:
URL:https://brocktonucc.org/event/brso-rehearsal-20/2026-02-09/
END:VEVENT
BEGIN:VEVENT
DTSTART;TZID=America/New_York:20260210T090000
DTEND;TZID=America/New_York:20260210T160000
DTSTAMP:20260423T143812
CREATED:20260210T184552Z
LAST-MODIFIED:20260210T184552Z
UID:16255-1770714000-1770739200@brocktonucc.org
SUMMARY:Brian Edwards Rehearsal - Sanctuary
DESCRIPTION:
URL:https://brocktonucc.org/event/brian-edwards-rehearsal-sanctuary/
END:VEVENT
BEGIN:VEVENT
DTSTART;TZID=America/New_York:20260211T100000
DTEND;TZID=America/New_York:20260211T120000
DTSTAMP:20260423T143812
CREATED:20250922T155650Z
LAST-MODIFIED:20250922T155650Z
UID:15730-1770804000-1770811200@brocktonucc.org
SUMMARY:Prayer Shawl Ministry (Library)
DESCRIPTION:
URL:https://brocktonucc.org/event/prayer-shawl-ministry-library-2/2026-02-11/
END:VEVENT
BEGIN:VEVENT
DTSTART;TZID=America/New_York:20260211T121500
DTEND;TZID=America/New_York:20260211T131500
DTSTAMP:20260423T143812
CREATED:20251230T151505Z
LAST-MODIFIED:20251230T151505Z
UID:16144-1770812100-1770815700@brocktonucc.org
SUMMARY:Midday Music Concert w/Brian Edwards
DESCRIPTION:
URL:https://brocktonucc.org/event/midday-music-concert-w-brian-edwards/
END:VEVENT
BEGIN:VEVENT
DTSTART;TZID=America/New_York:20260211T180000
DTEND;TZID=America/New_York:20260211T184500
DTSTAMP:20260423T143812
CREATED:20250910T173216Z
LAST-MODIFIED:20250910T173216Z
UID:15473-1770832800-1770835500@brocktonucc.org
SUMMARY:Adult Handbells
DESCRIPTION:
URL:https://brocktonucc.org/event/adult-handbells-2/2026-02-11/
END:VEVENT
BEGIN:VEVENT
DTSTART;TZID=America/New_York:20260211T184500
DTEND;TZID=America/New_York:20260211T201500
DTSTAMP:20260423T143812
CREATED:20250910T171404Z
LAST-MODIFIED:20250910T171404Z
UID:15433-1770835500-1770840900@brocktonucc.org
SUMMARY:Adult Choir
DESCRIPTION:
URL:https://brocktonucc.org/event/adult-choir-6/2026-02-11/
END:VEVENT
BEGIN:VEVENT
DTSTART;TZID=America/New_York:20260212T190000
DTEND;TZID=America/New_York:20260212T200000
DTSTAMP:20260423T143812
CREATED:20250908T165254Z
LAST-MODIFIED:20250922T173023Z
UID:15368-1770922800-1770926400@brocktonucc.org
SUMMARY:Finance & Property Committee Meeting (Zoom)
DESCRIPTION:
URL:https://brocktonucc.org/event/finance-property-committee-meeting-8/2026-02-12/
END:VEVENT
BEGIN:VEVENT
DTSTART;TZID=America/New_York:20260215T090000
DTEND;TZID=America/New_York:20260215T094500
DTSTAMP:20260423T143812
CREATED:20251008T152146Z
LAST-MODIFIED:20251008T152146Z
UID:15946-1771146000-1771148700@brocktonucc.org
SUMMARY:Missions Committee Meeting (Library)
DESCRIPTION:
URL:https://brocktonucc.org/event/missions-committee-meeting-library/2026-02-15/
END:VEVENT
BEGIN:VEVENT
DTSTART;TZID=America/New_York:20260215T100000
DTEND;TZID=America/New_York:20260215T230000
DTSTAMP:20260423T143812
CREATED:20250922T050720Z
LAST-MODIFIED:20250922T050720Z
UID:15657-1771149600-1771196400@brocktonucc.org
SUMMARY:Worship
DESCRIPTION:
URL:https://brocktonucc.org/event/worship-3/2026-02-15/
END:VEVENT
BEGIN:VEVENT
DTSTART;TZID=America/New_York:20260215T113000
DTEND;TZID=America/New_York:20260215T133000
DTSTAMP:20260423T143812
CREATED:20251230T173440Z
LAST-MODIFIED:20251230T173440Z
UID:16159-1771155000-1771162200@brocktonucc.org
SUMMARY:School Of Prophetic Action (Upper Wing)
DESCRIPTION:
URL:https://brocktonucc.org/event/school-of-prophetic-action-upper-wing/2026-02-15/
END:VEVENT
BEGIN:VEVENT
DTSTART;VALUE=DATE:20260216
DTEND;VALUE=DATE:20260217
DTSTAMP:20260423T143812
CREATED:20250921T235917Z
LAST-MODIFIED:20250921T235917Z
UID:15599-1771200000-1771286399@brocktonucc.org
SUMMARY:PRESIDENTS' DAY (Office Closed)
DESCRIPTION:
URL:https://brocktonucc.org/event/presidents-day-office-closed-5/
END:VEVENT
BEGIN:VEVENT
DTSTART;TZID=America/New_York:20260216T191500
DTEND;TZID=America/New_York:20260216T214500
DTSTAMP:20260423T143812
CREATED:20250921T222250Z
LAST-MODIFIED:20250921T222250Z
UID:15550-1771269300-1771278300@brocktonucc.org
SUMMARY:BrSO Rehearsal
DESCRIPTION:
URL:https://brocktonucc.org/event/brso-rehearsal-20/2026-02-16/
END:VEVENT
BEGIN:VEVENT
DTSTART;TZID=America/New_York:20260217T083000
DTEND;TZID=America/New_York:20260217T163000
DTSTAMP:20260423T143812
CREATED:20250922T035920Z
LAST-MODIFIED:20250922T035920Z
UID:15633-1771317000-1771345800@brocktonucc.org
SUMMARY:Rose Conservatory Winter Vacation Camp
DESCRIPTION:
URL:https://brocktonucc.org/event/rose-conservatory-winter-vacation-camp/2026-02-17/
END:VEVENT
BEGIN:VEVENT
DTSTART;TZID=America/New_York:20260217T130000
DTEND;TZID=America/New_York:20260217T150000
DTSTAMP:20260423T143812
CREATED:20250910T170108Z
LAST-MODIFIED:20250910T170108Z
UID:15404-1771333200-1771340400@brocktonucc.org
SUMMARY:Common Threads Quilt Guild
DESCRIPTION:
URL:https://brocktonucc.org/event/common-threads-quilt-guild/2026-02-17/
END:VEVENT
BEGIN:VEVENT
DTSTART;VALUE=DATE:20260218
DTEND;VALUE=DATE:20260219
DTSTAMP:20260423T143812
CREATED:20250922T004608Z
LAST-MODIFIED:20250922T004608Z
UID:15608-1771372800-1771459199@brocktonucc.org
SUMMARY:ASH WEDNESDAY
DESCRIPTION:
URL:https://brocktonucc.org/event/ash-wednesday-5/
END:VEVENT
BEGIN:VEVENT
DTSTART;TZID=America/New_York:20260218T083000
DTEND;TZID=America/New_York:20260218T163000
DTSTAMP:20260423T143812
CREATED:20250922T035920Z
LAST-MODIFIED:20250922T035920Z
UID:15634-1771403400-1771432200@brocktonucc.org
SUMMARY:Rose Conservatory Winter Vacation Camp
DESCRIPTION:
URL:https://brocktonucc.org/event/rose-conservatory-winter-vacation-camp/2026-02-18/
END:VEVENT
BEGIN:VEVENT
DTSTART;TZID=America/New_York:20260218T100000
DTEND;TZID=America/New_York:20260218T120000
DTSTAMP:20260423T143812
CREATED:20250922T155650Z
LAST-MODIFIED:20250922T155650Z
UID:15731-1771408800-1771416000@brocktonucc.org
SUMMARY:Prayer Shawl Ministry (Library)
DESCRIPTION:
URL:https://brocktonucc.org/event/prayer-shawl-ministry-library-2/2026-02-18/
END:VEVENT
BEGIN:VEVENT
DTSTART;TZID=America/New_York:20260218T180000
DTEND;TZID=America/New_York:20260218T190000
DTSTAMP:20260423T143812
CREATED:20260128T184314Z
LAST-MODIFIED:20260128T184314Z
UID:16221-1771437600-1771441200@brocktonucc.org
SUMMARY:Ash Wednesday Pancake Supper
DESCRIPTION:
URL:https://brocktonucc.org/event/ash-wednesday-pancake-supper/
END:VEVENT
END:VCALENDAR