BEGIN:VCALENDAR
VERSION:2.0
PRODID:-//Christ Congregational Church, UCC - ECPv6.15.20//NONSGML v1.0//EN
CALSCALE:GREGORIAN
METHOD:PUBLISH
X-ORIGINAL-URL:https://brocktonucc.org
X-WR-CALDESC:Events for Christ Congregational Church, UCC
REFRESH-INTERVAL;VALUE=DURATION:PT1H
X-Robots-Tag:noindex
X-PUBLISHED-TTL:PT1H
BEGIN:VTIMEZONE
TZID:America/New_York
BEGIN:DAYLIGHT
TZOFFSETFROM:-0500
TZOFFSETTO:-0400
TZNAME:EDT
DTSTART:20240310T070000
END:DAYLIGHT
BEGIN:STANDARD
TZOFFSETFROM:-0400
TZOFFSETTO:-0500
TZNAME:EST
DTSTART:20241103T060000
END:STANDARD
BEGIN:DAYLIGHT
TZOFFSETFROM:-0500
TZOFFSETTO:-0400
TZNAME:EDT
DTSTART:20250309T070000
END:DAYLIGHT
BEGIN:STANDARD
TZOFFSETFROM:-0400
TZOFFSETTO:-0500
TZNAME:EST
DTSTART:20251102T060000
END:STANDARD
BEGIN:DAYLIGHT
TZOFFSETFROM:-0500
TZOFFSETTO:-0400
TZNAME:EDT
DTSTART:20260308T070000
END:DAYLIGHT
BEGIN:STANDARD
TZOFFSETFROM:-0400
TZOFFSETTO:-0500
TZNAME:EST
DTSTART:20261101T060000
END:STANDARD
END:VTIMEZONE
BEGIN:VEVENT
DTSTART;TZID=America/New_York:20251201T130000
DTEND;TZID=America/New_York:20251201T140000
DTSTAMP:20260423T175147
CREATED:20251006T163543Z
LAST-MODIFIED:20251006T163543Z
UID:15925-1764594000-1764597600@brocktonucc.org
SUMMARY:Staff Meeting (Quilt Room)
DESCRIPTION:
URL:https://brocktonucc.org/event/staff-meeting-quilt-room/2025-12-01/
END:VEVENT
BEGIN:VEVENT
DTSTART;TZID=America/New_York:20251201T173000
DTEND;TZID=America/New_York:20251201T190000
DTSTAMP:20260423T175147
CREATED:20250921T214836Z
LAST-MODIFIED:20251124T143657Z
UID:15532-1764610200-1764615600@brocktonucc.org
SUMMARY:BrSO Executive Committee Meeting
DESCRIPTION:
URL:https://brocktonucc.org/event/brso-executive-committee-meeting-13-2025-12-01/
END:VEVENT
BEGIN:VEVENT
DTSTART;TZID=America/New_York:20251201T191500
DTEND;TZID=America/New_York:20251201T214500
DTSTAMP:20260423T175147
CREATED:20250921T214616Z
LAST-MODIFIED:20250921T214616Z
UID:16023-1764616500-1764625500@brocktonucc.org
SUMMARY:BrSO Rehearsal
DESCRIPTION:
URL:https://brocktonucc.org/event/brso-rehearsal-18-2025-11-10/2025-12-01/
END:VEVENT
BEGIN:VEVENT
DTSTART;TZID=America/New_York:20251202T190000
DTEND;TZID=America/New_York:20251202T210000
DTSTAMP:20260423T175147
CREATED:20251007T174859Z
LAST-MODIFIED:20251007T174859Z
UID:15919-1764702000-1764709200@brocktonucc.org
SUMMARY:Jubilate Chorale Rehearsal
DESCRIPTION:
URL:https://brocktonucc.org/event/jubilate-chorale-rehearsal-24/
END:VEVENT
BEGIN:VEVENT
DTSTART;TZID=America/New_York:20251203T100000
DTEND;TZID=America/New_York:20251203T120000
DTSTAMP:20260423T175147
CREATED:20250922T155650Z
LAST-MODIFIED:20250922T155650Z
UID:15720-1764756000-1764763200@brocktonucc.org
SUMMARY:Prayer Shawl Ministry (Library)
DESCRIPTION:
URL:https://brocktonucc.org/event/prayer-shawl-ministry-library-2/2025-12-03/
END:VEVENT
BEGIN:VEVENT
DTSTART;TZID=America/New_York:20251203T180000
DTEND;TZID=America/New_York:20251203T184500
DTSTAMP:20260423T175147
CREATED:20250910T173216Z
LAST-MODIFIED:20250910T173216Z
UID:15463-1764784800-1764787500@brocktonucc.org
SUMMARY:Adult Handbells
DESCRIPTION:
URL:https://brocktonucc.org/event/adult-handbells-2/2025-12-03/
END:VEVENT
BEGIN:VEVENT
DTSTART;TZID=America/New_York:20251203T184500
DTEND;TZID=America/New_York:20251203T201500
DTSTAMP:20260423T175147
CREATED:20250910T171404Z
LAST-MODIFIED:20250910T171404Z
UID:15423-1764787500-1764792900@brocktonucc.org
SUMMARY:Adult Choir
DESCRIPTION:
URL:https://brocktonucc.org/event/adult-choir-6/2025-12-03/
END:VEVENT
BEGIN:VEVENT
DTSTART;TZID=America/New_York:20251205T190000
DTEND;TZID=America/New_York:20251205T210000
DTSTAMP:20260423T175147
CREATED:20251118T161504Z
LAST-MODIFIED:20251118T161504Z
UID:16066-1764961200-1764968400@brocktonucc.org
SUMMARY:Julia Karahalis Fellowship Hall Set-Up
DESCRIPTION:
URL:https://brocktonucc.org/event/julia-karahalis-fellowship-hall-set-up/
END:VEVENT
BEGIN:VEVENT
DTSTART;TZID=America/New_York:20251206T100000
DTEND;TZID=America/New_York:20251206T130000
DTSTAMP:20260423T175147
CREATED:20251007T174948Z
LAST-MODIFIED:20251007T174948Z
UID:15921-1765015200-1765026000@brocktonucc.org
SUMMARY:Jubilate Chorale Dress Rehearsal
DESCRIPTION:
URL:https://brocktonucc.org/event/jubilate-chorale-dress-rehearsal-6/
END:VEVENT
BEGIN:VEVENT
DTSTART;TZID=America/New_York:20251206T140000
DTEND;TZID=America/New_York:20251206T190000
DTSTAMP:20260423T175147
CREATED:20251016T164148Z
LAST-MODIFIED:20251016T164148Z
UID:16025-1765029600-1765047600@brocktonucc.org
SUMMARY:Julia Karahalis Rental
DESCRIPTION:Sanctuary & Fellowship Hall
URL:https://brocktonucc.org/event/julia-karahalis-rental/
END:VEVENT
BEGIN:VEVENT
DTSTART;TZID=America/New_York:20251207T090000
DTEND;TZID=America/New_York:20251207T094500
DTSTAMP:20260423T175147
CREATED:20250923T172317Z
LAST-MODIFIED:20250923T172317Z
UID:15885-1765098000-1765100700@brocktonucc.org
SUMMARY:Advent Devotional Study
DESCRIPTION:Led by Donna Costa
URL:https://brocktonucc.org/event/advent-devotional-study/2025-12-07/
END:VEVENT
BEGIN:VEVENT
DTSTART;TZID=America/New_York:20251207T100000
DTEND;TZID=America/New_York:20251207T110000
DTSTAMP:20260423T175147
CREATED:20250818T145624Z
LAST-MODIFIED:20250923T161349Z
UID:15298-1765101600-1765105200@brocktonucc.org
SUMMARY:Worship
DESCRIPTION:
URL:https://brocktonucc.org/event/worship-2/2025-12-07/
LOCATION:Sanctuary\, 1350 PLEASANT ST\, BROCKTON\, MA\, 02301-2897\, United States
END:VEVENT
BEGIN:VEVENT
DTSTART;TZID=America/New_York:20251207T113000
DTEND;TZID=America/New_York:20251207T123000
DTSTAMP:20260423T175147
CREATED:20251008T161855Z
LAST-MODIFIED:20251008T161855Z
UID:15964-1765107000-1765110600@brocktonucc.org
SUMMARY:Christian Education Committee Meeting
DESCRIPTION:
URL:https://brocktonucc.org/event/christian-education-committee-meeting-13/2025-12-07/
END:VEVENT
BEGIN:VEVENT
DTSTART;TZID=America/New_York:20251207T130000
DTEND;TZID=America/New_York:20251207T170000
DTSTAMP:20260423T175147
CREATED:20251007T174757Z
LAST-MODIFIED:20251008T145934Z
UID:15917-1765112400-1765126800@brocktonucc.org
SUMMARY:Jubilate Chorale Winter Concert
DESCRIPTION:3:00pm Concert
URL:https://brocktonucc.org/event/jubilate-chorale-winter-concert-2/
END:VEVENT
BEGIN:VEVENT
DTSTART;TZID=America/New_York:20251208T191500
DTEND;TZID=America/New_York:20251208T214500
DTSTAMP:20260423T175147
CREATED:20250921T214616Z
LAST-MODIFIED:20250921T214616Z
UID:16024-1765221300-1765230300@brocktonucc.org
SUMMARY:BrSO Rehearsal
DESCRIPTION:
URL:https://brocktonucc.org/event/brso-rehearsal-18-2025-11-10/2025-12-08/
END:VEVENT
BEGIN:VEVENT
DTSTART;TZID=America/New_York:20251210T100000
DTEND;TZID=America/New_York:20251210T120000
DTSTAMP:20260423T175147
CREATED:20250922T155650Z
LAST-MODIFIED:20250922T155650Z
UID:15721-1765360800-1765368000@brocktonucc.org
SUMMARY:Prayer Shawl Ministry (Library)
DESCRIPTION:
URL:https://brocktonucc.org/event/prayer-shawl-ministry-library-2/2025-12-10/
END:VEVENT
BEGIN:VEVENT
DTSTART;TZID=America/New_York:20251210T180000
DTEND;TZID=America/New_York:20251210T184500
DTSTAMP:20260423T175147
CREATED:20250910T173216Z
LAST-MODIFIED:20250910T173216Z
UID:15464-1765389600-1765392300@brocktonucc.org
SUMMARY:Adult Handbells
DESCRIPTION:
URL:https://brocktonucc.org/event/adult-handbells-2/2025-12-10/
END:VEVENT
BEGIN:VEVENT
DTSTART;TZID=America/New_York:20251210T184500
DTEND;TZID=America/New_York:20251210T201500
DTSTAMP:20260423T175147
CREATED:20250910T171404Z
LAST-MODIFIED:20250910T171404Z
UID:15424-1765392300-1765397700@brocktonucc.org
SUMMARY:Adult Choir
DESCRIPTION:
URL:https://brocktonucc.org/event/adult-choir-6/2025-12-10/
END:VEVENT
BEGIN:VEVENT
DTSTART;TZID=America/New_York:20251211T190000
DTEND;TZID=America/New_York:20251211T200000
DTSTAMP:20260423T175147
CREATED:20250908T165254Z
LAST-MODIFIED:20250922T173022Z
UID:15366-1765479600-1765483200@brocktonucc.org
SUMMARY:Finance & Property Committee Meeting (Zoom)
DESCRIPTION:
URL:https://brocktonucc.org/event/finance-property-committee-meeting-8/2025-12-11/
END:VEVENT
BEGIN:VEVENT
DTSTART;TZID=America/New_York:20251212T093000
DTEND;TZID=America/New_York:20251212T224000
DTSTAMP:20260423T175147
CREATED:20250921T215923Z
LAST-MODIFIED:20250921T224721Z
UID:15538-1765531800-1765579200@brocktonucc.org
SUMMARY:BrSO Percussion Pick-Up
DESCRIPTION:
URL:https://brocktonucc.org/event/brso-percussion/
END:VEVENT
BEGIN:VEVENT
DTSTART;TZID=America/New_York:20251212T183000
DTEND;TZID=America/New_York:20251212T200000
DTSTAMP:20260423T175147
CREATED:20251008T153243Z
LAST-MODIFIED:20251118T171632Z
UID:15952-1765564200-1765569600@brocktonucc.org
SUMMARY:Youth Group Christmas Party (Faith Formation Wing)
DESCRIPTION:
URL:https://brocktonucc.org/event/youth-group-gathering-off-site/
END:VEVENT
BEGIN:VEVENT
DTSTART;TZID=America/New_York:20251214T090000
DTEND;TZID=America/New_York:20251214T094500
DTSTAMP:20260423T175147
CREATED:20250923T172317Z
LAST-MODIFIED:20250923T172317Z
UID:15886-1765702800-1765705500@brocktonucc.org
SUMMARY:Advent Devotional Study
DESCRIPTION:Led by Donna Costa
URL:https://brocktonucc.org/event/advent-devotional-study/2025-12-14/
END:VEVENT
BEGIN:VEVENT
DTSTART;TZID=America/New_York:20251214T090000
DTEND;TZID=America/New_York:20251214T094500
DTSTAMP:20260423T175147
CREATED:20251008T152146Z
LAST-MODIFIED:20251008T152146Z
UID:15944-1765702800-1765705500@brocktonucc.org
SUMMARY:Missions Committee Meeting (Library)
DESCRIPTION:
URL:https://brocktonucc.org/event/missions-committee-meeting-library/2025-12-14/
END:VEVENT
BEGIN:VEVENT
DTSTART;TZID=America/New_York:20251214T100000
DTEND;TZID=America/New_York:20251214T110000
DTSTAMP:20260423T175147
CREATED:20250818T145624Z
LAST-MODIFIED:20250923T161350Z
UID:15299-1765706400-1765710000@brocktonucc.org
SUMMARY:Worship
DESCRIPTION:
URL:https://brocktonucc.org/event/worship-2/2025-12-14/
LOCATION:Sanctuary\, 1350 PLEASANT ST\, BROCKTON\, MA\, 02301-2897\, United States
END:VEVENT
BEGIN:VEVENT
DTSTART;TZID=America/New_York:20251214T113000
DTEND;TZID=America/New_York:20251214T123000
DTSTAMP:20260423T175147
CREATED:20251008T175250Z
LAST-MODIFIED:20251008T175250Z
UID:15987-1765711800-1765715400@brocktonucc.org
SUMMARY:Deacons Check In w/Confirmands
DESCRIPTION:
URL:https://brocktonucc.org/event/deacons-check-in-w-confirmands/2025-12-14/
END:VEVENT
BEGIN:VEVENT
DTSTART;TZID=America/New_York:20251214T130000
DTEND;TZID=America/New_York:20251214T150000
DTSTAMP:20260423T175147
CREATED:20250930T151637Z
LAST-MODIFIED:20250930T151637Z
UID:15900-1765717200-1765724400@brocktonucc.org
SUMMARY:CCC Christmas Concert
DESCRIPTION:
URL:https://brocktonucc.org/event/ccc-christmas-concert-2/
END:VEVENT
BEGIN:VEVENT
DTSTART;TZID=America/New_York:20251216T080000
DTEND;TZID=America/New_York:20251216T120000
DTSTAMP:20260423T175147
CREATED:20251007T174015Z
LAST-MODIFIED:20251007T174015Z
UID:15915-1765872000-1765886400@brocktonucc.org
SUMMARY:BAMSI Christmas Party
DESCRIPTION:
URL:https://brocktonucc.org/event/bamsi-christmas-party-6/
END:VEVENT
BEGIN:VEVENT
DTSTART;TZID=America/New_York:20251216T130000
DTEND;TZID=America/New_York:20251216T150000
DTSTAMP:20260423T175147
CREATED:20250910T170108Z
LAST-MODIFIED:20250910T170108Z
UID:15402-1765890000-1765897200@brocktonucc.org
SUMMARY:Common Threads Quilt Guild
DESCRIPTION:
URL:https://brocktonucc.org/event/common-threads-quilt-guild/2025-12-16/
END:VEVENT
BEGIN:VEVENT
DTSTART;TZID=America/New_York:20251216T190000
DTEND;TZID=America/New_York:20251216T200000
DTSTAMP:20260423T175147
CREATED:20251204T144642Z
LAST-MODIFIED:20251204T144642Z
UID:16107-1765911600-1765915200@brocktonucc.org
SUMMARY:Blue Christmas Service
DESCRIPTION:
URL:https://brocktonucc.org/event/blue-christmas-service-2/
END:VEVENT
BEGIN:VEVENT
DTSTART;TZID=America/New_York:20251217T100000
DTEND;TZID=America/New_York:20251217T120000
DTSTAMP:20260423T175147
CREATED:20250922T155650Z
LAST-MODIFIED:20250922T155650Z
UID:15722-1765965600-1765972800@brocktonucc.org
SUMMARY:Prayer Shawl Ministry (Library)
DESCRIPTION:
URL:https://brocktonucc.org/event/prayer-shawl-ministry-library-2/2025-12-17/
END:VEVENT
END:VCALENDAR