BEGIN:VCALENDAR
VERSION:2.0
PRODID:-//Christ Congregational Church, UCC - ECPv6.15.20//NONSGML v1.0//EN
CALSCALE:GREGORIAN
METHOD:PUBLISH
X-WR-CALNAME:Christ Congregational Church, UCC
X-ORIGINAL-URL:https://brocktonucc.org
X-WR-CALDESC:Events for Christ Congregational Church, UCC
REFRESH-INTERVAL;VALUE=DURATION:PT1H
X-Robots-Tag:noindex
X-PUBLISHED-TTL:PT1H
BEGIN:VTIMEZONE
TZID:UTC
BEGIN:STANDARD
TZOFFSETFROM:+0000
TZOFFSETTO:+0000
TZNAME:UTC
DTSTART:20230101T000000
END:STANDARD
END:VTIMEZONE
BEGIN:VEVENT
DTSTART;TZID=UTC:20240204T113000
DTEND;TZID=UTC:20240204T143000
DTSTAMP:20260425T145644
CREATED:20231002T194041Z
LAST-MODIFIED:20240125T233841Z
UID:13534-1707046200-1707057000@brocktonucc.org
SUMMARY:Vitality Planning Committee Meeting (Fellowship Hall)
DESCRIPTION:
URL:https://brocktonucc.org/event/vitality-committee-meeting-6-2024-02-04/
END:VEVENT
BEGIN:VEVENT
DTSTART;TZID=UTC:20240205T173000
DTEND;TZID=UTC:20240205T193000
DTSTAMP:20260425T145644
CREATED:20231114T234840Z
LAST-MODIFIED:20231114T234840Z
UID:13776-1707154200-1707161400@brocktonucc.org
SUMMARY:BrSO Executive Committee Meeting
DESCRIPTION:
URL:https://brocktonucc.org/event/brso-executive-committee-meeting-9/2024-02-05/
END:VEVENT
BEGIN:VEVENT
DTSTART;TZID=UTC:20240207T180000
DTEND;TZID=UTC:20240207T203000
DTSTAMP:20260425T145644
CREATED:20240108T233330Z
LAST-MODIFIED:20240108T233330Z
UID:13895-1707328800-1707337800@brocktonucc.org
SUMMARY:BIC SOPA Meeting (Upper Wing)
DESCRIPTION:
URL:https://brocktonucc.org/event/bic-sopa-meeting-upper-wing/2024-02-07/
END:VEVENT
BEGIN:VEVENT
DTSTART;TZID=UTC:20240211T111500
DTEND;TZID=UTC:20240211T121500
DTSTAMP:20260425T145644
CREATED:20240208T225014Z
LAST-MODIFIED:20240208T225014Z
UID:14032-1707650100-1707653700@brocktonucc.org
SUMMARY:Second Sunday Luncheon
DESCRIPTION:
URL:https://brocktonucc.org/event/second-sunday-luncheon/2024-02-11/
END:VEVENT
BEGIN:VEVENT
DTSTART;TZID=UTC:20240212T090000
DTEND;TZID=UTC:20240212T120000
DTSTAMP:20260425T145644
CREATED:20240207T210202Z
LAST-MODIFIED:20240207T210202Z
UID:14009-1707728400-1707739200@brocktonucc.org
SUMMARY:Sanctuary Parament Set-Up
DESCRIPTION:
URL:https://brocktonucc.org/event/sanctuary-parament-set-up-2/
END:VEVENT
BEGIN:VEVENT
DTSTART;TZID=UTC:20240212T190000
DTEND;TZID=UTC:20240212T210000
DTSTAMP:20260425T145644
CREATED:20240117T195651Z
LAST-MODIFIED:20240117T195651Z
UID:13907-1707764400-1707771600@brocktonucc.org
SUMMARY:Arts & Music Meeting (Zoom)
DESCRIPTION:
URL:https://brocktonucc.org/event/arts-music-meeting-zoom-2/
END:VEVENT
BEGIN:VEVENT
DTSTART;VALUE=DATE:20240214
DTEND;VALUE=DATE:20240215
DTSTAMP:20260425T145644
CREATED:20240125T210956Z
LAST-MODIFIED:20240125T211044Z
UID:13926-1707868800-1707955199@brocktonucc.org
SUMMARY:Ash Wednesday Services - 3PM & 7PM
DESCRIPTION:
URL:https://brocktonucc.org/event/ash-wednesday-service-3pm-7pm/
END:VEVENT
BEGIN:VEVENT
DTSTART;VALUE=DATE:20240218
DTEND;VALUE=DATE:20240219
DTSTAMP:20260425T145644
CREATED:20240205T104459Z
LAST-MODIFIED:20240205T104459Z
UID:13984-1708214400-1708300799@brocktonucc.org
SUMMARY:First Sunday In Lent
DESCRIPTION:
URL:https://brocktonucc.org/event/first-sunday-in-lent/
END:VEVENT
BEGIN:VEVENT
DTSTART;TZID=UTC:20240218T090000
DTEND;TZID=UTC:20240218T094500
DTSTAMP:20260425T145644
CREATED:20240227T193559Z
LAST-MODIFIED:20240227T193559Z
UID:14072-1708246800-1708249500@brocktonucc.org
SUMMARY:Lenten Bible Study (On-Site Quilt Room)
DESCRIPTION:
URL:https://brocktonucc.org/event/lenten-bible-study-on-site-quilt-room/2024-02-18/
END:VEVENT
BEGIN:VEVENT
DTSTART;VALUE=DATE:20240219
DTEND;VALUE=DATE:20240220
DTSTAMP:20260425T145644
CREATED:20240123T212058Z
LAST-MODIFIED:20240205T104144Z
UID:13920-1708300800-1708387199@brocktonucc.org
SUMMARY:Presidents' Day (Office Closed)
DESCRIPTION:
URL:https://brocktonucc.org/event/presidents-day-office-closed-4/
END:VEVENT
BEGIN:VEVENT
DTSTART;TZID=UTC:20240220T080000
DTEND;TZID=UTC:20240220T160000
DTSTAMP:20260425T145644
CREATED:20240123T211947Z
LAST-MODIFIED:20240123T212344Z
UID:13918-1708416000-1708444800@brocktonucc.org
SUMMARY:Rose Conservatory Winter Break Program
DESCRIPTION:
URL:https://brocktonucc.org/event/rose-conservatory-winter-break-program-3/2024-02-20/
END:VEVENT
BEGIN:VEVENT
DTSTART;VALUE=DATE:20240225
DTEND;VALUE=DATE:20240226
DTSTAMP:20260425T145644
CREATED:20240205T104536Z
LAST-MODIFIED:20240205T104536Z
UID:13986-1708819200-1708905599@brocktonucc.org
SUMMARY:Second Sunday In Lent
DESCRIPTION:
URL:https://brocktonucc.org/event/second-sunday-in-lent/
END:VEVENT
BEGIN:VEVENT
DTSTART;TZID=UTC:20240225T084500
DTEND;TZID=UTC:20240225T094500
DTSTAMP:20260425T145644
CREATED:20240226T223554Z
LAST-MODIFIED:20240226T223554Z
UID:14068-1708850700-1708854300@brocktonucc.org
SUMMARY:Missions Committee Meeting (On-Site)
DESCRIPTION:
URL:https://brocktonucc.org/event/missions-committee-meeting-on-site-4/
END:VEVENT
BEGIN:VEVENT
DTSTART;TZID=UTC:20240225T111500
DTEND;TZID=UTC:20240225T121500
DTSTAMP:20260425T145644
CREATED:20240130T182835Z
LAST-MODIFIED:20240130T182835Z
UID:13942-1708859700-1708863300@brocktonucc.org
SUMMARY:All Committee Fair Event (Fellowship Hour)
DESCRIPTION:
URL:https://brocktonucc.org/event/all-committee-fair-event-fellowship-hour/
END:VEVENT
BEGIN:VEVENT
DTSTART;TZID=UTC:20240226T190000
DTEND;TZID=UTC:20240226T200000
DTSTAMP:20260425T145644
CREATED:20240226T200743Z
LAST-MODIFIED:20240226T200743Z
UID:14066-1708974000-1708977600@brocktonucc.org
SUMMARY:PPRC Committee Meeting (Zoom)
DESCRIPTION:
URL:https://brocktonucc.org/event/pprc-committee-meeting-zoom-2/
END:VEVENT
END:VCALENDAR