BEGIN:VCALENDAR
VERSION:2.0
PRODID:-//Christ Congregational Church, UCC - ECPv6.15.20//NONSGML v1.0//EN
CALSCALE:GREGORIAN
METHOD:PUBLISH
X-WR-CALNAME:Christ Congregational Church, UCC
X-ORIGINAL-URL:https://brocktonucc.org
X-WR-CALDESC:Events for Christ Congregational Church, UCC
REFRESH-INTERVAL;VALUE=DURATION:PT1H
X-Robots-Tag:noindex
X-PUBLISHED-TTL:PT1H
BEGIN:VTIMEZONE
TZID:America/New_York
BEGIN:DAYLIGHT
TZOFFSETFROM:-0500
TZOFFSETTO:-0400
TZNAME:EDT
DTSTART:20250309T070000
END:DAYLIGHT
BEGIN:STANDARD
TZOFFSETFROM:-0400
TZOFFSETTO:-0500
TZNAME:EST
DTSTART:20251102T060000
END:STANDARD
BEGIN:DAYLIGHT
TZOFFSETFROM:-0500
TZOFFSETTO:-0400
TZNAME:EDT
DTSTART:20260308T070000
END:DAYLIGHT
BEGIN:STANDARD
TZOFFSETFROM:-0400
TZOFFSETTO:-0500
TZNAME:EST
DTSTART:20261101T060000
END:STANDARD
BEGIN:DAYLIGHT
TZOFFSETFROM:-0500
TZOFFSETTO:-0400
TZNAME:EDT
DTSTART:20270314T070000
END:DAYLIGHT
BEGIN:STANDARD
TZOFFSETFROM:-0400
TZOFFSETTO:-0500
TZNAME:EST
DTSTART:20271107T060000
END:STANDARD
END:VTIMEZONE
BEGIN:VEVENT
DTSTART;VALUE=DATE:20260420
DTEND;VALUE=DATE:20260421
DTSTAMP:20260423T125949
CREATED:20250922T002010Z
LAST-MODIFIED:20250922T002010Z
UID:15601-1776643200-1776729599@brocktonucc.org
SUMMARY:PATRIOT'S DAY (Office Closed)
DESCRIPTION:
URL:https://brocktonucc.org/event/patriots-day-office-closed-5/
END:VEVENT
BEGIN:VEVENT
DTSTART;TZID=America/New_York:20260420T191500
DTEND;TZID=America/New_York:20260420T214500
DTSTAMP:20260423T125949
CREATED:20250921T223743Z
LAST-MODIFIED:20250921T223743Z
UID:15566-1776712500-1776721500@brocktonucc.org
SUMMARY:BrSO Rehearsal
DESCRIPTION:
URL:https://brocktonucc.org/event/brso-rehearsal-21/2026-04-20/
END:VEVENT
END:VCALENDAR