BEGIN:VCALENDAR
VERSION:2.0
PRODID:-//Christ Congregational Church, UCC - ECPv6.15.20//NONSGML v1.0//EN
CALSCALE:GREGORIAN
METHOD:PUBLISH
X-ORIGINAL-URL:https://brocktonucc.org
X-WR-CALDESC:Events for Christ Congregational Church, UCC
REFRESH-INTERVAL;VALUE=DURATION:PT1H
X-Robots-Tag:noindex
X-PUBLISHED-TTL:PT1H
BEGIN:VTIMEZONE
TZID:America/New_York
BEGIN:DAYLIGHT
TZOFFSETFROM:-0500
TZOFFSETTO:-0400
TZNAME:EDT
DTSTART:20250309T070000
END:DAYLIGHT
BEGIN:STANDARD
TZOFFSETFROM:-0400
TZOFFSETTO:-0500
TZNAME:EST
DTSTART:20251102T060000
END:STANDARD
BEGIN:DAYLIGHT
TZOFFSETFROM:-0500
TZOFFSETTO:-0400
TZNAME:EDT
DTSTART:20260308T070000
END:DAYLIGHT
BEGIN:STANDARD
TZOFFSETFROM:-0400
TZOFFSETTO:-0500
TZNAME:EST
DTSTART:20261101T060000
END:STANDARD
BEGIN:DAYLIGHT
TZOFFSETFROM:-0500
TZOFFSETTO:-0400
TZNAME:EDT
DTSTART:20270314T070000
END:DAYLIGHT
BEGIN:STANDARD
TZOFFSETFROM:-0400
TZOFFSETTO:-0500
TZNAME:EST
DTSTART:20271107T060000
END:STANDARD
END:VTIMEZONE
BEGIN:VEVENT
DTSTART;TZID=America/New_York:20260419T090000
DTEND;TZID=America/New_York:20260419T094500
DTSTAMP:20260423T130131
CREATED:20260324T171004Z
LAST-MODIFIED:20260324T171004Z
UID:16330-1776589200-1776591900@brocktonucc.org
SUMMARY:Bible 101: Reading The Bible w/Curiosity\, Context and Courage
DESCRIPTION:
URL:https://brocktonucc.org/event/bible-101-reading-the-bible-w-curiosity-context-and-courage/2026-04-19/
END:VEVENT
BEGIN:VEVENT
DTSTART;TZID=America/New_York:20260419T100000
DTEND;TZID=America/New_York:20260419T230000
DTSTAMP:20260423T130131
CREATED:20250922T050720Z
LAST-MODIFIED:20250922T050720Z
UID:15667-1776592800-1776639600@brocktonucc.org
SUMMARY:Worship
DESCRIPTION:
URL:https://brocktonucc.org/event/worship-3/2026-04-19/
END:VEVENT
BEGIN:VEVENT
DTSTART;TZID=America/New_York:20260419T130000
DTEND;TZID=America/New_York:20260419T180000
DTSTAMP:20260423T130131
CREATED:20260217T134902Z
LAST-MODIFIED:20260217T134902Z
UID:16260-1776603600-1776621600@brocktonucc.org
SUMMARY:Pilgrim Association Spring Meeting (Sanctuary & Fellowship Hall)
DESCRIPTION:
URL:https://brocktonucc.org/event/pilgrim-association-spring-meeting-sanctuary-fellowship-hall/
END:VEVENT
END:VCALENDAR