BEGIN:VCALENDAR
VERSION:2.0
PRODID:-//Christ Congregational Church, UCC - ECPv6.15.20//NONSGML v1.0//EN
CALSCALE:GREGORIAN
METHOD:PUBLISH
X-ORIGINAL-URL:https://brocktonucc.org
X-WR-CALDESC:Events for Christ Congregational Church, UCC
REFRESH-INTERVAL;VALUE=DURATION:PT1H
X-Robots-Tag:noindex
X-PUBLISHED-TTL:PT1H
BEGIN:VTIMEZONE
TZID:America/New_York
BEGIN:DAYLIGHT
TZOFFSETFROM:-0500
TZOFFSETTO:-0400
TZNAME:EDT
DTSTART:20250309T070000
END:DAYLIGHT
BEGIN:STANDARD
TZOFFSETFROM:-0400
TZOFFSETTO:-0500
TZNAME:EST
DTSTART:20251102T060000
END:STANDARD
BEGIN:DAYLIGHT
TZOFFSETFROM:-0500
TZOFFSETTO:-0400
TZNAME:EDT
DTSTART:20260308T070000
END:DAYLIGHT
BEGIN:STANDARD
TZOFFSETFROM:-0400
TZOFFSETTO:-0500
TZNAME:EST
DTSTART:20261101T060000
END:STANDARD
BEGIN:DAYLIGHT
TZOFFSETFROM:-0500
TZOFFSETTO:-0400
TZNAME:EDT
DTSTART:20270314T070000
END:DAYLIGHT
BEGIN:STANDARD
TZOFFSETFROM:-0400
TZOFFSETTO:-0500
TZNAME:EST
DTSTART:20271107T060000
END:STANDARD
END:VTIMEZONE
BEGIN:VEVENT
DTSTART;VALUE=DATE:20260405
DTEND;VALUE=DATE:20260406
DTSTAMP:20260423T130120
CREATED:20250922T005022Z
LAST-MODIFIED:20250922T005022Z
UID:15616-1775347200-1775433599@brocktonucc.org
SUMMARY:EASTER SUNDAY
DESCRIPTION:
URL:https://brocktonucc.org/event/easter-sunday-8/
END:VEVENT
BEGIN:VEVENT
DTSTART;TZID=America/New_York:20260405T100000
DTEND;TZID=America/New_York:20260405T230000
DTSTAMP:20260423T130120
CREATED:20250922T050720Z
LAST-MODIFIED:20250922T050720Z
UID:15665-1775383200-1775430000@brocktonucc.org
SUMMARY:Worship
DESCRIPTION:
URL:https://brocktonucc.org/event/worship-3/2026-04-05/
END:VEVENT
BEGIN:VEVENT
DTSTART;TZID=America/New_York:20260405T111500
DTEND;TZID=America/New_York:20260405T120000
DTSTAMP:20260423T130120
CREATED:20260324T164633Z
LAST-MODIFIED:20260324T164633Z
UID:16324-1775387700-1775390400@brocktonucc.org
SUMMARY:Easter Egg Hunt (Parsonage Yard)
DESCRIPTION:
URL:https://brocktonucc.org/event/easter-egg-hunt-parsonage-yard/
END:VEVENT
END:VCALENDAR