BEGIN:VCALENDAR
VERSION:2.0
PRODID:-//Christ Congregational Church, UCC - ECPv6.15.20//NONSGML v1.0//EN
CALSCALE:GREGORIAN
METHOD:PUBLISH
X-ORIGINAL-URL:https://brocktonucc.org
X-WR-CALDESC:Events for Christ Congregational Church, UCC
REFRESH-INTERVAL;VALUE=DURATION:PT1H
X-Robots-Tag:noindex
X-PUBLISHED-TTL:PT1H
BEGIN:VTIMEZONE
TZID:America/New_York
BEGIN:DAYLIGHT
TZOFFSETFROM:-0500
TZOFFSETTO:-0400
TZNAME:EDT
DTSTART:20250309T070000
END:DAYLIGHT
BEGIN:STANDARD
TZOFFSETFROM:-0400
TZOFFSETTO:-0500
TZNAME:EST
DTSTART:20251102T060000
END:STANDARD
BEGIN:DAYLIGHT
TZOFFSETFROM:-0500
TZOFFSETTO:-0400
TZNAME:EDT
DTSTART:20260308T070000
END:DAYLIGHT
BEGIN:STANDARD
TZOFFSETFROM:-0400
TZOFFSETTO:-0500
TZNAME:EST
DTSTART:20261101T060000
END:STANDARD
BEGIN:DAYLIGHT
TZOFFSETFROM:-0500
TZOFFSETTO:-0400
TZNAME:EDT
DTSTART:20270314T070000
END:DAYLIGHT
BEGIN:STANDARD
TZOFFSETFROM:-0400
TZOFFSETTO:-0500
TZNAME:EST
DTSTART:20271107T060000
END:STANDARD
END:VTIMEZONE
BEGIN:VEVENT
DTSTART;TZID=America/New_York:20260211T100000
DTEND;TZID=America/New_York:20260211T120000
DTSTAMP:20260423T161553
CREATED:20250922T155650Z
LAST-MODIFIED:20250922T155650Z
UID:15730-1770804000-1770811200@brocktonucc.org
SUMMARY:Prayer Shawl Ministry (Library)
DESCRIPTION:
URL:https://brocktonucc.org/event/prayer-shawl-ministry-library-2/2026-02-11/
END:VEVENT
BEGIN:VEVENT
DTSTART;TZID=America/New_York:20260211T121500
DTEND;TZID=America/New_York:20260211T131500
DTSTAMP:20260423T161553
CREATED:20251230T151505Z
LAST-MODIFIED:20251230T151505Z
UID:16144-1770812100-1770815700@brocktonucc.org
SUMMARY:Midday Music Concert w/Brian Edwards
DESCRIPTION:
URL:https://brocktonucc.org/event/midday-music-concert-w-brian-edwards/
END:VEVENT
BEGIN:VEVENT
DTSTART;TZID=America/New_York:20260211T180000
DTEND;TZID=America/New_York:20260211T184500
DTSTAMP:20260423T161553
CREATED:20250910T173216Z
LAST-MODIFIED:20250910T173216Z
UID:15473-1770832800-1770835500@brocktonucc.org
SUMMARY:Adult Handbells
DESCRIPTION:
URL:https://brocktonucc.org/event/adult-handbells-2/2026-02-11/
END:VEVENT
BEGIN:VEVENT
DTSTART;TZID=America/New_York:20260211T184500
DTEND;TZID=America/New_York:20260211T201500
DTSTAMP:20260423T161553
CREATED:20250910T171404Z
LAST-MODIFIED:20250910T171404Z
UID:15433-1770835500-1770840900@brocktonucc.org
SUMMARY:Adult Choir
DESCRIPTION:
URL:https://brocktonucc.org/event/adult-choir-6/2026-02-11/
END:VEVENT
END:VCALENDAR