BEGIN:VCALENDAR
VERSION:2.0
PRODID:-//Christ Congregational Church, UCC - ECPv6.15.20//NONSGML v1.0//EN
CALSCALE:GREGORIAN
METHOD:PUBLISH
X-ORIGINAL-URL:https://brocktonucc.org
X-WR-CALDESC:Events for Christ Congregational Church, UCC
REFRESH-INTERVAL;VALUE=DURATION:PT1H
X-Robots-Tag:noindex
X-PUBLISHED-TTL:PT1H
BEGIN:VTIMEZONE
TZID:UTC
BEGIN:STANDARD
TZOFFSETFROM:+0000
TZOFFSETTO:+0000
TZNAME:UTC
DTSTART:20160101T000000
END:STANDARD
END:VTIMEZONE
BEGIN:VEVENT
DTSTART;TZID=UTC:20171008T111500
DTEND;TZID=UTC:20171008T114500
DTSTAMP:20260423T233522
CREATED:20171005T220047Z
LAST-MODIFIED:20180215T215249Z
UID:1252-1507461300-1507463100@brocktonucc.org
SUMMARY:Youth Choir
DESCRIPTION:A choir open to children and youth (K-8)\, this group meets in the music room in the upper wing.  They sing from time to time in worship under the direction of Lisa Sparling.
URL:https://brocktonucc.org/event/youth-choir/2017-10-08/
END:VEVENT
END:VCALENDAR