BEGIN:VCALENDAR
VERSION:2.0
PRODID:-//Christ Congregational Church, UCC - ECPv6.15.20//NONSGML v1.0//EN
CALSCALE:GREGORIAN
METHOD:PUBLISH
X-ORIGINAL-URL:https://brocktonucc.org
X-WR-CALDESC:Events for Christ Congregational Church, UCC
REFRESH-INTERVAL;VALUE=DURATION:PT1H
X-Robots-Tag:noindex
X-PUBLISHED-TTL:PT1H
BEGIN:VTIMEZONE
TZID:UTC
BEGIN:STANDARD
TZOFFSETFROM:+0000
TZOFFSETTO:+0000
TZNAME:UTC
DTSTART:20220101T000000
END:STANDARD
END:VTIMEZONE
BEGIN:VEVENT
DTSTART;TZID=UTC:20230608T120000
DTEND;TZID=UTC:20230608T190000
DTSTAMP:20260424T173838
CREATED:20230605T173342Z
LAST-MODIFIED:20230605T173342Z
UID:12946-1686225600-1686250800@brocktonucc.org
SUMMARY:Rose Conservatory 12-7
DESCRIPTION:
URL:https://brocktonucc.org/event/rose-conservatory-12-7/2023-06-08/
END:VEVENT
END:VCALENDAR