BEGIN:VCALENDAR
VERSION:2.0
PRODID:-//Christ Congregational Church, UCC - ECPv6.15.20//NONSGML v1.0//EN
CALSCALE:GREGORIAN
METHOD:PUBLISH
X-ORIGINAL-URL:https://brocktonucc.org
X-WR-CALDESC:Events for Christ Congregational Church, UCC
REFRESH-INTERVAL;VALUE=DURATION:PT1H
X-Robots-Tag:noindex
X-PUBLISHED-TTL:PT1H
BEGIN:VTIMEZONE
TZID:UTC
BEGIN:STANDARD
TZOFFSETFROM:+0000
TZOFFSETTO:+0000
TZNAME:UTC
DTSTART:20210101T000000
END:STANDARD
END:VTIMEZONE
BEGIN:VEVENT
DTSTART;TZID=UTC:20220920T130000
DTEND;TZID=UTC:20220920T150000
DTSTAMP:20260425T113838
CREATED:20220819T172117Z
LAST-MODIFIED:20220819T172117Z
UID:11576-1663678800-1663686000@brocktonucc.org
SUMMARY:Quilt Guild (On-Site)
DESCRIPTION:
URL:https://brocktonucc.org/event/quilt-guild-on-site-5/2022-09-20/
END:VEVENT
END:VCALENDAR