BEGIN:VCALENDAR
VERSION:2.0
PRODID:-//Christ Congregational Church, UCC - ECPv6.15.20//NONSGML v1.0//EN
CALSCALE:GREGORIAN
METHOD:PUBLISH
X-ORIGINAL-URL:https://brocktonucc.org
X-WR-CALDESC:Events for Christ Congregational Church, UCC
REFRESH-INTERVAL;VALUE=DURATION:PT1H
X-Robots-Tag:noindex
X-PUBLISHED-TTL:PT1H
BEGIN:VTIMEZONE
TZID:America/New_York
BEGIN:DAYLIGHT
TZOFFSETFROM:-0500
TZOFFSETTO:-0400
TZNAME:EDT
DTSTART:20240310T070000
END:DAYLIGHT
BEGIN:STANDARD
TZOFFSETFROM:-0400
TZOFFSETTO:-0500
TZNAME:EST
DTSTART:20241103T060000
END:STANDARD
BEGIN:DAYLIGHT
TZOFFSETFROM:-0500
TZOFFSETTO:-0400
TZNAME:EDT
DTSTART:20250309T070000
END:DAYLIGHT
BEGIN:STANDARD
TZOFFSETFROM:-0400
TZOFFSETTO:-0500
TZNAME:EST
DTSTART:20251102T060000
END:STANDARD
BEGIN:DAYLIGHT
TZOFFSETFROM:-0500
TZOFFSETTO:-0400
TZNAME:EDT
DTSTART:20260308T070000
END:DAYLIGHT
BEGIN:STANDARD
TZOFFSETFROM:-0400
TZOFFSETTO:-0500
TZNAME:EST
DTSTART:20261101T060000
END:STANDARD
BEGIN:DAYLIGHT
TZOFFSETFROM:-0500
TZOFFSETTO:-0400
TZNAME:EDT
DTSTART:20270314T070000
END:DAYLIGHT
BEGIN:STANDARD
TZOFFSETFROM:-0400
TZOFFSETTO:-0500
TZNAME:EST
DTSTART:20271107T060000
END:STANDARD
END:VTIMEZONE
BEGIN:VEVENT
DTSTART;TZID=America/New_York:20260412T090000
DTEND;TZID=America/New_York:20260412T094500
DTSTAMP:20260423T144012
CREATED:20251008T152146Z
LAST-MODIFIED:20251008T152146Z
UID:15948-1775984400-1775987100@brocktonucc.org
SUMMARY:Missions Committee Meeting (Library)
DESCRIPTION:
URL:https://brocktonucc.org/event/missions-committee-meeting-library/2026-04-12/
END:VEVENT
BEGIN:VEVENT
DTSTART;TZID=America/New_York:20260215T090000
DTEND;TZID=America/New_York:20260215T094500
DTSTAMP:20260423T144012
CREATED:20251008T152146Z
LAST-MODIFIED:20251008T152146Z
UID:15946-1771146000-1771148700@brocktonucc.org
SUMMARY:Missions Committee Meeting (Library)
DESCRIPTION:
URL:https://brocktonucc.org/event/missions-committee-meeting-library/2026-02-15/
END:VEVENT
BEGIN:VEVENT
DTSTART;TZID=America/New_York:20251214T090000
DTEND;TZID=America/New_York:20251214T094500
DTSTAMP:20260423T144012
CREATED:20251008T152146Z
LAST-MODIFIED:20251008T152146Z
UID:15944-1765702800-1765705500@brocktonucc.org
SUMMARY:Missions Committee Meeting (Library)
DESCRIPTION:
URL:https://brocktonucc.org/event/missions-committee-meeting-library/2025-12-14/
END:VEVENT
BEGIN:VEVENT
DTSTART;TZID=America/New_York:20251116T090000
DTEND;TZID=America/New_York:20251116T094500
DTSTAMP:20260423T144012
CREATED:20251008T152146Z
LAST-MODIFIED:20251008T152146Z
UID:15943-1763283600-1763286300@brocktonucc.org
SUMMARY:Missions Committee Meeting (Library)
DESCRIPTION:
URL:https://brocktonucc.org/event/missions-committee-meeting-library/2025-11-16/
END:VEVENT
BEGIN:VEVENT
DTSTART;TZID=America/New_York:20251012T090000
DTEND;TZID=America/New_York:20251012T094500
DTSTAMP:20260423T144012
CREATED:20251008T152146Z
LAST-MODIFIED:20251008T152146Z
UID:15942-1760259600-1760262300@brocktonucc.org
SUMMARY:Missions Committee Meeting (Library)
DESCRIPTION:
URL:https://brocktonucc.org/event/missions-committee-meeting-library/2025-10-12/
END:VEVENT
BEGIN:VEVENT
DTSTART;TZID=America/New_York:20250921T090000
DTEND;TZID=America/New_York:20250921T094500
DTSTAMP:20260423T144012
CREATED:20251008T152146Z
LAST-MODIFIED:20251008T152146Z
UID:15941-1758445200-1758447900@brocktonucc.org
SUMMARY:Missions Committee Meeting (Library)
DESCRIPTION:
URL:https://brocktonucc.org/event/missions-committee-meeting-library/2025-09-21/
END:VEVENT
BEGIN:VEVENT
DTSTART;TZID=America/New_York:20250824T090000
DTEND;TZID=America/New_York:20250824T094500
DTSTAMP:20260423T144012
CREATED:20251008T152146Z
LAST-MODIFIED:20251008T152146Z
UID:15940-1756026000-1756028700@brocktonucc.org
SUMMARY:Missions Committee Meeting (Library)
DESCRIPTION:
URL:https://brocktonucc.org/event/missions-committee-meeting-library/2025-08-24/
END:VEVENT
END:VCALENDAR