BEGIN:VCALENDAR
VERSION:2.0
PRODID:-//Christ Congregational Church, UCC - ECPv6.15.20//NONSGML v1.0//EN
CALSCALE:GREGORIAN
METHOD:PUBLISH
X-ORIGINAL-URL:https://brocktonucc.org
X-WR-CALDESC:Events for Christ Congregational Church, UCC
REFRESH-INTERVAL;VALUE=DURATION:PT1H
X-Robots-Tag:noindex
X-PUBLISHED-TTL:PT1H
BEGIN:VTIMEZONE
TZID:UTC
BEGIN:STANDARD
TZOFFSETFROM:+0000
TZOFFSETTO:+0000
TZNAME:UTC
DTSTART:20260101T000000
END:STANDARD
END:VTIMEZONE
BEGIN:VEVENT
DTSTART;TZID=UTC:20271007T190000
DTEND;TZID=UTC:20271007T203000
DTSTAMP:20260423T164650
CREATED:20170923T002759Z
LAST-MODIFIED:20170923T002759Z
UID:15994-1822935600-1822941000@brocktonucc.org
SUMMARY:Deacons
DESCRIPTION:
URL:https://brocktonucc.org/event/deacons/2027-10-07/
LOCATION:Christ Congregational Church\, 1350 PLEASANT STREET\, Brockton\, MA\, 02301\, United States
END:VEVENT
BEGIN:VEVENT
DTSTART;TZID=UTC:20271104T190000
DTEND;TZID=UTC:20271104T203000
DTSTAMP:20260423T164650
CREATED:20170923T002759Z
LAST-MODIFIED:20170923T002759Z
UID:16049-1825354800-1825360200@brocktonucc.org
SUMMARY:Deacons
DESCRIPTION:
URL:https://brocktonucc.org/event/deacons/2027-11-04/
LOCATION:Christ Congregational Church\, 1350 PLEASANT STREET\, Brockton\, MA\, 02301\, United States
END:VEVENT
BEGIN:VEVENT
DTSTART;TZID=UTC:20271202T190000
DTEND;TZID=UTC:20271202T203000
DTSTAMP:20260423T164650
CREATED:20170923T002759Z
LAST-MODIFIED:20170923T002759Z
UID:16103-1827774000-1827779400@brocktonucc.org
SUMMARY:Deacons
DESCRIPTION:
URL:https://brocktonucc.org/event/deacons/2027-12-02/
LOCATION:Christ Congregational Church\, 1350 PLEASANT STREET\, Brockton\, MA\, 02301\, United States
END:VEVENT
BEGIN:VEVENT
DTSTART;TZID=UTC:20280106T190000
DTEND;TZID=UTC:20280106T203000
DTSTAMP:20260423T164650
CREATED:20170923T002759Z
LAST-MODIFIED:20170923T002759Z
UID:16178-1830798000-1830803400@brocktonucc.org
SUMMARY:Deacons
DESCRIPTION:
URL:https://brocktonucc.org/event/deacons/2028-01-06/
LOCATION:Christ Congregational Church\, 1350 PLEASANT STREET\, Brockton\, MA\, 02301\, United States
END:VEVENT
BEGIN:VEVENT
DTSTART;TZID=UTC:20280203T190000
DTEND;TZID=UTC:20280203T203000
DTSTAMP:20260423T164650
CREATED:20170923T002759Z
LAST-MODIFIED:20170923T002759Z
UID:16240-1833217200-1833222600@brocktonucc.org
SUMMARY:Deacons
DESCRIPTION:
URL:https://brocktonucc.org/event/deacons/2028-02-03/
LOCATION:Christ Congregational Church\, 1350 PLEASANT STREET\, Brockton\, MA\, 02301\, United States
END:VEVENT
BEGIN:VEVENT
DTSTART;TZID=UTC:20280302T190000
DTEND;TZID=UTC:20280302T203000
DTSTAMP:20260423T164650
CREATED:20170923T002759Z
LAST-MODIFIED:20170923T002759Z
UID:16282-1835636400-1835641800@brocktonucc.org
SUMMARY:Deacons
DESCRIPTION:
URL:https://brocktonucc.org/event/deacons/2028-03-02/
LOCATION:Christ Congregational Church\, 1350 PLEASANT STREET\, Brockton\, MA\, 02301\, United States
END:VEVENT
BEGIN:VEVENT
DTSTART;TZID=UTC:20280406T190000
DTEND;TZID=UTC:20280406T203000
DTSTAMP:20260423T164650
CREATED:20170923T002759Z
LAST-MODIFIED:20170923T002759Z
UID:16352-1838660400-1838665800@brocktonucc.org
SUMMARY:Deacons
DESCRIPTION:
URL:https://brocktonucc.org/event/deacons/2028-04-06/
LOCATION:Christ Congregational Church\, 1350 PLEASANT STREET\, Brockton\, MA\, 02301\, United States
END:VEVENT
END:VCALENDAR