BEGIN:VCALENDAR
VERSION:2.0
PRODID:-//Christ Congregational Church, UCC - ECPv6.15.20//NONSGML v1.0//EN
CALSCALE:GREGORIAN
METHOD:PUBLISH
X-ORIGINAL-URL:https://brocktonucc.org
X-WR-CALDESC:Events for Christ Congregational Church, UCC
REFRESH-INTERVAL;VALUE=DURATION:PT1H
X-Robots-Tag:noindex
X-PUBLISHED-TTL:PT1H
BEGIN:VTIMEZONE
TZID:UTC
BEGIN:STANDARD
TZOFFSETFROM:+0000
TZOFFSETTO:+0000
TZNAME:UTC
DTSTART:20160101T000000
END:STANDARD
END:VTIMEZONE
BEGIN:VEVENT
DTSTART;TZID=UTC:20260416T190000
DTEND;TZID=UTC:20260416T203000
DTSTAMP:20260423T161852
CREATED:20170922T164813Z
LAST-MODIFIED:20250922T173548Z
UID:15229-1776366000-1776371400@brocktonucc.org
SUMMARY:Council Meeting (Zoom)
DESCRIPTION:
URL:https://brocktonucc.org/event/council-meeting/2026-04-16/
END:VEVENT
BEGIN:VEVENT
DTSTART;TZID=UTC:20260319T190000
DTEND;TZID=UTC:20260319T203000
DTSTAMP:20260423T161852
CREATED:20170922T164813Z
LAST-MODIFIED:20250922T173548Z
UID:15228-1773946800-1773952200@brocktonucc.org
SUMMARY:Council Meeting (Zoom)
DESCRIPTION:
URL:https://brocktonucc.org/event/council-meeting/2026-03-19/
END:VEVENT
BEGIN:VEVENT
DTSTART;TZID=UTC:20260219T190000
DTEND;TZID=UTC:20260219T203000
DTSTAMP:20260423T161852
CREATED:20170922T164813Z
LAST-MODIFIED:20250922T173548Z
UID:15227-1771527600-1771533000@brocktonucc.org
SUMMARY:Council Meeting (Zoom)
DESCRIPTION:
URL:https://brocktonucc.org/event/council-meeting/2026-02-19/
END:VEVENT
BEGIN:VEVENT
DTSTART;TZID=UTC:20260115T190000
DTEND;TZID=UTC:20260115T203000
DTSTAMP:20260423T161852
CREATED:20170922T164813Z
LAST-MODIFIED:20250922T173548Z
UID:15226-1768503600-1768509000@brocktonucc.org
SUMMARY:Council Meeting (Zoom)
DESCRIPTION:
URL:https://brocktonucc.org/event/council-meeting/2026-01-15/
END:VEVENT
BEGIN:VEVENT
DTSTART;TZID=UTC:20251120T190000
DTEND;TZID=UTC:20251120T203000
DTSTAMP:20260423T161852
CREATED:20170922T164813Z
LAST-MODIFIED:20250922T173545Z
UID:15224-1763665200-1763670600@brocktonucc.org
SUMMARY:Council Meeting (Zoom)
DESCRIPTION:
URL:https://brocktonucc.org/event/council-meeting/2025-11-20/
END:VEVENT
BEGIN:VEVENT
DTSTART;TZID=UTC:20251016T190000
DTEND;TZID=UTC:20251016T203000
DTSTAMP:20260423T161852
CREATED:20170922T164813Z
LAST-MODIFIED:20250922T173545Z
UID:15223-1760641200-1760646600@brocktonucc.org
SUMMARY:Council Meeting (Zoom)
DESCRIPTION:
URL:https://brocktonucc.org/event/council-meeting/2025-10-16/
END:VEVENT
BEGIN:VEVENT
DTSTART;TZID=UTC:20250821T190000
DTEND;TZID=UTC:20250821T203000
DTSTAMP:20260423T161852
CREATED:20170922T164813Z
LAST-MODIFIED:20250922T173545Z
UID:15221-1755802800-1755808200@brocktonucc.org
SUMMARY:Council Meeting (Zoom)
DESCRIPTION:
URL:https://brocktonucc.org/event/council-meeting/2025-08-21/
END:VEVENT
BEGIN:VEVENT
DTSTART;TZID=UTC:20250717T190000
DTEND;TZID=UTC:20250717T203000
DTSTAMP:20260423T161852
CREATED:20170922T164813Z
LAST-MODIFIED:20250922T173544Z
UID:15220-1752778800-1752784200@brocktonucc.org
SUMMARY:Council Meeting (Zoom)
DESCRIPTION:
URL:https://brocktonucc.org/event/council-meeting/2025-07-17/
END:VEVENT
BEGIN:VEVENT
DTSTART;TZID=UTC:20250619T190000
DTEND;TZID=UTC:20250619T203000
DTSTAMP:20260423T161852
CREATED:20170922T164813Z
LAST-MODIFIED:20250922T173543Z
UID:15219-1750359600-1750365000@brocktonucc.org
SUMMARY:Council Meeting (Zoom)
DESCRIPTION:
URL:https://brocktonucc.org/event/council-meeting/2025-06-19/
END:VEVENT
BEGIN:VEVENT
DTSTART;TZID=UTC:20250515T190000
DTEND;TZID=UTC:20250515T203000
DTSTAMP:20260423T161852
CREATED:20170922T164813Z
LAST-MODIFIED:20250922T173543Z
UID:15218-1747335600-1747341000@brocktonucc.org
SUMMARY:Council Meeting (Zoom)
DESCRIPTION:
URL:https://brocktonucc.org/event/council-meeting/2025-05-15/
END:VEVENT
BEGIN:VEVENT
DTSTART;TZID=UTC:20250417T190000
DTEND;TZID=UTC:20250417T203000
DTSTAMP:20260423T161852
CREATED:20170922T164813Z
LAST-MODIFIED:20250922T173543Z
UID:15217-1744916400-1744921800@brocktonucc.org
SUMMARY:Council Meeting (Zoom)
DESCRIPTION:
URL:https://brocktonucc.org/event/council-meeting/2025-04-17/
END:VEVENT
BEGIN:VEVENT
DTSTART;TZID=UTC:20250320T190000
DTEND;TZID=UTC:20250320T203000
DTSTAMP:20260423T161852
CREATED:20170922T164813Z
LAST-MODIFIED:20250922T173542Z
UID:15216-1742497200-1742502600@brocktonucc.org
SUMMARY:Council Meeting (Zoom)
DESCRIPTION:
URL:https://brocktonucc.org/event/council-meeting/2025-03-20/
END:VEVENT
BEGIN:VEVENT
DTSTART;TZID=UTC:20250220T190000
DTEND;TZID=UTC:20250220T203000
DTSTAMP:20260423T161852
CREATED:20170922T164813Z
LAST-MODIFIED:20250922T173542Z
UID:15215-1740078000-1740083400@brocktonucc.org
SUMMARY:Council Meeting (Zoom)
DESCRIPTION:
URL:https://brocktonucc.org/event/council-meeting/2025-02-20/
END:VEVENT
BEGIN:VEVENT
DTSTART;TZID=UTC:20250116T190000
DTEND;TZID=UTC:20250116T203000
DTSTAMP:20260423T161852
CREATED:20170922T164813Z
LAST-MODIFIED:20250922T173542Z
UID:15214-1737054000-1737059400@brocktonucc.org
SUMMARY:Council Meeting (Zoom)
DESCRIPTION:
URL:https://brocktonucc.org/event/council-meeting/2025-01-16/
END:VEVENT
BEGIN:VEVENT
DTSTART;TZID=UTC:20241219T190000
DTEND;TZID=UTC:20241219T203000
DTSTAMP:20260423T161852
CREATED:20170922T164813Z
LAST-MODIFIED:20250922T173539Z
UID:15213-1734634800-1734640200@brocktonucc.org
SUMMARY:Council Meeting (Zoom)
DESCRIPTION:
URL:https://brocktonucc.org/event/council-meeting/2024-12-19/
END:VEVENT
BEGIN:VEVENT
DTSTART;TZID=UTC:20241121T190000
DTEND;TZID=UTC:20241121T203000
DTSTAMP:20260423T161852
CREATED:20170922T164813Z
LAST-MODIFIED:20250922T173538Z
UID:15212-1732215600-1732221000@brocktonucc.org
SUMMARY:Council Meeting (Zoom)
DESCRIPTION:
URL:https://brocktonucc.org/event/council-meeting/2024-11-21/
END:VEVENT
BEGIN:VEVENT
DTSTART;TZID=UTC:20241017T190000
DTEND;TZID=UTC:20241017T203000
DTSTAMP:20260423T161852
CREATED:20170922T164813Z
LAST-MODIFIED:20250922T173538Z
UID:11951-1729191600-1729197000@brocktonucc.org
SUMMARY:Council Meeting (Zoom)
DESCRIPTION:
URL:https://brocktonucc.org/event/council-meeting/2024-10-17/
END:VEVENT
BEGIN:VEVENT
DTSTART;TZID=UTC:20240919T190000
DTEND;TZID=UTC:20240919T203000
DTSTAMP:20260423T161852
CREATED:20170922T164813Z
LAST-MODIFIED:20250922T173538Z
UID:11871-1726772400-1726777800@brocktonucc.org
SUMMARY:Council Meeting (Zoom)
DESCRIPTION:
URL:https://brocktonucc.org/event/council-meeting/2024-09-19/
END:VEVENT
BEGIN:VEVENT
DTSTART;TZID=UTC:20240815T190000
DTEND;TZID=UTC:20240815T203000
DTSTAMP:20260423T161852
CREATED:20170922T164813Z
LAST-MODIFIED:20250922T173538Z
UID:11564-1723748400-1723753800@brocktonucc.org
SUMMARY:Council Meeting (Zoom)
DESCRIPTION:
URL:https://brocktonucc.org/event/council-meeting/2024-08-15/
END:VEVENT
BEGIN:VEVENT
DTSTART;TZID=UTC:20240718T190000
DTEND;TZID=UTC:20240718T203000
DTSTAMP:20260423T161852
CREATED:20170922T164813Z
LAST-MODIFIED:20250922T173537Z
UID:11455-1721329200-1721334600@brocktonucc.org
SUMMARY:Council Meeting (Zoom)
DESCRIPTION:
URL:https://brocktonucc.org/event/council-meeting/2024-07-18/
END:VEVENT
BEGIN:VEVENT
DTSTART;TZID=UTC:20240620T190000
DTEND;TZID=UTC:20240620T203000
DTSTAMP:20260423T161852
CREATED:20170922T164813Z
LAST-MODIFIED:20170922T164813Z
UID:15827-1718910000-1718915400@brocktonucc.org
SUMMARY:Council Meeting (Zoom)
DESCRIPTION:
URL:https://brocktonucc.org/event/council-meeting/2024-06-20/
END:VEVENT
BEGIN:VEVENT
DTSTART;TZID=UTC:20240516T190000
DTEND;TZID=UTC:20240516T203000
DTSTAMP:20260423T161852
CREATED:20170922T164813Z
LAST-MODIFIED:20170922T164813Z
UID:15826-1715886000-1715891400@brocktonucc.org
SUMMARY:Council Meeting (Zoom)
DESCRIPTION:
URL:https://brocktonucc.org/event/council-meeting/2024-05-16/
END:VEVENT
BEGIN:VEVENT
DTSTART;TZID=UTC:20171019T190000
DTEND;TZID=UTC:20171019T203000
DTSTAMP:20260423T161852
CREATED:20170922T164813Z
LAST-MODIFIED:20250922T173506Z
UID:517-1508439600-1508445000@brocktonucc.org
SUMMARY:Council Meeting (Zoom)
DESCRIPTION:
URL:https://brocktonucc.org/event/council-meeting/2017-10-19/
END:VEVENT
END:VCALENDAR