BEGIN:VCALENDAR
VERSION:2.0
PRODID:-//Christ Congregational Church, UCC - ECPv6.15.20//NONSGML v1.0//EN
CALSCALE:GREGORIAN
METHOD:PUBLISH
X-WR-CALNAME:Christ Congregational Church, UCC
X-ORIGINAL-URL:https://brocktonucc.org
X-WR-CALDESC:Events for Christ Congregational Church, UCC
REFRESH-INTERVAL;VALUE=DURATION:PT1H
X-Robots-Tag:noindex
X-PUBLISHED-TTL:PT1H
BEGIN:VTIMEZONE
TZID:UTC
BEGIN:STANDARD
TZOFFSETFROM:+0000
TZOFFSETTO:+0000
TZNAME:UTC
DTSTART:20160101T000000
END:STANDARD
END:VTIMEZONE
BEGIN:VEVENT
DTSTART;TZID=UTC:20171015T115000
DTEND;TZID=UTC:20171015T133000
DTSTAMP:20260424T021132
CREATED:20170923T050235Z
LAST-MODIFIED:20180213T020525Z
UID:1028-1508068200-1508074200@brocktonucc.org
SUMMARY:Confirmation
DESCRIPTION:
URL:https://brocktonucc.org/event/confirmation-2017-10-15/2017-10-15/
END:VEVENT
END:VCALENDAR