BEGIN:VCALENDAR
VERSION:2.0
PRODID:-//Christ Congregational Church, UCC - ECPv6.15.20//NONSGML v1.0//EN
CALSCALE:GREGORIAN
METHOD:PUBLISH
X-WR-CALNAME:Christ Congregational Church, UCC
X-ORIGINAL-URL:https://brocktonucc.org
X-WR-CALDESC:Events for Christ Congregational Church, UCC
REFRESH-INTERVAL;VALUE=DURATION:PT1H
X-Robots-Tag:noindex
X-PUBLISHED-TTL:PT1H
BEGIN:VTIMEZONE
TZID:America/New_York
BEGIN:DAYLIGHT
TZOFFSETFROM:-0500
TZOFFSETTO:-0400
TZNAME:EDT
DTSTART:20240310T070000
END:DAYLIGHT
BEGIN:STANDARD
TZOFFSETFROM:-0400
TZOFFSETTO:-0500
TZNAME:EST
DTSTART:20241103T060000
END:STANDARD
BEGIN:DAYLIGHT
TZOFFSETFROM:-0500
TZOFFSETTO:-0400
TZNAME:EDT
DTSTART:20250309T070000
END:DAYLIGHT
BEGIN:STANDARD
TZOFFSETFROM:-0400
TZOFFSETTO:-0500
TZNAME:EST
DTSTART:20251102T060000
END:STANDARD
BEGIN:DAYLIGHT
TZOFFSETFROM:-0500
TZOFFSETTO:-0400
TZNAME:EDT
DTSTART:20260308T070000
END:DAYLIGHT
BEGIN:STANDARD
TZOFFSETFROM:-0400
TZOFFSETTO:-0500
TZNAME:EST
DTSTART:20261101T060000
END:STANDARD
BEGIN:DAYLIGHT
TZOFFSETFROM:-0500
TZOFFSETTO:-0400
TZNAME:EDT
DTSTART:20270314T070000
END:DAYLIGHT
BEGIN:STANDARD
TZOFFSETFROM:-0400
TZOFFSETTO:-0500
TZNAME:EST
DTSTART:20271107T060000
END:STANDARD
END:VTIMEZONE
BEGIN:VEVENT
DTSTART;TZID=America/New_York:20260421T130000
DTEND;TZID=America/New_York:20260421T150000
DTSTAMP:20260423T143801
CREATED:20250910T170108Z
LAST-MODIFIED:20250910T170108Z
UID:15406-1776776400-1776783600@brocktonucc.org
SUMMARY:Common Threads Quilt Guild
DESCRIPTION:
URL:https://brocktonucc.org/event/common-threads-quilt-guild/2026-04-21/
END:VEVENT
BEGIN:VEVENT
DTSTART;TZID=America/New_York:20260317T130000
DTEND;TZID=America/New_York:20260317T150000
DTSTAMP:20260423T143801
CREATED:20250910T170108Z
LAST-MODIFIED:20250910T170108Z
UID:15405-1773752400-1773759600@brocktonucc.org
SUMMARY:Common Threads Quilt Guild
DESCRIPTION:
URL:https://brocktonucc.org/event/common-threads-quilt-guild/2026-03-17/
END:VEVENT
BEGIN:VEVENT
DTSTART;TZID=America/New_York:20260217T130000
DTEND;TZID=America/New_York:20260217T150000
DTSTAMP:20260423T143801
CREATED:20250910T170108Z
LAST-MODIFIED:20250910T170108Z
UID:15404-1771333200-1771340400@brocktonucc.org
SUMMARY:Common Threads Quilt Guild
DESCRIPTION:
URL:https://brocktonucc.org/event/common-threads-quilt-guild/2026-02-17/
END:VEVENT
BEGIN:VEVENT
DTSTART;TZID=America/New_York:20260120T130000
DTEND;TZID=America/New_York:20260120T150000
DTSTAMP:20260423T143801
CREATED:20250910T170108Z
LAST-MODIFIED:20250910T170108Z
UID:15403-1768914000-1768921200@brocktonucc.org
SUMMARY:Common Threads Quilt Guild
DESCRIPTION:
URL:https://brocktonucc.org/event/common-threads-quilt-guild/2026-01-20/
END:VEVENT
BEGIN:VEVENT
DTSTART;TZID=America/New_York:20251216T130000
DTEND;TZID=America/New_York:20251216T150000
DTSTAMP:20260423T143801
CREATED:20250910T170108Z
LAST-MODIFIED:20250910T170108Z
UID:15402-1765890000-1765897200@brocktonucc.org
SUMMARY:Common Threads Quilt Guild
DESCRIPTION:
URL:https://brocktonucc.org/event/common-threads-quilt-guild/2025-12-16/
END:VEVENT
BEGIN:VEVENT
DTSTART;TZID=America/New_York:20251118T130000
DTEND;TZID=America/New_York:20251118T150000
DTSTAMP:20260423T143801
CREATED:20250910T170108Z
LAST-MODIFIED:20250910T170108Z
UID:15401-1763470800-1763478000@brocktonucc.org
SUMMARY:Common Threads Quilt Guild
DESCRIPTION:
URL:https://brocktonucc.org/event/common-threads-quilt-guild/2025-11-18/
END:VEVENT
BEGIN:VEVENT
DTSTART;TZID=America/New_York:20250916T130000
DTEND;TZID=America/New_York:20250916T150000
DTSTAMP:20260423T143801
CREATED:20250910T170108Z
LAST-MODIFIED:20250910T170108Z
UID:15399-1758027600-1758034800@brocktonucc.org
SUMMARY:Common Threads Quilt Guild
DESCRIPTION:
URL:https://brocktonucc.org/event/common-threads-quilt-guild/2025-09-16/
END:VEVENT
END:VCALENDAR