BEGIN:VCALENDAR
VERSION:2.0
PRODID:-//Christ Congregational Church, UCC - ECPv6.15.20//NONSGML v1.0//EN
CALSCALE:GREGORIAN
METHOD:PUBLISH
X-ORIGINAL-URL:https://brocktonucc.org
X-WR-CALDESC:Events for Christ Congregational Church, UCC
REFRESH-INTERVAL;VALUE=DURATION:PT1H
X-Robots-Tag:noindex
X-PUBLISHED-TTL:PT1H
BEGIN:VTIMEZONE
TZID:UTC
BEGIN:STANDARD
TZOFFSETFROM:+0000
TZOFFSETTO:+0000
TZNAME:UTC
DTSTART:20220101T000000
END:STANDARD
END:VTIMEZONE
BEGIN:VEVENT
DTSTART;TZID=UTC:20231106T191500
DTEND;TZID=UTC:20231106T214500
DTSTAMP:20260425T204207
CREATED:20231103T182434Z
LAST-MODIFIED:20231103T182434Z
UID:13690-1699298100-1699307100@brocktonucc.org
SUMMARY:BrSO Rehearsal
DESCRIPTION:
URL:https://brocktonucc.org/event/brso-rehearsal-12/2023-11-06/
END:VEVENT
END:VCALENDAR