BEGIN:VCALENDAR
VERSION:2.0
PRODID:-//Christ Congregational Church, UCC - ECPv6.15.20//NONSGML v1.0//EN
CALSCALE:GREGORIAN
METHOD:PUBLISH
X-WR-CALNAME:Christ Congregational Church, UCC
X-ORIGINAL-URL:https://brocktonucc.org
X-WR-CALDESC:Events for Christ Congregational Church, UCC
REFRESH-INTERVAL;VALUE=DURATION:PT1H
X-Robots-Tag:noindex
X-PUBLISHED-TTL:PT1H
BEGIN:VTIMEZONE
TZID:UTC
BEGIN:STANDARD
TZOFFSETFROM:+0000
TZOFFSETTO:+0000
TZNAME:UTC
DTSTART:20180101T000000
END:STANDARD
END:VTIMEZONE
BEGIN:VEVENT
DTSTART;TZID=UTC:20190309T090000
DTEND;TZID=UTC:20190309T110000
DTSTAMP:20260424T223029
CREATED:20190305T201537Z
LAST-MODIFIED:20190305T201537Z
UID:3837-1552122000-1552129200@brocktonucc.org
SUMMARY:Breakfast & Beliefs
DESCRIPTION:Saturdays in Lent from 9:00 – 11:00am \nBreakfast and Beliefs \n  \nMarch 9th: Spiritual Practices: Do you have (now or ever) a regular spiritual practice? \n  \nMarch 16th: The Church and the State: What does separation of church and state mean for us as a congregation? \n  \nMarch 23th: LGBTQ and God: Does your sexual preference/gender identity matter to God? \n  \nMarch 30th: God’s Will: When are things that happen in life “God’s will”? \n  \nApril 6th:  Interfaith Conversations/Ecumenical Conversations: How do you understand the “truth” of other faiths? \n  \nApril 13th:  Holy Week Focal Points: What does Holy Week mean to you? \n 
URL:https://brocktonucc.org/event/breakfast-beliefs/2019-03-09/
END:VEVENT
END:VCALENDAR