BEGIN:VCALENDAR
VERSION:2.0
PRODID:-//Christ Congregational Church, UCC - ECPv6.15.20//NONSGML v1.0//EN
CALSCALE:GREGORIAN
METHOD:PUBLISH
X-WR-CALNAME:Christ Congregational Church, UCC
X-ORIGINAL-URL:https://brocktonucc.org
X-WR-CALDESC:Events for Christ Congregational Church, UCC
REFRESH-INTERVAL;VALUE=DURATION:PT1H
X-Robots-Tag:noindex
X-PUBLISHED-TTL:PT1H
BEGIN:VTIMEZONE
TZID:UTC
BEGIN:STANDARD
TZOFFSETFROM:+0000
TZOFFSETTO:+0000
TZNAME:UTC
DTSTART:20210101T000000
END:STANDARD
END:VTIMEZONE
BEGIN:VEVENT
DTSTART;TZID=UTC:20220907T100000
DTEND;TZID=UTC:20220907T113000
DTSTAMP:20260424T145230
CREATED:20220906T230000Z
LAST-MODIFIED:20220906T230000Z
UID:11643-1662544800-1662550200@brocktonucc.org
SUMMARY:Bible Study (Zoom)
DESCRIPTION:
URL:https://brocktonucc.org/event/bible-study-zoom-3/2022-09-07/
END:VEVENT
END:VCALENDAR