BEGIN:VCALENDAR
VERSION:2.0
PRODID:-//Christ Congregational Church, UCC - ECPv6.15.20//NONSGML v1.0//EN
CALSCALE:GREGORIAN
METHOD:PUBLISH
X-WR-CALNAME:Christ Congregational Church, UCC
X-ORIGINAL-URL:https://brocktonucc.org
X-WR-CALDESC:Events for Christ Congregational Church, UCC
REFRESH-INTERVAL;VALUE=DURATION:PT1H
X-Robots-Tag:noindex
X-PUBLISHED-TTL:PT1H
BEGIN:VTIMEZONE
TZID:America/New_York
BEGIN:DAYLIGHT
TZOFFSETFROM:-0500
TZOFFSETTO:-0400
TZNAME:EDT
DTSTART:20240310T070000
END:DAYLIGHT
BEGIN:STANDARD
TZOFFSETFROM:-0400
TZOFFSETTO:-0500
TZNAME:EST
DTSTART:20241103T060000
END:STANDARD
BEGIN:DAYLIGHT
TZOFFSETFROM:-0500
TZOFFSETTO:-0400
TZNAME:EDT
DTSTART:20250309T070000
END:DAYLIGHT
BEGIN:STANDARD
TZOFFSETFROM:-0400
TZOFFSETTO:-0500
TZNAME:EST
DTSTART:20251102T060000
END:STANDARD
BEGIN:DAYLIGHT
TZOFFSETFROM:-0500
TZOFFSETTO:-0400
TZNAME:EDT
DTSTART:20260308T070000
END:DAYLIGHT
BEGIN:STANDARD
TZOFFSETFROM:-0400
TZOFFSETTO:-0500
TZNAME:EST
DTSTART:20261101T060000
END:STANDARD
BEGIN:DAYLIGHT
TZOFFSETFROM:-0500
TZOFFSETTO:-0400
TZNAME:EDT
DTSTART:20270314T070000
END:DAYLIGHT
BEGIN:STANDARD
TZOFFSETFROM:-0400
TZOFFSETTO:-0500
TZNAME:EST
DTSTART:20271107T060000
END:STANDARD
END:VTIMEZONE
BEGIN:VEVENT
DTSTART;TZID=America/New_York:20260422T184500
DTEND;TZID=America/New_York:20260422T201500
DTSTAMP:20260423T143952
CREATED:20250910T171404Z
LAST-MODIFIED:20250910T171404Z
UID:15443-1776883500-1776888900@brocktonucc.org
SUMMARY:Adult Choir
DESCRIPTION:
URL:https://brocktonucc.org/event/adult-choir-6/2026-04-22/
END:VEVENT
BEGIN:VEVENT
DTSTART;TZID=America/New_York:20260415T184500
DTEND;TZID=America/New_York:20260415T201500
DTSTAMP:20260423T143953
CREATED:20250910T171404Z
LAST-MODIFIED:20250910T171404Z
UID:15442-1776278700-1776284100@brocktonucc.org
SUMMARY:Adult Choir
DESCRIPTION:
URL:https://brocktonucc.org/event/adult-choir-6/2026-04-15/
END:VEVENT
BEGIN:VEVENT
DTSTART;TZID=America/New_York:20260401T184500
DTEND;TZID=America/New_York:20260401T201500
DTSTAMP:20260423T143953
CREATED:20250910T171404Z
LAST-MODIFIED:20250910T171404Z
UID:15440-1775069100-1775074500@brocktonucc.org
SUMMARY:Adult Choir
DESCRIPTION:
URL:https://brocktonucc.org/event/adult-choir-6/2026-04-01/
END:VEVENT
BEGIN:VEVENT
DTSTART;TZID=America/New_York:20260325T184500
DTEND;TZID=America/New_York:20260325T201500
DTSTAMP:20260423T143953
CREATED:20250910T171404Z
LAST-MODIFIED:20250910T171404Z
UID:15439-1774464300-1774469700@brocktonucc.org
SUMMARY:Adult Choir
DESCRIPTION:
URL:https://brocktonucc.org/event/adult-choir-6/2026-03-25/
END:VEVENT
BEGIN:VEVENT
DTSTART;TZID=America/New_York:20260318T184500
DTEND;TZID=America/New_York:20260318T201500
DTSTAMP:20260423T143953
CREATED:20250910T171404Z
LAST-MODIFIED:20250910T171404Z
UID:15438-1773859500-1773864900@brocktonucc.org
SUMMARY:Adult Choir
DESCRIPTION:
URL:https://brocktonucc.org/event/adult-choir-6/2026-03-18/
END:VEVENT
BEGIN:VEVENT
DTSTART;TZID=America/New_York:20260304T184500
DTEND;TZID=America/New_York:20260304T201500
DTSTAMP:20260423T143953
CREATED:20250910T171404Z
LAST-MODIFIED:20250910T171404Z
UID:15436-1772649900-1772655300@brocktonucc.org
SUMMARY:Adult Choir
DESCRIPTION:
URL:https://brocktonucc.org/event/adult-choir-6/2026-03-04/
END:VEVENT
BEGIN:VEVENT
DTSTART;TZID=America/New_York:20260225T184500
DTEND;TZID=America/New_York:20260225T201500
DTSTAMP:20260423T143953
CREATED:20250910T171404Z
LAST-MODIFIED:20250910T171404Z
UID:15435-1772045100-1772050500@brocktonucc.org
SUMMARY:Adult Choir
DESCRIPTION:
URL:https://brocktonucc.org/event/adult-choir-6/2026-02-25/
END:VEVENT
BEGIN:VEVENT
DTSTART;TZID=America/New_York:20260211T184500
DTEND;TZID=America/New_York:20260211T201500
DTSTAMP:20260423T143953
CREATED:20250910T171404Z
LAST-MODIFIED:20250910T171404Z
UID:15433-1770835500-1770840900@brocktonucc.org
SUMMARY:Adult Choir
DESCRIPTION:
URL:https://brocktonucc.org/event/adult-choir-6/2026-02-11/
END:VEVENT
BEGIN:VEVENT
DTSTART;TZID=America/New_York:20260204T184500
DTEND;TZID=America/New_York:20260204T201500
DTSTAMP:20260423T143953
CREATED:20250910T171404Z
LAST-MODIFIED:20250910T171404Z
UID:15432-1770230700-1770236100@brocktonucc.org
SUMMARY:Adult Choir
DESCRIPTION:
URL:https://brocktonucc.org/event/adult-choir-6/2026-02-04/
END:VEVENT
BEGIN:VEVENT
DTSTART;TZID=America/New_York:20260128T184500
DTEND;TZID=America/New_York:20260128T201500
DTSTAMP:20260423T143953
CREATED:20250910T171404Z
LAST-MODIFIED:20250910T171404Z
UID:15431-1769625900-1769631300@brocktonucc.org
SUMMARY:Adult Choir
DESCRIPTION:
URL:https://brocktonucc.org/event/adult-choir-6/2026-01-28/
END:VEVENT
BEGIN:VEVENT
DTSTART;TZID=America/New_York:20260121T184500
DTEND;TZID=America/New_York:20260121T201500
DTSTAMP:20260423T143953
CREATED:20250910T171404Z
LAST-MODIFIED:20250910T171404Z
UID:15430-1769021100-1769026500@brocktonucc.org
SUMMARY:Adult Choir
DESCRIPTION:
URL:https://brocktonucc.org/event/adult-choir-6/2026-01-21/
END:VEVENT
BEGIN:VEVENT
DTSTART;TZID=America/New_York:20260114T184500
DTEND;TZID=America/New_York:20260114T201500
DTSTAMP:20260423T143953
CREATED:20250910T171404Z
LAST-MODIFIED:20250910T171404Z
UID:15429-1768416300-1768421700@brocktonucc.org
SUMMARY:Adult Choir
DESCRIPTION:
URL:https://brocktonucc.org/event/adult-choir-6/2026-01-14/
END:VEVENT
BEGIN:VEVENT
DTSTART;TZID=America/New_York:20260107T184500
DTEND;TZID=America/New_York:20260107T201500
DTSTAMP:20260423T143953
CREATED:20250910T171404Z
LAST-MODIFIED:20250910T171404Z
UID:15428-1767811500-1767816900@brocktonucc.org
SUMMARY:Adult Choir
DESCRIPTION:
URL:https://brocktonucc.org/event/adult-choir-6/2026-01-07/
END:VEVENT
BEGIN:VEVENT
DTSTART;TZID=America/New_York:20251217T184500
DTEND;TZID=America/New_York:20251217T201500
DTSTAMP:20260423T143953
CREATED:20250910T171404Z
LAST-MODIFIED:20250910T171404Z
UID:15425-1765997100-1766002500@brocktonucc.org
SUMMARY:Adult Choir
DESCRIPTION:
URL:https://brocktonucc.org/event/adult-choir-6/2025-12-17/
END:VEVENT
BEGIN:VEVENT
DTSTART;TZID=America/New_York:20251210T184500
DTEND;TZID=America/New_York:20251210T201500
DTSTAMP:20260423T143953
CREATED:20250910T171404Z
LAST-MODIFIED:20250910T171404Z
UID:15424-1765392300-1765397700@brocktonucc.org
SUMMARY:Adult Choir
DESCRIPTION:
URL:https://brocktonucc.org/event/adult-choir-6/2025-12-10/
END:VEVENT
BEGIN:VEVENT
DTSTART;TZID=America/New_York:20251203T184500
DTEND;TZID=America/New_York:20251203T201500
DTSTAMP:20260423T143953
CREATED:20250910T171404Z
LAST-MODIFIED:20250910T171404Z
UID:15423-1764787500-1764792900@brocktonucc.org
SUMMARY:Adult Choir
DESCRIPTION:
URL:https://brocktonucc.org/event/adult-choir-6/2025-12-03/
END:VEVENT
BEGIN:VEVENT
DTSTART;TZID=America/New_York:20251119T184500
DTEND;TZID=America/New_York:20251119T201500
DTSTAMP:20260423T143953
CREATED:20250910T171404Z
LAST-MODIFIED:20250910T171404Z
UID:15420-1763577900-1763583300@brocktonucc.org
SUMMARY:Adult Choir
DESCRIPTION:
URL:https://brocktonucc.org/event/adult-choir-6/2025-11-19/
END:VEVENT
BEGIN:VEVENT
DTSTART;TZID=America/New_York:20251112T184500
DTEND;TZID=America/New_York:20251112T201500
DTSTAMP:20260423T143953
CREATED:20250910T171404Z
LAST-MODIFIED:20250910T171404Z
UID:15419-1762973100-1762978500@brocktonucc.org
SUMMARY:Adult Choir
DESCRIPTION:
URL:https://brocktonucc.org/event/adult-choir-6/2025-11-12/
END:VEVENT
BEGIN:VEVENT
DTSTART;TZID=America/New_York:20251105T184500
DTEND;TZID=America/New_York:20251105T201500
DTSTAMP:20260423T143953
CREATED:20250910T171404Z
LAST-MODIFIED:20250910T171404Z
UID:15418-1762368300-1762373700@brocktonucc.org
SUMMARY:Adult Choir
DESCRIPTION:
URL:https://brocktonucc.org/event/adult-choir-6/2025-11-05/
END:VEVENT
BEGIN:VEVENT
DTSTART;TZID=America/New_York:20251029T184500
DTEND;TZID=America/New_York:20251029T201500
DTSTAMP:20260423T143953
CREATED:20250910T171404Z
LAST-MODIFIED:20250910T171404Z
UID:15417-1761763500-1761768900@brocktonucc.org
SUMMARY:Adult Choir
DESCRIPTION:
URL:https://brocktonucc.org/event/adult-choir-6/2025-10-29/
END:VEVENT
BEGIN:VEVENT
DTSTART;TZID=America/New_York:20251015T184500
DTEND;TZID=America/New_York:20251015T201500
DTSTAMP:20260423T143953
CREATED:20250910T171404Z
LAST-MODIFIED:20250910T171404Z
UID:15415-1760553900-1760559300@brocktonucc.org
SUMMARY:Adult Choir
DESCRIPTION:
URL:https://brocktonucc.org/event/adult-choir-6/2025-10-15/
END:VEVENT
BEGIN:VEVENT
DTSTART;TZID=America/New_York:20251008T184500
DTEND;TZID=America/New_York:20251008T201500
DTSTAMP:20260423T143953
CREATED:20250910T171404Z
LAST-MODIFIED:20250910T171404Z
UID:15414-1759949100-1759954500@brocktonucc.org
SUMMARY:Adult Choir
DESCRIPTION:
URL:https://brocktonucc.org/event/adult-choir-6/2025-10-08/
END:VEVENT
BEGIN:VEVENT
DTSTART;TZID=America/New_York:20251001T184500
DTEND;TZID=America/New_York:20251001T201500
DTSTAMP:20260423T143953
CREATED:20250910T171404Z
LAST-MODIFIED:20250910T171404Z
UID:15413-1759344300-1759349700@brocktonucc.org
SUMMARY:Adult Choir
DESCRIPTION:
URL:https://brocktonucc.org/event/adult-choir-6/2025-10-01/
END:VEVENT
BEGIN:VEVENT
DTSTART;TZID=America/New_York:20250924T184500
DTEND;TZID=America/New_York:20250924T201500
DTSTAMP:20260423T143953
CREATED:20250910T171404Z
LAST-MODIFIED:20250910T171404Z
UID:15412-1758739500-1758744900@brocktonucc.org
SUMMARY:Adult Choir
DESCRIPTION:
URL:https://brocktonucc.org/event/adult-choir-6/2025-09-24/
END:VEVENT
BEGIN:VEVENT
DTSTART;TZID=America/New_York:20250917T184500
DTEND;TZID=America/New_York:20250917T201500
DTSTAMP:20260423T143953
CREATED:20250910T171404Z
LAST-MODIFIED:20250910T171404Z
UID:15411-1758134700-1758140100@brocktonucc.org
SUMMARY:Adult Choir
DESCRIPTION:
URL:https://brocktonucc.org/event/adult-choir-6/2025-09-17/
END:VEVENT
BEGIN:VEVENT
DTSTART;TZID=America/New_York:20250910T184500
DTEND;TZID=America/New_York:20250910T201500
DTSTAMP:20260423T143953
CREATED:20250910T171404Z
LAST-MODIFIED:20250910T171404Z
UID:15410-1757529900-1757535300@brocktonucc.org
SUMMARY:Adult Choir
DESCRIPTION:
URL:https://brocktonucc.org/event/adult-choir-6/2025-09-10/
END:VEVENT
END:VCALENDAR